Workbook

Sheet 工作表1
C1: 5月6日賽程表
B2: 0.32291667 | C2: 開始檢錄 | D2: 備註
A3: 1 | B3: 0.33333333 | C3: =[1]主委盃單項名冊!A413 -> 主委盃幼童女子組乙組中班200公尺計時賽 | D3: 每組4人，計時決賽
A4: 2 | C4: =[1]主委盃單項名冊!A379 -> 主委盃幼童女子組甲組中班200公尺計時賽 | D4: 每組4人，計時決賽
A5: 3 | C5: =[1]主委盃單項名冊!A346 -> 主委盃幼童男子組乙組中班200公尺計時賽 | D5: 每組4人，計時決賽
A6: 4 | C6: =[1]主委盃單項名冊!A292 -> 主委盃幼童男子組甲組中班200公尺計時賽 | D6: 每組4人，計時決賽
A7: 5 | C7: =[1]主委盃單項名冊!A406 -> 主委盃幼童女子組乙組大班200公尺計時賽 | D7: 每組4人，計時決賽
A8: 6 | C8: =[1]主委盃單項名冊!A370 -> 主委盃幼童女子組甲組大班200公尺計時賽 | D8: 每組4人，計時決賽
A9: 7 | C9: =[1]主委盃單項名冊!A336 -> 主委盃幼童男子組乙組大班200公尺計時賽 | D9: 每組4人，計時決賽
A10: 8 | C10: =[1]主委盃單項名冊!A274 -> 主委盃幼童男子組甲組大班200公尺計時賽 | D10: 每組4人，計時決賽
A11: 9 | C11: =[1]縣長盃單項名冊!A166 -> 縣長盃國小女子低年級組個人300公尺計時賽 | D11: 每組2人，計時決賽
A12: 10 | C12: =[1]縣長盃單項名冊!A156 -> 縣長盃國小男子低年級組個人300公尺計時賽 | D12: 每組2人，計時決賽
A13: 11 | B13: 0.39583333 | C13: =[1]縣長盃單項名冊!A146 -> 縣長盃國小女子中年級組個人300公尺計時賽 | D13: 每組2人，計時決賽
A14: 12 | C14: =[1]縣長盃單項名冊!A129 -> 縣長盃國小男子中年級組個人300公尺計時賽 | D14: 每組2人，計時決賽
A15: 13 | C15: =[1]縣長盃單項名冊!A113 -> 縣長盃國小女子高年級組個人300公尺計時賽 | D15: 每組2人，計時決賽
A16: 14 | C16: =[1]縣長盃單項名冊!A99 -> 縣長盃國小男子高年級組個人300公尺計時賽 | D16: 每組2人，計時決賽
A17: 15 | C17: =[1]縣長盃單項名冊!A76 -> 縣長盃國中女子組個人300公尺計時賽 | D17: 每組1人，計時決賽
A18: 16 | C18: =[1]縣長盃單項名冊!A49 -> 縣長盃國中男子組個人300公尺計時賽 | D18: 每組1人，計時決賽
A19: 17 | C19: =[1]縣長盃單項名冊!A33 -> 縣長盃高中女子組個人300公尺計時賽 | D19: 每組1人，計時決賽
A20: 18 | C20: =[1]縣長盃單項名冊!A15 -> 縣長盃高中男子組個人300公尺計時賽 | D20: 每組1人，計時決賽
A21: 19 | C21: =[1]縣長盃單項名冊!A5 -> 縣長盃社會男子組個人300公尺計時賽 | D21: 每組1人，計時決賽
A22: 20 | C22: =[1]主委盃單項名冊!A425 -> 主委盃幼童女子組乙組中班400公尺計時賽 | D22: 每組6人，計時決賽
A23: 21 | C23: =[1]主委盃單項名冊!A398 -> 主委盃幼童女子組甲組中班400公尺計時賽 | D23: 每組6人，計時決賽
A24: 22 | C24: =[1]主委盃單項名冊!A362 -> 主委盃幼童男子組乙組中班400公尺計時賽 | D24: 每組6人，計時決賽
A25: 23 | C25: =[1]主委盃單項名冊!A323 -> 主委盃幼童男子組甲組中班400公尺計時賽 | D25: 每組6人，計時決賽
A26: 24 | C26: =[1]主委盃單項名冊!A419 -> 主委盃幼童女子組乙組大班400公尺計時賽 | D26: 每組6人，計時決賽
A27: 25 | B27: 0.41666667 | C27: =[1]主委盃單項名冊!A390 -> 主委盃幼童女子組甲組大班400公尺計時賽 | D27: 每組6人，計時決賽
A28: 26 | C28: =[1]主委盃單項名冊!A353 -> 主委盃幼童男子組乙組大班400公尺計時賽 | D28: 每組6人，計時決賽
A29: 27 | C29: =[1]主委盃單項名冊!A305 -> 主委盃幼童男子組甲組大班400公尺計時賽 | D29: 每組6人，計時決賽
A30: 28 | C30: 縣長盃國中女子組500公尺爭先賽預賽 | D30: 分2組取前3，進入決賽
A31: 29 | C31: 縣長盃國中男子組500公尺爭先賽預賽 | D31: 分2組取前3，進入決賽
A32: 30 | C32: =[1]主委盃單項名冊!A59 -> 主委盃國小高年組女子組乙組個人200公尺計時賽 | D32: 每組4人，計時決賽
A33: 31 | C33: =[1]主委盃單項名冊!A54 -> 主委盃國小高年組女子組甲組個人200公尺計時賽 | D33: 每組4人，計時決賽
A34: 32 | C34: =[1]主委盃單項名冊!A17 -> 主委盃國小高年組男子組乙組個人200公尺計時賽 | D34: 每組4人，計時決賽
A35: 33 | C35: =[1]主委盃單項名冊!A9 -> 主委盃國小高年組男子組甲組個人200公尺計時賽 | D35: 每組4人，計時決賽
A36: 34 | C36: =[1]主委盃單項名冊!A5 -> 主委盃國小高年組男子組菁英組個人200公尺計時賽 | D36: 每組4人，計時決賽
A37: 35 | C37: =[1]主委盃單項名冊!A147 -> 主委盃國小中年組女子組乙組個人200公尺計時賽 | D37: 每組4人，計時決賽
A38: 36 | C38: =[1]主委盃單項名冊!A134 -> 主委盃國小中年組女子組甲組個人200公尺計時賽 | D38: 每組4人，計時決賽
A39: 37 | C39: =[1]主委盃單項名冊!A130 -> 主委盃國小中年組女子組菁英組個人200公尺計時賽 | D39: 每組4人，計時決賽
A40: 38 | B40: 0.45833333 | C40: =[1]主委盃單項名冊!A96 -> 主委盃國小中年組男子組乙組個人200公尺計時賽 | D40: 每組4人，計時決賽
A41: 39 | C41: =[1]主委盃單項名冊!A80 -> 主委盃國小中年組男子組甲組個人200公尺計時賽 | D41: 每組4人，計時決賽
A42: 40 | C42: =[1]主委盃單項名冊!A74 -> 主委盃國小中年組男子組菁英組個人200公尺計時賽 | D42: 每組4人，計時決賽
A43: 41 | C43: =[1]主委盃單項名冊!A250 -> 主委盃國小低年組女子組乙組個人200公尺計時賽 | D43: 每組4人，計時決賽
A44: 42 | C44: =[1]主委盃單項名冊!A241 -> 主委盃國小低年組女子組甲組個人200公尺計時賽 | D44: 每組4人，計時決賽
A45: 43 | C45: =[1]主委盃單項名冊!A237 -> 主委盃國小低年組女子組菁英組個人200公尺計時賽 | D45: 每組4人，計時決賽
A46: 44 | C46: =[1]主委盃單項名冊!A197 -> 主委盃國小低年組男子組乙組個人200公尺計時賽 | D46: 每組4人，計時決賽
C49: ～2～
A50: 45 | C50: =[1]主委盃單項名冊!A175 -> 主委盃國小低年組男子組甲組個人200公尺計時賽 | D50: 每組4人，計時決賽
A51: 46 | C51: =[1]主委盃單項名冊!A171 -> 主委盃國小低年組男子組菁英組個人200公尺計時賽 | D51: 每組4人，計時決賽
A52: 47 | C52: =[1]縣長盃單項名冊!A83 -> 縣長盃國中女子組500公尺爭先賽 | D52: 決賽
A53: 48 | C53: =[1]縣長盃單項名冊!A56 -> 縣長盃國中男子組500公尺爭先賽 | D53: 決賽
A54: 49 | C54: =[1]縣長盃單項名冊!A43 -> 縣長盃高中女子組500公尺爭先賽 | D54: 一次決
A55: 50 | C55: =[1]縣長盃單項名冊!A19 -> 縣長盃高中男子組500公尺爭先賽 | D55: 一次決
A56: 51 | C56: =[1]縣長盃單項名冊!A9 -> 縣長盃社會男子組500公尺爭先賽 | D56: 一次決
A57: 52 | C57: =[1]縣長盃單項名冊!A170 -> 縣長盃國小女子低年級組500公尺爭先賽 | D57: 一次決
A58: 53 | C58: =[1]縣長盃單項名冊!A160 -> 縣長盃國小男子低年級組500公尺爭先賽 | D58: 一次決
A59: 54 | C59: =[1]縣長盃單項名冊!A150 -> 縣長盃國小女子中年級組500公尺爭先賽 | D59: 一次決
A60: 55 | C60: =[1]縣長盃單項名冊!A135 -> 縣長盃國小男子中年級組500公尺爭先賽 | D60: 一次決
A61: 56 | C61: =[1]縣長盃單項名冊!A118 -> 縣長盃國小女子高年級組500公尺爭先賽 | D61: 一次決
A62: 57 | C62: =[1]縣長盃單項名冊!A105 -> 縣長盃國小男子高年級組500公尺爭先賽 | D62: 一次決
A63: 58 | C63: =[1]主委盃單項名冊!A68 -> 主委盃國小高年組女子組乙組400公尺計時賽 | D63: 每組6人，計時決賽
A64: 59 | C64: =[1]主委盃單項名冊!A63 -> 主委盃國小高年組女子組甲組400公尺計時賽 | D64: 每組6人，計時決賽
A65: 60 | C65: =[1]主委盃單項名冊!A36 -> 主委盃國小高年組男子組乙組400公尺計時賽 | D65: 每組6人，計時決賽
B66: 0.5 | C66: ～ ． 中 午 休 息 ． ～
A67: 61 | B67: 0.54166667 | C67: =[1]主委盃單項名冊!A28 -> 主委盃國小高年組男子組甲組400公尺計時賽 | D67: 每組6人，計時決賽
A68: 62 | C68: =[1]主委盃單項名冊!A24 -> 主委盃國小高年組男子組菁英組400公尺計時賽 | D68: 每組6人，計時決賽
A69: 63 | C69: =[1]縣長盃單項名冊!A64 -> 縣長盃國中男子組1000公尺開放賽 | D69: 一次決
A70: 64 | C70: =[1]主委盃單項名冊!A165 -> 主委盃國小中年組女子組乙組400公尺計時賽 | D70: 每組6人，計時決賽
A71: 65 | C71: =[1]主委盃單項名冊!A155 -> 主委盃國小中年組女子組甲組400公尺計時賽 | D71: 每組6人，計時決賽
A72: 66 | C72: =[1]主委盃單項名冊!A151 -> 主委盃國小中年組女子組菁英組400公尺計時賽 | D72: 每組6人，計時決賽
A73: 67 | C73: =[1]主委盃單項名冊!A122 -> 主委盃國小中年組男子組乙組400公尺計時賽 | D73: 每組6人，計時決賽
A74: 68 | C74: =[1]主委盃單項名冊!A108 -> 主委盃國小中年組男子組甲組400公尺計時賽 | D74: 每組6人，計時決賽
A75: 69 | C75: =[1]主委盃單項名冊!A102 -> 主委盃國小中年組男子組菁英組400公尺計時賽 | D75: 每組6人，計時決賽
A76: 70 | C76: =[1]主委盃單項名冊!A267 -> 主委盃國小低年組女子組乙組400公尺計時賽 | D76: 每組6人，計時決賽
A77: 71 | B77: 0.58333333 | C77: =[1]主委盃單項名冊!A259 -> 主委盃國小低年組女子組甲組400公尺計時賽 | D77: 每組6人，計時決賽
A78: 72 | C78: =[1]主委盃單項名冊!A255 -> 主委盃國小低年組女子組菁英組400公尺計時賽 | D78: 每組6人，計時決賽
A79: 73 | C79: =[1]主委盃單項名冊!A228 -> 主委盃國小低年組男子組乙組400公尺計時賽 | D79: 每組6人，計時決賽
A80: 74 | C80: =[1]主委盃單項名冊!A209 -> 主委盃國小低年組男子組甲組400公尺計時賽 | D80: 每組6人，計時決賽
A81: 75 | C81: =[1]主委盃單項名冊!A205 -> 主委盃國小低年組男子組菁英組400公尺計時賽 | D81: 每組6人，計時決賽
A82: 76 | C82: =[1]主委盃單項名冊!A46 -> 主委盃國小高年組男子組甲組1000公尺計時賽 | D82: 一次決
A83: 77 | C83: =[1]縣長盃單項名冊!A140 -> 縣長盃國小男子中年級組1000公尺開放賽 | D83: 一次決
A84: 78 | C84: =[1]縣長盃單項名冊!A122 -> 縣長盃國小女子高年級組1000公尺開放賽 | D84: 一次決
A85: 79 | C85: =[1]縣長盃單項名冊!A91 -> 縣長盃國中女子組1000公尺開放賽 | D85: 一次決
A86: 80 | C86: =[1]縣長盃單項名冊!A25 -> 縣長盃高中男子組1000公尺開放賽 | D86: 一次決
A87: 81 | B87: 0.625 | C87: =[1]縣長盃單項名冊!A70 -> 縣長盃國中男子組10000公尺淘汰賽
B90: 賽程結束 珍重再見
B91: ※所有競賽項目時間僅供參考，大會保留更改各單項比賽時間及變更下場參賽
B92: 人數之權利，故請各參賽單位詳聽大會廣播檢錄項目，以免延誤參賽時間而喪
B93: 失參賽資格，敬請各參賽單位多加配合，謝謝!
C97: ～3～

Sheet 工作表2

Sheet 工作表3
