Workbook

Sheet 工作表1
C1: 5月6日賽程表
B2: 0.32291667 | C2: 開始檢錄 | D2: 備註
A3: 1 | B3: 0.33333333 | C3: =[1]主委盃單項名冊!A413 -> 主委盃幼童女子組乙組中班200公尺計時賽 | D3: 每組4人，計時決賽
A4: 2 | C4: =[1]主委盃單項名冊!A379 -> 主委盃幼童女子組甲組中班200公尺計時賽 | D4: 每組4人，計時決賽
A5: 3 | C5: =[1]主委盃單項名冊!A346 -> 主委盃幼童男子組乙組中班200公尺計時賽 | D5: 每組4人，計時決賽
A6: 4 | C6: =[1]主委盃單項名冊!A292 -> 主委盃幼童男子組甲組中班200公尺計時賽 | D6: 每組4人，計時決賽
A7: 5 | C7: =[1]主委盃單項名冊!A406 -> 主委盃幼童女子組乙組大班200公尺計時賽 | D7: 每組4人，計時決賽
A8: 6 | C8: =[1]主委盃單項名冊!A370 -> 主委盃幼童女子組甲組大班200公尺計時賽 | D8: 每組4人，計時決賽
A9: 7 | C9: =[1]主委盃單項名冊!A336 -> 主委盃幼童男子組乙組大班200公尺計時賽 | D9: 每組4人，計時決賽
A10: 8 | C10: =[1]主委盃單項名冊!A274 -> 主委盃幼童男子組甲組大班200公尺計時賽 | D10: 每組4人，計時決賽
A11: 9 | C11: =[1]縣長盃單項名冊!A166 -> 縣長盃國小女子低年級組個人300公尺計時賽 | D11: 每組2人，計時決賽
A12: 10 | C12: =[1]縣長盃單項名冊!A156 -> 縣長盃國小男子低年級組個人300公尺計時賽 | D12: 每組2人，計時決賽
A13: 11 | B13: 0.39583333 | C13: =[1]縣長盃單項名冊!A146 -> 縣長盃國小女子中年級組個人300公尺計時賽 | D13: 每組2人，計時決賽
A14: 12 | C14: =[1]縣長盃單項名冊!A129 -> 縣長盃國小男子中年級組個人300公尺計時賽 | D14: 每組2人，計時決賽
A15: 13 | C15: =[1]縣長盃單項名冊!A113 -> 縣長盃國小女子高年級組個人300公尺計時賽 | D15: 每組2人，計時決賽
A16: 14 | C16: =[1]縣長盃單項名冊!A99 -> 縣長盃國小男子高年級組個人300公尺計時賽 | D16: 每組2人，計時決賽
A17: 15 | C17: =[1]縣長盃單項名冊!A76 -> 縣長盃國中女子組個人300公尺計時賽 | D17: 每組1人，計時決賽
A18: 16 | C18: =[1]縣長盃單項名冊!A49 -> 縣長盃國中男子組個人300公尺計時賽 | D18: 每組1人，計時決賽
A19: 17 | C19: =[1]縣長盃單項名冊!A33 -> 縣長盃高中女子組個人300公尺計時賽 | D19: 每組1人，計時決賽
A20: 18 | C20: =[1]縣長盃單項名冊!A15 -> 縣長盃高中男子組個人300公尺計時賽 | D20: 每組1人，計時決賽
A21: 19 | C21: =[1]縣長盃單項名冊!A5 -> 縣長盃社會男子組個人300公尺計時賽 | D21: 每組1人，計時決賽
A22: 20 | C22: =[1]主委盃單項名冊!A425 -> 主委盃幼童女子組乙組中班400公尺計時賽 | D22: 每組6人，計時決賽
A23: 21 | C23: =[1]主委盃單項名冊!A398 -> 主委盃幼童女子組甲組中班400公尺計時賽 | D23: 每組6人，計時決賽
A24: 22 | C24: =[1]主委盃單項名冊!A362 -> 主委盃幼童男子組乙組中班400公尺計時賽 | D24: 每組6人，計時決賽
A25: 23 | C25: =[1]主委盃單項名冊!A323 -> 主委盃幼童男子組甲組中班400公尺計時賽 | D25: 每組6人，計時決賽
A26: 24 | C26: =[1]主委盃單項名冊!A419 -> 主委盃幼童女子組乙組大班400公尺計時賽 | D26: 每組6人，計時決賽
A27: 25 | B27: 0.41666667 | C27: =[1]主委盃單項名冊!A390 -> 主委盃幼童女子組甲組大班400公尺計時賽 | D27: 每組6人，計時決賽
A28: 26 | C28: =[1]主委盃單項名冊!A353 -> 主委盃幼童男子組乙組大班400公尺計時賽 | D28: 每組6人，計時決賽
A29: 27 | C29: =[1]主委盃單項名冊!A305 -> 主委盃幼童男子組甲組大班400公尺計時賽 | D29: 每組6人，計時決賽
A30: 28 | C30: 縣長盃國中女子組500公尺爭先賽預賽 | D30: 分2組取前3，進入決賽
A31: 29 | C31: 縣長盃國中男子組500公尺爭先賽預賽 | D31: 分2組取前3，進入決賽
A32: 30 | C32: =[1]主委盃單項名冊!A59 -> 主委盃國小高年組女子組乙組個人200公尺計時賽 | D32: 每組4人，計時決賽
A33: 31 | C33: =[1]主委盃單項名冊!A54 -> 主委盃國小高年組女子組甲組個人200公尺計時賽 | D33: 每組4人，計時決賽
A34: 32 | C34: =[1]主委盃單項名冊!A17 -> 主委盃國小高年組男子組乙組個人200公尺計時賽 | D34: 每組4人，計時決賽
A35: 33 | C35: =[1]主委盃單項名冊!A9 -> 主委盃國小高年組男子組甲組個人200公尺計時賽 | D35: 每組4人，計時決賽
A36: 34 | C36: =[1]主委盃單項名冊!A5 -> 主委盃國小高年組男子組菁英組個人200公尺計時賽 | D36: 每組4人，計時決賽
A37: 35 | C37: =[1]主委盃單項名冊!A147 -> 主委盃國小中年組女子組乙組個人200公尺計時賽 | D37: 每組4人，計時決賽
A38: 36 | C38: =[1]主委盃單項名冊!A134 -> 主委盃國小中年組女子組甲組個人200公尺計時賽 | D38: 每組4人，計時決賽
A39: 37 | C39: =[1]主委盃單項名冊!A130 -> 主委盃國小中年組女子組菁英組個人200公尺計時賽 | D39: 每組4人，計時決賽
A40: 38 | B40: 0.45833333 | C40: =[1]主委盃單項名冊!A96 -> 主委盃國小中年組男子組乙組個人200公尺計時賽 | D40: 每組4人，計時決賽
...

Sheet 工作表2

Sheet 工作表3
