Workbook

Sheet 賽程表1
A1: 請注意本次比賽地點改在林內鄉義峰高中 請不要跑錯地方了
A2: 104年春季縣長盃木球賽賽程表
A3: 日 期 | C3: 104年4月16日（星期四）A場地
A4: 場次 | B4: 時間 | C4: 選 手 名 單
A5: 4 | B5: 組別 | D5: 機關首長組 | P5: 裁判
A6: A1 | B6: 0.33333333 | C6: 1001 | D6: =IF(C6="","",VLOOKUP(C6,[1]名單!$A$1:$Z$65536,4,0)) -> 校長 | E6: =IF(C6="","",VLOOKUP(C6,[1]名單!$A$1:$Z$65536,2,0)) -> 黃育珍 | F6: 1002 | G6: =IF(F6="","",VLOOKUP(F6,[1]名單!$A$1:$Z$65536,4,0)) -> 校長 | H6: =IF(F6="","",VLOOKUP(F6,[1]名單!$A$1:$Z$65536,2,0)) -> 陳錫欽 | I6: 1003 | J6: =IF(I6="","",VLOOKUP(I6,[1]名單!$A$1:$Z$65536,4,0)) -> 校長 | K6: =IF(I6="","",VLOOKUP(I6,[1]名單!$A$1:$Z$65536,2,0)) -> 許坤真 | L6: 1005 | M6: =IF(L6="","",VLOOKUP(L6,[1]名單!$A$1:$Z$65536,4,0)) -> 校長 | N6: =IF(L6="","",VLOOKUP(L6,[1]名單!$A$1:$Z$65536,2,0)) -> 劉俊委 | P6: =IF(O6="","",VLOOKUP(O6,[1]名單!$A$1:$Z$65536,2,0))
A7: A2 | B7: 0.3375 | C7: 1004 | D7: =IF(C7="","",VLOOKUP(C7,[1]名單!$A$1:$Z$65536,4,0)) -> 校長 | E7: =IF(C7="","",VLOOKUP(C7,[1]名單!$A$1:$Z$65536,2,0)) -> 鍾進益 | F7: 1006 | G7: =IF(F7="","",VLOOKUP(F7,[1]名單!$A$1:$Z$65536,4,0)) -> 校長 | H7: =IF(F7="","",VLOOKUP(F7,[1]名單!$A$1:$Z$65536,2,0)) -> 廖建盛 | I7: 1007 | J7: =IF(I7="","",VLOOKUP(I7,[1]名單!$A$1:$Z$65536,4,0)) -> 校長 | K7: =IF(I7="","",VLOOKUP(I7,[1]名單!$A$1:$Z$65536,2,0)) -> 蘇清泉 | M7: =IF(L7="","",VLOOKUP(L7,[1]名單!$A$1:$Z$65536,4,0)) | N7: =IF(L7="","",VLOOKUP(L7,[1]名單!$A$1:$Z$65536,2,0)) | P7: =IF(O7="","",VLOOKUP(O7,[1]名單!$A$1:$Z$65536,2,0))
A8: 7 | B8: 組別 | D8: =VLOOKUP(A8,[1]組別!$A$1:$AK$65536,2,0) -> 高中男子組 | P8: 裁判
A9: A3 | B9: 0.34166667 | C9: 1401 | D9: =IF(C9="","",VLOOKUP(C9,[1]名單!$A$1:$Z$65536,4,0)) -> 義峰B | E9: =IF(C9="","",VLOOKUP(C9,[1]名單!$A$1:$Z$65536,2,0)) -> 李懿修 | F9: 1410 | G9: =IF(F9="","",VLOOKUP(F9,[1]名單!$A$1:$Z$65536,4,0)) -> 虎尾A | H9: =IF(F9="","",VLOOKUP(F9,[1]名單!$A$1:$Z$65536,2,0)) -> 張仁豪 | I9: 1423 | J9: =IF(I9="","",VLOOKUP(I9,[1]名單!$A$1:$Z$65536,4,0)) -> 土庫 | K9: =IF(I9="","",VLOOKUP(I9,[1]名單!$A$1:$Z$65536,2,0)) -> 陳凱鶻 | L9: 1443 | M9: =IF(L9="","",VLOOKUP(L9,[1]名單!$A$1:$Z$65536,4,0)) -> 土庫B | N9: =IF(L9="","",VLOOKUP(L9,[1]名單!$A$1:$Z$65536,2,0)) -> 鐘仁傳 | P9: =IF(O9="","",VLOOKUP(O9,[1]名單!$A$1:$Z$65536,2,0))
A10: A4 | B10: 0.34583333 | C10: 1402 | D10: =IF(C10="","",VLOOKUP(C10,[1]名單!$A$1:$Z$65536,4,0)) -> 義峰B | E10: =IF(C10="","",VLOOKUP(C10,[1]名單!$A$1:$Z$65536,2,0)) -> 沈育全 | F10: 1413 | G10: =IF(F10="","",VLOOKUP(F10,[1]名單!$A$1:$Z$65536,4,0)) -> 斗六 | H10: =IF(F10="","",VLOOKUP(F10,[1]名單!$A$1:$Z$65536,2,0)) -> 吳承恩 | I10: 1424 | J10: =IF(I10="","",VLOOKUP(I10,[1]名單!$A$1:$Z$65536,4,0)) -> 土庫 | K10: =IF(I10="","",VLOOKUP(I10,[1]名單!$A$1:$Z$65536,2,0)) -> 黃國彥 | L10: 1428 | M10: =IF(L10="","",VLOOKUP(L10,[1]名單!$A$1:$Z$65536,4,0)) -> 虎尾B | N10: =IF(L10="","",VLOOKUP(L10,[1]名單!$A$1:$Z$65536,2,0)) -> 程建峻 | P10: =IF(O10="","",VLOOKUP(O10,[1]名單!$A$1:$Z$65536,2,0))
A11: A5 | B11: 0.35 | C11: 1403 | D11: =IF(C11="","",VLOOKUP(C11,[1]名單!$A$1:$Z$65536,4,0)) -> 義峰B | E11: =IF(C11="","",VLOOKUP(C11,[1]名單!$A$1:$Z$65536,2,0)) -> 羅旭泓 | F11: 1414 | G11: =IF(F11="","",VLOOKUP(F11,[1]名單!$A$1:$Z$65536,4,0)) -> 斗六 | H11: =IF(F11="","",VLOOKUP(F11,[1]名單!$A$1:$Z$65536,2,0)) -> 張仕煦 | I11: 1425 | J11: =IF(I11="","",VLOOKUP(I11,[1]名單!$A$1:$Z$65536,4,0)) -> 虎尾B | K11: =IF(I11="","",VLOOKUP(I11,[1]名單!$A$1:$Z$65536,2,0)) -> 賴哲樟 | L11: 1438 | M11: =IF(L11="","",VLOOKUP(L11,[1]名單!$A$1:$Z$65536,4,0)) -> 義峰A | N11: =IF(L11="","",VLOOKUP(L11,[1]名單!$A$1:$Z$65536,2,0)) -> 張茗豐 | P11: =IF(O11="","",VLOOKUP(O11,[1]名單!$A$1:$Z$65536,2,0))
A12: A6 | B12: 0.35416667 | C12: 1404 | D12: =IF(C12="","",VLOOKUP(C12,[1]名單!$A$1:$Z$65536,4,0)) -> 義峰B | E12: =IF(C12="","",VLOOKUP(C12,[1]名單!$A$1:$Z$65536,2,0)) -> 蔡博鈞 | F12: 1415 | G12: =IF(F12="","",VLOOKUP(F12,[1]名單!$A$1:$Z$65536,4,0)) -> 斗六 | H12: =IF(F12="","",VLOOKUP(F12,[1]名單!$A$1:$Z$65536,2,0)) -> 張政義 | I12: 1426 | J12: =IF(I12="","",VLOOKUP(I12,[1]名單!$A$1:$Z$65536,4,0)) -> 虎尾B | K12: =IF(I12="","",VLOOKUP(I12,[1]名單!$A$1:$Z$65536,2,0)) -> 連威翔 | L12: 1439 | M12: =IF(L12="","",VLOOKUP(L12,[1]名單!$A$1:$Z$65536,4,0)) -> 義峰A | N12: =IF(L12="","",VLOOKUP(L12,[1]名單!$A$1:$Z$65536,2,0)) -> 蔡育愷 | P12: =IF(O12="","",VLOOKUP(O12,[1]名單!$A$1:$Z$65536,2,0))
A13: A7 | B13: 0.35833333 | C13: 1405 | D13: =IF(C13="","",VLOOKUP(C13,[1]名單!$A$1:$Z$65536,4,0)) -> 義峰B | E13: =IF(C13="","",VLOOKUP(C13,[1]名單!$A$1:$Z$65536,2,0)) -> 蔡志鋐 | F13: 1416 | G13: =IF(F13="","",VLOOKUP(F13,[1]名單!$A$1:$Z$65536,4,0)) -> 斗六 | H13: =IF(F13="","",VLOOKUP(F13,[1]名單!$A$1:$Z$65536,2,0)) -> 高瑞駿 | I13: 1427 | J13: =IF(I13="","",VLOOKUP(I13,[1]名單!$A$1:$Z$65536,4,0)) -> 虎尾B | K13: =IF(I13="","",VLOOKUP(I13,[1]名單!$A$1:$Z$65536,2,0)) -> 程獻億 | L13: 1440 | M13: =IF(L13="","",VLOOKUP(L13,[1]名單!$A$1:$Z$65536,4,0)) -> 義峰A | N13: =IF(L13="","",VLOOKUP(L13,[1]名單!$A$1:$Z$65536,2,0)) -> 陳有朋 | P13: =IF(O13="","",VLOOKUP(O13,[1]名單!$A$1:$Z$65536,2,0))
A14: A8 | B14: 0.3625 | C14: 1406 | D14: =IF(C14="","",VLOOKUP(C14,[1]名單!$A$1:$Z$65536,4,0)) -> 義峰B | E14: =IF(C14="","",VLOOKUP(C14,[1]名單!$A$1:$Z$65536,2,0)) -> 賴育源 | F14: 1419 | G14: =IF(F14="","",VLOOKUP(F14,[1]名單!$A$1:$Z$65536,4,0)) -> 土庫 | H14: =IF(F14="","",VLOOKUP(F14,[1]名單!$A$1:$Z$65536,2,0)) -> 李瑞朋 | I14: 1434 | J14: =IF(I14="","",VLOOKUP(I14,[1]名單!$A$1:$Z$65536,4,0)) -> 大成 | K14: =IF(I14="","",VLOOKUP(I14,[1]名單!$A$1:$Z$65536,2,0)) -> 賴宏誠 | L14: 1441 | M14: =IF(L14="","",VLOOKUP(L14,[1]名單!$A$1:$Z$65536,4,0)) -> 義峰A | N14: =IF(L14="","",VLOOKUP(L14,[1]名單!$A$1:$Z$65536,2,0)) -> 陳韋佑
A15: A9 | B15: 0.36666667 | C15: 1407 | D15: =IF(C15="","",VLOOKUP(C15,[1]名單!$A$1:$Z$65536,4,0)) -> 虎尾A | E15: =IF(C15="","",VLOOKUP(C15,[1]名單!$A$1:$Z$65536,2,0)) -> 張修誠 | F15: 1420 | G15: =IF(F15="","",VLOOKUP(F15,[1]名單!$A$1:$Z$65536,4,0)) -> 土庫 | H15: =IF(F15="","",VLOOKUP(F15,[1]名單!$A$1:$Z$65536,2,0)) -> 林瑋宸 | I15: 1431 | J15: =IF(I15="","",VLOOKUP(I15,[1]名單!$A$1:$Z$65536,4,0)) -> 大成 | K15: =IF(I15="","",VLOOKUP(I15,[1]名單!$A$1:$Z$65536,2,0)) -> 張嘉興 | L15: 1442 | M15: =IF(L15="","",VLOOKUP(L15,[1]名單!$A$1:$Z$65536,4,0)) -> 義峰A | N15: =IF(L15="","",VLOOKUP(L15,[1]名單!$A$1:$Z$65536,2,0)) -> 黃建維
A16: A10 | B16: 0.37083333 | C16: 1408 | D16: =IF(C16="","",VLOOKUP(C16,[1]名單!$A$1:$Z$65536,4,0)) -> 虎尾A | E16: =IF(C16="","",VLOOKUP(C16,[1]名單!$A$1:$Z$65536,2,0)) -> 林奉禾 | F16: 1421 | G16: =IF(F16="","",VLOOKUP(F16,[1]名單!$A$1:$Z$65536,4,0)) -> 土庫 | H16: =IF(F16="","",VLOOKUP(F16,[1]名單!$A$1:$Z$65536,2,0)) -> 蔡翔霖 | I16: 1432 | J16: =IF(I16="","",VLOOKUP(I16,[1]名單!$A$1:$Z$65536,4,0)) -> 大成 | K16: =IF(I16="","",VLOOKUP(I16,[1]名單!$A$1:$Z$65536,2,0)) -> 林煌育 | L16: 1437 | M16: =IF(L16="","",VLOOKUP(L16,[1]名單!$A$1:$Z$65536,4,0)) -> 義峰A | N16: =IF(L16="","",VLOOKUP(L16,[1]名單!$A$1:$Z$65536,2,0)) -> 吳思源
A17: A11 | B17: 0.375 | C17: 1409 | D17: =IF(C17="","",VLOOKUP(C17,[1]名單!$A$1:$Z$65536,4,0)) -> 虎尾A | E17: =IF(C17="","",VLOOKUP(C17,[1]名單!$A$1:$Z$65536,2,0)) -> 王詩傑 | F17: 1422 | G17: =IF(F17="","",VLOOKUP(F17,[1]名單!$A$1:$Z$65536,4,0)) -> 土庫 | H17: =IF(F17="","",VLOOKUP(F17,[1]名單!$A$1:$Z$65536,2,0)) -> 謝勇隆 | I17: 1433 | J17: =IF(I17="","",VLOOKUP(I17,[1]名單!$A$1:$Z$65536,4,0)) -> 大成 | K17: =IF(I17="","",VLOOKUP(I17,[1]名單!$A$1:$Z$65536,2,0)) -> 賴奕成 | L17: 1449 | M17: =IF(L17="","",VLOOKUP(L17,[1]名單!$A$1:$Z$65536,4,0)) -> 義峰C | N17: =IF(L17="","",VLOOKUP(L17,[1]名單!$A$1:$Z$65536,2,0)) -> 廖郁善
A18: 13 | B18: 組別 | D18: =VLOOKUP(A18,[1]組別!$A$1:$AK$65536,2,0) -> 國小五年級男童組 | P18: 裁判
A19: A12 | B19: 0.37916667 | C19: 1819 | D19: =IF(C19="","",VLOOKUP(C19,[1]名單!$A$1:$Z$65536,4,0)) -> 九芎 | E19: =IF(C19="","",VLOOKUP(C19,[1]名單!$A$1:$Z$65536,2,0)) -> 吳承璋 | F19: 1825 | G19: =IF(F19="","",VLOOKUP(F19,[1]名單!$A$1:$Z$65536,4,0)) -> 大東 | H19: =IF(F19="","",VLOOKUP(F19,[1]名單!$A$1:$Z$65536,2,0)) -> 劉昆憲 | I19: 1837 | J19: =IF(I19="","",VLOOKUP(I19,[1]名單!$A$1:$Z$65536,4,0)) -> 僑真 | K19: =IF(I19="","",VLOOKUP(I19,[1]名單!$A$1:$Z$65536,2,0)) -> 何柏輊 | L19: 1861 | M19: =IF(L19="","",VLOOKUP(L19,[1]名單!$A$1:$Z$65536,4,0)) -> 大同 | N19: =IF(L19="","",VLOOKUP(L19,[1]名單!$A$1:$Z$65536,2,0)) -> 廖昭貴 | P19: =IF(O19="","",VLOOKUP(O19,[1]名單!$A$1:$Z$65536,2,0))
A20: A13 | B20: 0.38333333 | C20: 1820 | D20: =IF(C20="","",VLOOKUP(C20,[1]名單!$A$1:$Z$65536,4,0)) -> 九芎 | E20: =IF(C20="","",VLOOKUP(C20,[1]名單!$A$1:$Z$65536,2,0)) -> 林衍汎 | F20: 1826 | G20: =IF(F20="","",VLOOKUP(F20,[1]名單!$A$1:$Z$65536,4,0)) -> 大東 | H20: =IF(F20="","",VLOOKUP(F20,[1]名單!$A$1:$Z$65536,2,0)) -> 吳柏昌 | I20: 1838 | J20: =IF(I20="","",VLOOKUP(I20,[1]名單!$A$1:$Z$65536,4,0)) -> 僑真 | K20: =IF(I20="","",VLOOKUP(I20,[1]名單!$A$1:$Z$65536,2,0)) -> 張家維 | L20: 1862 | M20: =IF(L20="","",VLOOKUP(L20,[1]名單!$A$1:$Z$65536,4,0)) -> 大同 | N20: =IF(L20="","",VLOOKUP(L20,[1]名單!$A$1:$Z$65536,2,0)) -> 楊健弘 | P20: =IF(O20="","",VLOOKUP(O20,[1]名單!$A$1:$Z$65536,2,0))
A21: A14 | B21: 0.3875 | C21: 1821 | D21: =IF(C21="","",VLOOKUP(C21,[1]名單!$A$1:$Z$65536,4,0)) -> 九芎 | E21: =IF(C21="","",VLOOKUP(C21,[1]名單!$A$1:$Z$65536,2,0)) -> 蔡佳宏 | F21: 1827 | G21: =IF(F21="","",VLOOKUP(F21,[1]名單!$A$1:$Z$65536,4,0)) -> 大東 | H21: =IF(F21="","",VLOOKUP(F21,[1]名單!$A$1:$Z$65536,2,0)) -> 張益維 | I21: 1839 | J21: =IF(I21="","",VLOOKUP(I21,[1]名單!$A$1:$Z$65536,4,0)) -> 僑真 | K21: =IF(I21="","",VLOOKUP(I21,[1]名單!$A$1:$Z$65536,2,0)) -> 林佳賢 | L21: 1863 | M21: =IF(L21="","",VLOOKUP(L21,[1]名單!$A$1:$Z$65536,4,0)) -> 大同 | N21: =IF(L21="","",VLOOKUP(L21,[1]名單!$A$1:$Z$65536,2,0)) -> 楊敦勛 | P21: =IF(O21="","",VLOOKUP(O21,[1]名單!$A$1:$Z$65536,2,0))
A22: A15 | B22: 0.39166667 | C22: 1822 | D22: =IF(C22="","",VLOOKUP(C22,[1]名單!$A$1:$Z$65536,4,0)) -> 九芎 | E22: =IF(C22="","",VLOOKUP(C22,[1]名單!$A$1:$Z$65536,2,0)) -> 蔡承哲 | F22: 1828 | G22: =IF(F22="","",VLOOKUP(F22,[1]名單!$A$1:$Z$65536,4,0)) -> 大東 | H22: =IF(F22="","",VLOOKUP(F22,[1]名單!$A$1:$Z$65536,2,0)) -> 沈庭毅 | I22: 1840 | J22: =IF(I22="","",VLOOKUP(I22,[1]名單!$A$1:$Z$65536,4,0)) -> 僑真 | K22: =IF(I22="","",VLOOKUP(I22,[1]名單!$A$1:$Z$65536,2,0)) -> 蕭傑宸 | L22: 1864 | M22: =IF(L22="","",VLOOKUP(L22,[1]名單!$A$1:$Z$65536,4,0)) -> 大同 | N22: =IF(L22="","",VLOOKUP(L22,[1]名單!$A$1:$Z$65536,2,0)) -> 鄭登薰 | P22: =IF(O22="","",VLOOKUP(O22,[1]名單!$A$1:$Z$65536,2,0))
A23: A16 | B23: 0.39583333 | C23: 1823 | D23: =IF(C23="","",VLOOKUP(C23,[1]名單!$A$1:$Z$65536,4,0)) -> 九芎 | E23: =IF(C23="","",VLOOKUP(C23,[1]名單!$A$1:$Z$65536,2,0)) -> 詹評順 | F23: 1829 | G23: =IF(F23="","",VLOOKUP(F23,[1]名單!$A$1:$Z$65536,4,0)) -> 大東 | H23: =IF(F23="","",VLOOKUP(F23,[1]名單!$A$1:$Z$65536,2,0)) -> 陳竑沐 | I23: 1841 | J23: =IF(I23="","",VLOOKUP(I23,[1]名單!$A$1:$Z$65536,4,0)) -> 僑真 | K23: =IF(I23="","",VLOOKUP(I23,[1]名單!$A$1:$Z$65536,2,0)) -> 陳翔宇 | L23: 1865 | M23: =IF(L23="","",VLOOKUP(L23,[1]名單!$A$1:$Z$65536,4,0)) -> 大同 | N23: =IF(L23="","",VLOOKUP(L23,[1]名單!$A$1:$Z$65536,2,0)) -> 鍾元耀 | P23: =IF(O23="","",VLOOKUP(O23,[1]名單!$A$1:$Z$65536,2,0))
A24: A17 | B24: 0.4 | C24: 1824 | D24: =IF(C24="","",VLOOKUP(C24,[1]名單!$A$1:$Z$65536,4,0)) -> 九芎 | E24: =IF(C24="","",VLOOKUP(C24,[1]名單!$A$1:$Z$65536,2,0)) -> 鄭子偉 | F24: 1830 | G24: =IF(F24="","",VLOOKUP(F24,[1]名單!$A$1:$Z$65536,4,0)) -> 大東 | H24: =IF(F24="","",VLOOKUP(F24,[1]名單!$A$1:$Z$65536,2,0)) -> 陳義雄 | I24: 1847 | J24: =IF(I24="","",VLOOKUP(I24,[1]名單!$A$1:$Z$65536,4,0)) -> 仁和 | K24: =IF(I24="","",VLOOKUP(I24,[1]名單!$A$1:$Z$65536,2,0)) -> 陳炳璋 | L24: 1872 | M24: =IF(L24="","",VLOOKUP(L24,[1]名單!$A$1:$Z$65536,4,0)) -> 中和 | N24: =IF(L24="","",VLOOKUP(L24,[1]名單!$A$1:$Z$65536,2,0)) -> 鄭浚瑋 | P24: =IF(O24="","",VLOOKUP(O24,[1]名單!$A$1:$Z$65536,2,0))
A25: A18 | B25: 0.40416667 | C25: 1807 | D25: =IF(C25="","",VLOOKUP(C25,[1]名單!$A$1:$Z$65536,4,0)) -> 林內 | E25: =IF(C25="","",VLOOKUP(C25,[1]名單!$A$1:$Z$65536,2,0)) -> 吳棋宏 | F25: 1801 | G25: =IF(F25="","",VLOOKUP(F25,[1]名單!$A$1:$Z$65536,4,0)) -> 大東B | H25: =IF(F25="","",VLOOKUP(F25,[1]名單!$A$1:$Z$65536,2,0)) -> 李富皓 | I25: 1843 | J25: =IF(I25="","",VLOOKUP(I25,[1]名單!$A$1:$Z$65536,4,0)) -> 仁和 | K25: =IF(I25="","",VLOOKUP(I25,[1]名單!$A$1:$Z$65536,2,0)) -> 周昆宏 | L25: 1867 | M25: =IF(L25="","",VLOOKUP(L25,[1]名單!$A$1:$Z$65536,4,0)) -> 中和 | N25: =IF(L25="","",VLOOKUP(L25,[1]名單!$A$1:$Z$65536,2,0)) -> 吳享瑋 | P25: =IF(O25="","",VLOOKUP(O25,[1]名單!$A$1:$Z$65536,2,0))
A26: A19 | B26: 0.40833333 | C26: 1808 | D26: =IF(C26="","",VLOOKUP(C26,[1]名單!$A$1:$Z$65536,4,0)) -> 林內 | E26: =IF(C26="","",VLOOKUP(C26,[1]名單!$A$1:$Z$65536,2,0)) -> 張克誠 | F26: 1802 | G26: =IF(F26="","",VLOOKUP(F26,[1]名單!$A$1:$Z$65536,4,0)) -> 大東B | H26: =IF(F26="","",VLOOKUP(F26,[1]名單!$A$1:$Z$65536,2,0)) -> 陳譽升 | I26: 1844 | J26: =IF(I26="","",VLOOKUP(I26,[1]名單!$A$1:$Z$65536,4,0)) -> 仁和 | K26: =IF(I26="","",VLOOKUP(I26,[1]名單!$A$1:$Z$65536,2,0)) -> 張嘉升 | L26: 1868 | M26: =IF(L26="","",VLOOKUP(L26,[1]名單!$A$1:$Z$65536,4,0)) -> 中和 | N26: =IF(L26="","",VLOOKUP(L26,[1]名單!$A$1:$Z$65536,2,0)) -> 周家幼 | P26: =IF(O26="","",VLOOKUP(O26,[1]名單!$A$1:$Z$65536,2,0))
A27: A20 | B27: 0.4125 | C27: 1809 | D27: =IF(C27="","",VLOOKUP(C27,[1]名單!$A$1:$Z$65536,4,0)) -> 林內 | E27: =IF(C27="","",VLOOKUP(C27,[1]名單!$A$1:$Z$65536,2,0)) -> 李柏勳 | F27: 1831 | G27: =IF(F27="","",VLOOKUP(F27,[1]名單!$A$1:$Z$65536,4,0)) -> 重光 | H27: =IF(F27="","",VLOOKUP(F27,[1]名單!$A$1:$Z$65536,2,0)) -> 翁聖德 | I27: 1845 | J27: =IF(I27="","",VLOOKUP(I27,[1]名單!$A$1:$Z$65536,4,0)) -> 仁和 | K27: =IF(I27="","",VLOOKUP(I27,[1]名單!$A$1:$Z$65536,2,0)) -> 張永諭 | L27: 1869 | M27: =IF(L27="","",VLOOKUP(L27,[1]名單!$A$1:$Z$65536,4,0)) -> 中和 | N27: =IF(L27="","",VLOOKUP(L27,[1]名單!$A$1:$Z$65536,2,0)) -> 廖佑哲 | P27: =IF(O27="","",VLOOKUP(O27,[1]名單!$A$1:$Z$65536,2,0))
A28: A21 | B28: 0.41666667 | C28: 1810 | D28: =IF(C28="","",VLOOKUP(C28,[1]名單!$A$1:$Z$65536,4,0)) -> 林內 | E28: =IF(C28="","",VLOOKUP(C28,[1]名單!$A$1:$Z$65536,2,0)) -> 蔡仕昌 | F28: 1832 | G28: =IF(F28="","",VLOOKUP(F28,[1]名單!$A$1:$Z$65536,4,0)) -> 重光 | H28: =IF(F28="","",VLOOKUP(F28,[1]名單!$A$1:$Z$65536,2,0)) -> 葉翔偉 | I28: 1846 | J28: =IF(I28="","",VLOOKUP(I28,[1]名單!$A$1:$Z$65536,4,0)) -> 仁和 | K28: =IF(I28="","",VLOOKUP(I28,[1]名單!$A$1:$Z$65536,2,0)) -> 李宥樑 | L28: 1870 | M28: =IF(L28="","",VLOOKUP(L28,[1]名單!$A$1:$Z$65536,4,0)) -> 中和 | N28: =IF(L28="","",VLOOKUP(L28,[1]名單!$A$1:$Z$65536,2,0)) -> 張翔竤 | P28: =IF(O28="","",VLOOKUP(O28,[1]名單!$A$1:$Z$65536,2,0))
A29: A22 | B29: 0.42083333 | C29: 1811 | D29: =IF(C29="","",VLOOKUP(C29,[1]名單!$A$1:$Z$65536,4,0)) -> 林內 | E29: =IF(C29="","",VLOOKUP(C29,[1]名單!$A$1:$Z$65536,2,0)) -> 蘇鈺傑 | F29: 1833 | G29: =IF(F29="","",VLOOKUP(F29,[1]名單!$A$1:$Z$65536,4,0)) -> 重光 | H29: =IF(F29="","",VLOOKUP(F29,[1]名單!$A$1:$Z$65536,2,0)) -> 陳建宏 | I29: 1855 | J29: =IF(I29="","",VLOOKUP(I29,[1]名單!$A$1:$Z$65536,4,0)) -> 宏崙 | K29: =IF(I29="","",VLOOKUP(I29,[1]名單!$A$1:$Z$65536,2,0)) -> 吳書睿 | L29: 1871 | M29: =IF(L29="","",VLOOKUP(L29,[1]名單!$A$1:$Z$65536,4,0)) -> 中和 | N29: =IF(L29="","",VLOOKUP(L29,[1]名單!$A$1:$Z$65536,2,0)) -> 林琨閔 | P29: =IF(O29="","",VLOOKUP(O29,[1]名單!$A$1:$Z$65536,2,0))
A30: A23 | B30: 0.425 | C30: 1812 | D30: =IF(C30="","",VLOOKUP(C30,[1]名單!$A$1:$Z$65536,4,0)) -> 林內 | E30: =IF(C30="","",VLOOKUP(C30,[1]名單!$A$1:$Z$65536,2,0)) -> 鄭宇佑 | F30: 1834 | G30: =IF(F30="","",VLOOKUP(F30,[1]名單!$A$1:$Z$65536,4,0)) -> 重光 | H30: =IF(F30="","",VLOOKUP(F30,[1]名單!$A$1:$Z$65536,2,0)) -> 陳振庭 | I30: 1856 | J30: =IF(I30="","",VLOOKUP(I30,[1]名單!$A$1:$Z$65536,4,0)) -> 宏崙 | K30: =IF(I30="","",VLOOKUP(I30,[1]名單!$A$1:$Z$65536,2,0)) -> 吳鑑修 | L30: 1877 | M30: =IF(L30="","",VLOOKUP(L30,[1]名單!$A$1:$Z$65536,4,0)) -> 三和 | N30: =IF(L30="","",VLOOKUP(L30,[1]名單!$A$1:$Z$65536,2,0)) -> 廖澤閎
A31: A24 | B31: 0.42916667 | C31: 1813 | D31: =IF(C31="","",VLOOKUP(C31,[1]名單!$A$1:$Z$65536,4,0)) -> 重興 | E31: =IF(C31="","",VLOOKUP(C31,[1]名單!$A$1:$Z$65536,2,0)) -> 廖偉傑 | F31: 1835 | G31: =IF(F31="","",VLOOKUP(F31,[1]名單!$A$1:$Z$65536,4,0)) -> 重光 | H31: =IF(F31="","",VLOOKUP(F31,[1]名單!$A$1:$Z$65536,2,0)) -> 陳致遠 | I31: 1903 | J31: =IF(I31="","",VLOOKUP(I31,[1]名單!$A$1:$Z$65536,4,0)) -> 中和 | K31: =IF(I31="","",VLOOKUP(I31,[1]名單!$A$1:$Z$65536,2,0)) -> 林樽煜 | L31: 1873 | M31: =IF(L31="","",VLOOKUP(L31,[1]名單!$A$1:$Z$65536,4,0)) -> 三和 | N31: =IF(L31="","",VLOOKUP(L31,[1]名單!$A$1:$Z$65536,2,0)) -> 廖厚竣
A32: A25 | B32: 0.43333333 | C32: 1814 | D32: =IF(C32="","",VLOOKUP(C32,[1]名單!$A$1:$Z$65536,4,0)) -> 重興 | E32: =IF(C32="","",VLOOKUP(C32,[1]名單!$A$1:$Z$65536,2,0)) -> 張宇霖 | F32: 1836 | G32: =IF(F32="","",VLOOKUP(F32,[1]名單!$A$1:$Z$65536,4,0)) -> 重光 | H32: =IF(F32="","",VLOOKUP(F32,[1]名單!$A$1:$Z$65536,2,0)) -> 黃致盛 | I32: 1858 | J32: =IF(I32="","",VLOOKUP(I32,[1]名單!$A$1:$Z$65536,4,0)) -> 宏崙 | K32: =IF(I32="","",VLOOKUP(I32,[1]名單!$A$1:$Z$65536,2,0)) -> 林茂益 | L32: 1874 | M32: =IF(L32="","",VLOOKUP(L32,[1]名單!$A$1:$Z$65536,4,0)) -> 三和 | N32: =IF(L32="","",VLOOKUP(L32,[1]名單!$A$1:$Z$65536,2,0)) -> 廖思博
A33: A26 | B33: 0.4375 | C33: 1815 | D33: =IF(C33="","",VLOOKUP(C33,[1]名單!$A$1:$Z$65536,4,0)) -> 重興 | E33: =IF(C33="","",VLOOKUP(C33,[1]名單!$A$1:$Z$65536,2,0)) -> 張守鎮 | F33: 1849 | G33: =IF(F33="","",VLOOKUP(F33,[1]名單!$A$1:$Z$65536,4,0)) -> 聯美 | H33: =IF(F33="","",VLOOKUP(F33,[1]名單!$A$1:$Z$65536,2,0)) -> 林宗慶 | I33: 1859 | J33: =IF(I33="","",VLOOKUP(I33,[1]名單!$A$1:$Z$65536,4,0)) -> 宏崙 | K33: =IF(I33="","",VLOOKUP(I33,[1]名單!$A$1:$Z$65536,2,0)) -> 陳彥廷 | L33: 1875 | M33: =IF(L33="","",VLOOKUP(L33,[1]名單!$A$1:$Z$65536,4,0)) -> 三和 | N33: =IF(L33="","",VLOOKUP(L33,[1]名單!$A$1:$Z$65536,2,0)) -> 廖奕誠
A34: A27 | B34: 0.44166667 | C34: 1816 | D34: =IF(C34="","",VLOOKUP(C34,[1]名單!$A$1:$Z$65536,4,0)) -> 重興 | E34: =IF(C34="","",VLOOKUP(C34,[1]名單!$A$1:$Z$65536,2,0)) -> 張正煜 | F34: 1850 | G34: =IF(F34="","",VLOOKUP(F34,[1]名單!$A$1:$Z$65536,4,0)) -> 聯美 | H34: =IF(F34="","",VLOOKUP(F34,[1]名單!$A$1:$Z$65536,2,0)) -> 許俊翔 | I34: 1860 | J34: =IF(I34="","",VLOOKUP(I34,[1]名單!$A$1:$Z$65536,4,0)) -> 宏崙 | K34: =IF(I34="","",VLOOKUP(I34,[1]名單!$A$1:$Z$65536,2,0)) -> 黃品豪 | L34: 1876 | M34: =IF(L34="","",VLOOKUP(L34,[1]名單!$A$1:$Z$65536,4,0)) -> 三和 | N34: =IF(L34="","",VLOOKUP(L34,[1]名單!$A$1:$Z$65536,2,0)) -> 廖振緯
A35: A28 | B35: 0.44583333 | C35: 1817 | D35: =IF(C35="","",VLOOKUP(C35,[1]名單!$A$1:$Z$65536,4,0)) -> 重興 | E35: =IF(C35="","",VLOOKUP(C35,[1]名單!$A$1:$Z$65536,2,0)) -> 鄭景旻 | F35: 1851 | G35: =IF(F35="","",VLOOKUP(F35,[1]名單!$A$1:$Z$65536,4,0)) -> 聯美 | H35: =IF(F35="","",VLOOKUP(F35,[1]名單!$A$1:$Z$65536,2,0)) -> 顏佑城 | I35: 1879 | J35: =IF(I35="","",VLOOKUP(I35,[1]名單!$A$1:$Z$65536,4,0)) -> 信義 | K35: =IF(I35="","",VLOOKUP(I35,[1]名單!$A$1:$Z$65536,2,0)) -> 吳哲穎 | L35: 1885 | M35: =IF(L35="","",VLOOKUP(L35,[1]名單!$A$1:$Z$65536,4,0)) -> 大屯 | N35: =IF(L35="","",VLOOKUP(L35,[1]名單!$A$1:$Z$65536,2,0)) -> 王淳毅
A36: A29 | B36: 0.45 | C36: 1818 | D36: =IF(C36="","",VLOOKUP(C36,[1]名單!$A$1:$Z$65536,4,0)) -> 重興 | E36: =IF(C36="","",VLOOKUP(C36,[1]名單!$A$1:$Z$65536,2,0)) -> 陳聖毅 | F36: 1886 | G36: =IF(F36="","",VLOOKUP(F36,[1]名單!$A$1:$Z$65536,4,0)) -> 大屯 | H36: =IF(F36="","",VLOOKUP(F36,[1]名單!$A$1:$Z$65536,2,0)) -> 王學鈞 | I36: 1880 | J36: =IF(I36="","",VLOOKUP(I36,[1]名單!$A$1:$Z$65536,4,0)) -> 信義 | K36: =IF(I36="","",VLOOKUP(I36,[1]名單!$A$1:$Z$65536,2,0)) -> 吳宜達 | M36: =IF(L36="","",VLOOKUP(L36,[1]名單!$A$1:$Z$65536,4,0)) | N36: =IF(L36="","",VLOOKUP(L36,[1]名單!$A$1:$Z$65536,2,0))
A37: A30 | B37: 0.45416667 | C37: 1891 | D37: =IF(C37="","",VLOOKUP(C37,[1]名單!$A$1:$Z$65536,4,0)) -> 華山 | E37: =IF(C37="","",VLOOKUP(C37,[1]名單!$A$1:$Z$65536,2,0)) -> 沈楷翔 | F37: 1897 | G37: =IF(F37="","",VLOOKUP(F37,[1]名單!$A$1:$Z$65536,4,0)) -> 宏崙B | H37: =IF(F37="","",VLOOKUP(F37,[1]名單!$A$1:$Z$65536,2,0)) -> 吳威佐 | I37: 1881 | J37: =IF(I37="","",VLOOKUP(I37,[1]名單!$A$1:$Z$65536,4,0)) -> 信義 | K37: =IF(I37="","",VLOOKUP(I37,[1]名單!$A$1:$Z$65536,2,0)) -> 李武竣 | L37: 1887 | M37: =IF(L37="","",VLOOKUP(L37,[1]名單!$A$1:$Z$65536,4,0)) -> 大屯 | N37: =IF(L37="","",VLOOKUP(L37,[1]名單!$A$1:$Z$65536,2,0)) -> 王政茗
A38: A31 | B38: 0.45833333 | C38: 1852 | D38: =IF(C38="","",VLOOKUP(C38,[1]名單!$A$1:$Z$65536,4,0)) -> 聯美 | E38: =IF(C38="","",VLOOKUP(C38,[1]名單!$A$1:$Z$65536,2,0)) -> 黃柏豪 | F38: 1898 | G38: =IF(F38="","",VLOOKUP(F38,[1]名單!$A$1:$Z$65536,4,0)) -> 宏崙B | H38: =IF(F38="","",VLOOKUP(F38,[1]名單!$A$1:$Z$65536,2,0)) -> 陳鈞豊 | I38: 1882 | J38: =IF(I38="","",VLOOKUP(I38,[1]名單!$A$1:$Z$65536,4,0)) -> 信義 | K38: =IF(I38="","",VLOOKUP(I38,[1]名單!$A$1:$Z$65536,2,0)) -> 林春木 | L38: 1888 | M38: =IF(L38="","",VLOOKUP(L38,[1]名單!$A$1:$Z$65536,4,0)) -> 大屯 | N38: =IF(L38="","",VLOOKUP(L38,[1]名單!$A$1:$Z$65536,2,0)) -> 王柏皓
A39: A32 | B39: 0.4625 | C39: 1889 | D39: =IF(C39="","",VLOOKUP(C39,[1]名單!$A$1:$Z$65536,4,0)) -> 大屯 | E39: =IF(C39="","",VLOOKUP(C39,[1]名單!$A$1:$Z$65536,2,0)) -> 陳膺安 | F39: 1857 | G39: =IF(F39="","",VLOOKUP(F39,[1]名單!$A$1:$Z$65536,4,0)) -> 宏崙 | H39: =IF(F39="","",VLOOKUP(F39,[1]名單!$A$1:$Z$65536,2,0)) -> 李化均 | I39: 1883 | J39: =IF(I39="","",VLOOKUP(I39,[1]名單!$A$1:$Z$65536,4,0)) -> 信義 | K39: =IF(I39="","",VLOOKUP(I39,[1]名單!$A$1:$Z$65536,2,0)) -> 蔡新發 | M39: =IF(L39="","",VLOOKUP(L39,[1]名單!$A$1:$Z$65536,4,0)) | N39: =IF(L39="","",VLOOKUP(L39,[1]名單!$A$1:$Z$65536,2,0))
A40: 15 | B40: 組別 | D40: =VLOOKUP(A40,[1]組別!$A$1:$AK$65536,2,0) -> 國小四年級男童組 | P40: 裁判
A41: A33 | B41: 0.46666667 | C41: 1501 | D41: =IF(C41="","",VLOOKUP(C41,[1]名單!$A$1:$Z$65536,4,0)) -> 僑真B | E41: =IF(C41="","",VLOOKUP(C41,[1]名單!$A$1:$Z$65536,2,0)) -> 劉賢哲 | F41: 1513 | G41: =IF(F41="","",VLOOKUP(F41,[1]名單!$A$1:$Z$65536,4,0)) -> 林內 | H41: =IF(F41="","",VLOOKUP(F41,[1]名單!$A$1:$Z$65536,2,0)) -> 劉峰誌 | I41: 1531 | J41: =IF(I41="","",VLOOKUP(I41,[1]名單!$A$1:$Z$65536,4,0)) -> 石龜 | K41: =IF(I41="","",VLOOKUP(I41,[1]名單!$A$1:$Z$65536,2,0)) -> 葉韶桓 | L41: 1549 | M41: =IF(L41="","",VLOOKUP(L41,[1]名單!$A$1:$Z$65536,4,0)) -> 宏崙 | N41: =IF(L41="","",VLOOKUP(L41,[1]名單!$A$1:$Z$65536,2,0)) -> 古承豫 | P41: =IF(O41="","",VLOOKUP(O41,[1]名單!$A$1:$Z$65536,2,0))
A42: A34 | B42: 0.47083333 | C42: 1502 | D42: =IF(C42="","",VLOOKUP(C42,[1]名單!$A$1:$Z$65536,4,0)) -> 僑真B | E42: =IF(C42="","",VLOOKUP(C42,[1]名單!$A$1:$Z$65536,2,0)) -> 呂志朋 | F42: 1514 | G42: =IF(F42="","",VLOOKUP(F42,[1]名單!$A$1:$Z$65536,4,0)) -> 林內 | H42: =IF(F42="","",VLOOKUP(F42,[1]名單!$A$1:$Z$65536,2,0)) -> 林 正 | I42: 1532 | J42: =IF(I42="","",VLOOKUP(I42,[1]名單!$A$1:$Z$65536,4,0)) -> 石龜 | K42: =IF(I42="","",VLOOKUP(I42,[1]名單!$A$1:$Z$65536,2,0)) -> 許銜宬 | L42: 1550 | M42: =IF(L42="","",VLOOKUP(L42,[1]名單!$A$1:$Z$65536,4,0)) -> 宏崙 | N42: =IF(L42="","",VLOOKUP(L42,[1]名單!$A$1:$Z$65536,2,0)) -> 吳冠宜 | P42: =IF(O42="","",VLOOKUP(O42,[1]名單!$A$1:$Z$65536,2,0))
A43: A35 | B43: 0.475 | C43: 1503 | D43: =IF(C43="","",VLOOKUP(C43,[1]名單!$A$1:$Z$65536,4,0)) -> 僑真B | E43: =IF(C43="","",VLOOKUP(C43,[1]名單!$A$1:$Z$65536,2,0)) -> 徐瑋廷 | F43: 1515 | G43: =IF(F43="","",VLOOKUP(F43,[1]名單!$A$1:$Z$65536,4,0)) -> 林內 | H43: =IF(F43="","",VLOOKUP(F43,[1]名單!$A$1:$Z$65536,2,0)) -> 林庭毅 | I43: 1533 | J43: =IF(I43="","",VLOOKUP(I43,[1]名單!$A$1:$Z$65536,4,0)) -> 石龜 | K43: =IF(I43="","",VLOOKUP(I43,[1]名單!$A$1:$Z$65536,2,0)) -> 陳柏菡 | L43: 1551 | M43: =IF(L43="","",VLOOKUP(L43,[1]名單!$A$1:$Z$65536,4,0)) -> 宏崙 | N43: =IF(L43="","",VLOOKUP(L43,[1]名單!$A$1:$Z$65536,2,0)) -> 吳致銓 | P43: =IF(O43="","",VLOOKUP(O43,[1]名單!$A$1:$Z$65536,2,0))
A44: A36 | B44: 0.47916667 | C44: 1504 | D44: =IF(C44="","",VLOOKUP(C44,[1]名單!$A$1:$Z$65536,4,0)) -> 僑真B | E44: =IF(C44="","",VLOOKUP(C44,[1]名單!$A$1:$Z$65536,2,0)) -> 沈品均 | F44: 1516 | G44: =IF(F44="","",VLOOKUP(F44,[1]名單!$A$1:$Z$65536,4,0)) -> 林內 | H44: =IF(F44="","",VLOOKUP(F44,[1]名單!$A$1:$Z$65536,2,0)) -> 薛仲均 | I44: 1534 | J44: =IF(I44="","",VLOOKUP(I44,[1]名單!$A$1:$Z$65536,4,0)) -> 石龜 | K44: =IF(I44="","",VLOOKUP(I44,[1]名單!$A$1:$Z$65536,2,0)) -> 陳科圳 | L44: 1552 | M44: =IF(L44="","",VLOOKUP(L44,[1]名單!$A$1:$Z$65536,4,0)) -> 宏崙 | N44: =IF(L44="","",VLOOKUP(L44,[1]名單!$A$1:$Z$65536,2,0)) -> 陳子義 | P44: =IF(O44="","",VLOOKUP(O44,[1]名單!$A$1:$Z$65536,2,0))
A45: A37 | B45: 0.48333333 | C45: 1505 | D45: =IF(C45="","",VLOOKUP(C45,[1]名單!$A$1:$Z$65536,4,0)) -> 僑真B | E45: =IF(C45="","",VLOOKUP(C45,[1]名單!$A$1:$Z$65536,2,0)) -> 沈郁凱 | F45: 1517 | G45: =IF(F45="","",VLOOKUP(F45,[1]名單!$A$1:$Z$65536,4,0)) -> 林內 | H45: =IF(F45="","",VLOOKUP(F45,[1]名單!$A$1:$Z$65536,2,0)) -> 郭建安 | I45: 1535 | J45: =IF(I45="","",VLOOKUP(I45,[1]名單!$A$1:$Z$65536,4,0)) -> 石龜 | K45: =IF(I45="","",VLOOKUP(I45,[1]名單!$A$1:$Z$65536,2,0)) -> 黃柏維 | L45: 1553 | M45: =IF(L45="","",VLOOKUP(L45,[1]名單!$A$1:$Z$65536,4,0)) -> 宏崙 | N45: =IF(L45="","",VLOOKUP(L45,[1]名單!$A$1:$Z$65536,2,0)) -> 陳彥宇 | P45: =IF(O45="","",VLOOKUP(O45,[1]名單!$A$1:$Z$65536,2,0))
A46: A38 | B46: 0.4875 | C46: 1507 | D46: =IF(C46="","",VLOOKUP(C46,[1]名單!$A$1:$Z$65536,4,0)) -> 溝壩 | E46: =IF(C46="","",VLOOKUP(C46,[1]名單!$A$1:$Z$65536,2,0)) -> 劉晉辰 | F46: 1518 | G46: =IF(F46="","",VLOOKUP(F46,[1]名單!$A$1:$Z$65536,4,0)) -> 林內 | H46: =IF(F46="","",VLOOKUP(F46,[1]名單!$A$1:$Z$65536,2,0)) -> 陳柏瑋 | I46: 1536 | J46: =IF(I46="","",VLOOKUP(I46,[1]名單!$A$1:$Z$65536,4,0)) -> 石龜 | K46: =IF(I46="","",VLOOKUP(I46,[1]名單!$A$1:$Z$65536,2,0)) -> 黃雍晉 | L46: 1554 | M46: =IF(L46="","",VLOOKUP(L46,[1]名單!$A$1:$Z$65536,4,0)) -> 宏崙 | N46: =IF(L46="","",VLOOKUP(L46,[1]名單!$A$1:$Z$65536,2,0)) -> 陳彥禔 | P46: =IF(O46="","",VLOOKUP(O46,[1]名單!$A$1:$Z$65536,2,0))
A47: A39 | B47: 0.49166667 | C47: 1508 | D47: =IF(C47="","",VLOOKUP(C47,[1]名單!$A$1:$Z$65536,4,0)) -> 溝壩 | E47: =IF(C47="","",VLOOKUP(C47,[1]名單!$A$1:$Z$65536,2,0)) -> 呂家豪 | F47: 1519 | G47: =IF(F47="","",VLOOKUP(F47,[1]名單!$A$1:$Z$65536,4,0)) -> 九芎 | H47: =IF(F47="","",VLOOKUP(F47,[1]名單!$A$1:$Z$65536,2,0)) -> 張哲維 | I47: 1537 | J47: =IF(I47="","",VLOOKUP(I47,[1]名單!$A$1:$Z$65536,4,0)) -> 僑真A | K47: =IF(I47="","",VLOOKUP(I47,[1]名單!$A$1:$Z$65536,2,0)) -> 張承禾 | L47: 1555 | M47: =IF(L47="","",VLOOKUP(L47,[1]名單!$A$1:$Z$65536,4,0)) -> 大同 | N47: =IF(L47="","",VLOOKUP(L47,[1]名單!$A$1:$Z$65536,2,0)) -> 劉育劭 | P47: =IF(O47="","",VLOOKUP(O47,[1]名單!$A$1:$Z$65536,2,0))
A48: A40 | B48: 0.49583333 | C48: 1509 | D48: =IF(C48="","",VLOOKUP(C48,[1]名單!$A$1:$Z$65536,4,0)) -> 溝壩 | E48: =IF(C48="","",VLOOKUP(C48,[1]名單!$A$1:$Z$65536,2,0)) -> 廖峻宏 | F48: 1520 | G48: =IF(F48="","",VLOOKUP(F48,[1]名單!$A$1:$Z$65536,4,0)) -> 九芎 | H48: =IF(F48="","",VLOOKUP(F48,[1]名單!$A$1:$Z$65536,2,0)) -> 林名宏 | I48: 1538 | J48: =IF(I48="","",VLOOKUP(I48,[1]名單!$A$1:$Z$65536,4,0)) -> 僑真A | K48: =IF(I48="","",VLOOKUP(I48,[1]名單!$A$1:$Z$65536,2,0)) -> 張源昇 | L48: 1556 | M48: =IF(L48="","",VLOOKUP(L48,[1]名單!$A$1:$Z$65536,4,0)) -> 大同 | N48: =IF(L48="","",VLOOKUP(L48,[1]名單!$A$1:$Z$65536,2,0)) -> 李百崟 | P48: =IF(O48="","",VLOOKUP(O48,[1]名單!$A$1:$Z$65536,2,0))
A49: A41 | B49: 0.5 | C49: 1510 | D49: =IF(C49="","",VLOOKUP(C49,[1]名單!$A$1:$Z$65536,4,0)) -> 溝壩 | E49: =IF(C49="","",VLOOKUP(C49,[1]名單!$A$1:$Z$65536,2,0)) -> 明仁傑 | F49: 1521 | G49: =IF(F49="","",VLOOKUP(F49,[1]名單!$A$1:$Z$65536,4,0)) -> 九芎 | H49: =IF(F49="","",VLOOKUP(F49,[1]名單!$A$1:$Z$65536,2,0)) -> 林宏宇 | I49: 1539 | J49: =IF(I49="","",VLOOKUP(I49,[1]名單!$A$1:$Z$65536,4,0)) -> 僑真A | K49: =IF(I49="","",VLOOKUP(I49,[1]名單!$A$1:$Z$65536,2,0)) -> 徐瑋廷 | L49: 1557 | M49: =IF(L49="","",VLOOKUP(L49,[1]名單!$A$1:$Z$65536,4,0)) -> 大同 | N49: =IF(L49="","",VLOOKUP(L49,[1]名單!$A$1:$Z$65536,2,0)) -> 林宏展 | P49: =IF(O49="","",VLOOKUP(O49,[1]名單!$A$1:$Z$65536,2,0))
A50: A42 | B50: 0.50416667 | C50: 1511 | D50: =IF(C50="","",VLOOKUP(C50,[1]名單!$A$1:$Z$65536,4,0)) -> 溝壩 | E50: =IF(C50="","",VLOOKUP(C50,[1]名單!$A$1:$Z$65536,2,0)) -> 洪郁恩 | F50: 1522 | G50: =IF(F50="","",VLOOKUP(F50,[1]名單!$A$1:$Z$65536,4,0)) -> 九芎 | H50: =IF(F50="","",VLOOKUP(F50,[1]名單!$A$1:$Z$65536,2,0)) -> 賴冠宇 | I50: 1540 | J50: =IF(I50="","",VLOOKUP(I50,[1]名單!$A$1:$Z$65536,4,0)) -> 僑真A | K50: =IF(I50="","",VLOOKUP(I50,[1]名單!$A$1:$Z$65536,2,0)) -> 林建銘 | L50: 1558 | M50: =IF(L50="","",VLOOKUP(L50,[1]名單!$A$1:$Z$65536,4,0)) -> 大同 | N50: =IF(L50="","",VLOOKUP(L50,[1]名單!$A$1:$Z$65536,2,0)) -> 林昊辰 | P50: =IF(O50="","",VLOOKUP(O50,[1]名單!$A$1:$Z$65536,2,0))
A51: A43 | B51: 0.50833333 | C51: 1512 | D51: =IF(C51="","",VLOOKUP(C51,[1]名單!$A$1:$Z$65536,4,0)) -> 溝壩 | E51: =IF(C51="","",VLOOKUP(C51,[1]名單!$A$1:$Z$65536,2,0)) -> 賴昱安 | F51: 1525 | G51: =IF(F51="","",VLOOKUP(F51,[1]名單!$A$1:$Z$65536,4,0)) -> 民生 | H51: =IF(F51="","",VLOOKUP(F51,[1]名單!$A$1:$Z$65536,2,0)) -> 張皓閔 | I51: 1541 | J51: =IF(I51="","",VLOOKUP(I51,[1]名單!$A$1:$Z$65536,4,0)) -> 僑真A | K51: =IF(I51="","",VLOOKUP(I51,[1]名單!$A$1:$Z$65536,2,0)) -> 林致耀 | L51: 1559 | M51: =IF(L51="","",VLOOKUP(L51,[1]名單!$A$1:$Z$65536,4,0)) -> 大同 | N51: =IF(L51="","",VLOOKUP(L51,[1]名單!$A$1:$Z$65536,2,0)) -> 鍾士雄 | P51: =IF(O51="","",VLOOKUP(O51,[1]名單!$A$1:$Z$65536,2,0))
A52: A44 | B52: 0.5125 | C52: 1543 | D52: =IF(C52="","",VLOOKUP(C52,[1]名單!$A$1:$Z$65536,4,0)) -> 仁和 | E52: =IF(C52="","",VLOOKUP(C52,[1]名單!$A$1:$Z$65536,2,0)) -> 劉柏霖 | F52: 1526 | G52: =IF(F52="","",VLOOKUP(F52,[1]名單!$A$1:$Z$65536,4,0)) -> 民生 | H52: =IF(F52="","",VLOOKUP(F52,[1]名單!$A$1:$Z$65536,2,0)) -> 莊明錡 | I52: 1542 | J52: =IF(I52="","",VLOOKUP(I52,[1]名單!$A$1:$Z$65536,4,0)) -> 僑真A | K52: =IF(I52="","",VLOOKUP(I52,[1]名單!$A$1:$Z$65536,2,0)) -> 歐昱詮 | L52: 1573 | M52: =IF(L52="","",VLOOKUP(L52,[1]名單!$A$1:$Z$65536,4,0)) -> 華山 | N52: =IF(L52="","",VLOOKUP(L52,[1]名單!$A$1:$Z$65536,2,0)) -> 江昊謙 | P52: =IF(O52="","",VLOOKUP(O52,[1]名單!$A$1:$Z$65536,2,0))
... A55: A47 | B55: 0.525 | C55: 1546 | D55: =IF(C55="","",VLOOKUP(C55,[1]名單!$A$1:$Z$65536,4,0)) -> 仁和 | E55: =IF(C55="","",VLOOKUP(C55,[1]名單!$A$1:$Z$65536,2,0)) -> 徐蜂益 | F55: 1529 | G55: =IF(F55="","",VLOOKUP(F55,[1]名單!$A$1:$Z$65536,4,0)) -> 民生 | H55: =IF(F55="","",VLOOKUP(F55,[1]名單!$A$1:$Z$65536,2,0)) -> 賴昱熏 | I55: 1563 | J55: =IF(I55="","",VLOOKUP(I55,[1]名單!$A$1:$Z$65536,4,0)) -> 三和 | K55: =IF(I55="","",VLOOKUP(I55,[1]名單!$A$1:$Z$65536,2,0)) -> 廖浚現 | L55: 1586 | M55: =IF(L55="","",VLOOKUP(L55,[1]名單!$A$1:$Z$65536,4,0)) -> 聯美 | N55: =IF(L55="","",VLOOKUP(L55,[1]名單!$A$1:$Z$65536,2,0)) -> 湯宗鎧 | P55: =IF(O55="","",VLOOKUP(O55,[1]名單!$A$1:$Z$65536,2,0))
A56: A48 | B56: 0.52916667 | C56: 1547 | D56: =IF(C56="","",VLOOKUP(C56,[1]名單!$A$1:$Z$65536,4,0)) -> 仁和 | E56: =IF(C56="","",VLOOKUP(C56,[1]名單!$A$1:$Z$65536,2,0)) -> 謝永詳 | F56: 1530 | G56: =IF(F56="","",VLOOKUP(F56,[1]名單!$A$1:$Z$65536,4,0)) -> 民生 | H56: =IF(F56="","",VLOOKUP(F56,[1]名單!$A$1:$Z$65536,2,0)) -> 郭宗祐 | I56: 1564 | J56: =IF(I56="","",VLOOKUP(I56,[1]名單!$A$1:$Z$65536,4,0)) -> 三和 | K56: =IF(I56="","",VLOOKUP(I56,[1]名單!$A$1:$Z$65536,2,0)) -> 郭育銘 | M56: =IF(L56="","",VLOOKUP(L56,[1]名單!$A$1:$Z$65536,4,0)) | N56: =IF(L56="","",VLOOKUP(L56,[1]名單!$A$1:$Z$65536,2,0)) | P56: =IF(O56="","",VLOOKUP(O56,[1]名單!$A$1:$Z$65536,2,0))
B57: 個人決賽 | P57: 裁判
A58: A49 | B58: 0.5625 | C58: 8049 | D58: =VLOOKUP(C58,[1]組別!$B$1:$AK$65536,2,0) -> 高女12 | F58: 8050 | G58: =VLOOKUP(F58,[1]組別!$B$1:$AK$65536,2,0) -> 高女11 | I58: 8051 | J58: =VLOOKUP(I58,[1]組別!$B$1:$AK$65536,2,0) -> 高女10 | L58: 8052 | M58: =VLOOKUP(L58,[1]組別!$B$1:$AK$65536,2,0) -> 高女9 | P58: =IF(O58="","",VLOOKUP(O58,[1]名單!$A$1:$Z$65536,2,0))
A59: A51 | B59: 0.56666667 | C59: 8053 | D59: =VLOOKUP(C59,[1]組別!$B$1:$AK$65536,2,0) -> 高女8 | F59: 8054 | G59: =VLOOKUP(F59,[1]組別!$B$1:$AK$65536,2,0) -> 高女7 | I59: 8055 | J59: =VLOOKUP(I59,[1]組別!$B$1:$AK$65536,2,0) -> 高女6 | L59: 8056 | M59: =VLOOKUP(L59,[1]組別!$B$1:$AK$65536,2,0) -> 高女5 | P59: =IF(O59="","",VLOOKUP(O59,[1]名單!$A$1:$Z$65536,2,0))
A60: A52 | B60: 0.57083333 | C60: 8057 | D60: =VLOOKUP(C60,[1]組別!$B$1:$AK$65536,2,0) -> 高女4 | F60: 8058 | G60: =VLOOKUP(F60,[1]組別!$B$1:$AK$65536,2,0) -> 高女3 | I60: 8059 | J60: =VLOOKUP(I60,[1]組別!$B$1:$AK$65536,2,0) -> 高女2 | L60: 8060 | M60: =VLOOKUP(L60,[1]組別!$B$1:$AK$65536,2,0) -> 高女1 | P60: =IF(O60="","",VLOOKUP(O60,[1]名單!$A$1:$Z$65536,2,0))
A61: A45 | B61: 0.575 | C61: 8094 | D61: =VLOOKUP(C61,[2]組別!$B$1:$AK$65536,2,0) -> 五女12 | F61: 8095 | G61: =VLOOKUP(F61,[2]組別!$B$1:$AK$65536,2,0) -> 五女11 | I61: 8096 | J61: =VLOOKUP(I61,[2]組別!$B$1:$AK$65536,2,0) -> 五女10 | L61: 8097 | M61: =VLOOKUP(L61,[2]組別!$B$1:$AK$65536,2,0) -> 五女9 | P61: =IF(O61="","",VLOOKUP(O61,[1]名單!$A$1:$Z$65536,2,0))
A62: A46 | B62: 0.57916667 | C62: 8098 | D62: =VLOOKUP(C62,[2]組別!$B$1:$AK$65536,2,0) -> 五女8 | F62: 8099 | G62: =VLOOKUP(F62,[2]組別!$B$1:$AK$65536,2,0) -> 五女7 | I62: 8100 | J62: =VLOOKUP(I62,[2]組別!$B$1:$AK$65536,2,0) -> 五女6 | L62: 8101 | M62: =VLOOKUP(L62,[2]組別!$B$1:$AK$65536,2,0) -> 五女5 | P62: =IF(O62="","",VLOOKUP(O62,[1]名單!$A$1:$Z$65536,2,0))
A63: A47 | B63: 0.58333333 | C63: 8102 | D63: =VLOOKUP(C63,[2]組別!$B$1:$AK$65536,2,0) -> 五女4 | F63: 8103 | G63: =VLOOKUP(F63,[2]組別!$B$1:$AK$65536,2,0) -> 五女3 | I63: 8104 | J63: =VLOOKUP(I63,[2]組別!$B$1:$AK$65536,2,0) -> 五女2 | L63: 8105 | M63: =VLOOKUP(L63,[2]組別!$B$1:$AK$65536,2,0) -> 五女1 | P63: =IF(O63="","",VLOOKUP(O63,[1]名單!$A$1:$Z$65536,2,0))
A64: A56 | B64: 0.5875 | C64: 8109 | D64: =VLOOKUP(C64,[2]組別!$B$1:$AK$65536,2,0) -> 四女12 | F64: 8110 | G64: =VLOOKUP(F64,[2]組別!$B$1:$AK$65536,2,0) -> 四女11 | I64: 8111 | J64: =VLOOKUP(I64,[2]組別!$B$1:$AK$65536,2,0) -> 四女10 | L64: 8112 | M64: =VLOOKUP(L64,[2]組別!$B$1:$AK$65536,2,0) -> 四女9 | P64: =IF(O64="","",VLOOKUP(O64,[1]名單!$A$1:$Z$65536,2,0))
A65: A57 | B65: 0.59166667 | C65: 8113 | D65: =VLOOKUP(C65,[2]組別!$B$1:$AK$65536,2,0) -> 四女8 | F65: 8114 | G65: =VLOOKUP(F65,[2]組別!$B$1:$AK$65536,2,0) -> 四女7 | I65: 8115 | J65: =VLOOKUP(I65,[2]組別!$B$1:$AK$65536,2,0) -> 四女6 | L65: 8116 | M65: =VLOOKUP(L65,[2]組別!$B$1:$AK$65536,2,0) -> 四女5 | P65: =IF(O65="","",VLOOKUP(O65,[1]名單!$A$1:$Z$65536,2,0))
A66: A58 | B66: 0.59583333 | C66: 8117 | D66: =VLOOKUP(C66,[2]組別!$B$1:$AK$65536,2,0) -> 四女4 | F66: 8118 | G66: =VLOOKUP(F66,[2]組別!$B$1:$AK$65536,2,0) -> 四女3 | I66: 8119 | J66: =VLOOKUP(I66,[2]組別!$B$1:$AK$65536,2,0) -> 四女2 | L66: 8120 | M66: =VLOOKUP(L66,[2]組別!$B$1:$AK$65536,2,0) -> 四女1 | P66: =IF(O66="","",VLOOKUP(O66,[1]名單!$A$1:$Z$65536,2,0))
A84: =A2 -> 104年春季縣長盃木球賽賽程表
A85: 日 期 | C85: 104年4月16日（星期四）B場地
A86: 場次 | B86: 時間 | C86: 選 手 名 單
A87: 8 | B87: 組別 | D87: =VLOOKUP(A87,[3]組別!$A$1:$AK$65536,2,0) -> 高中女子組 | P87: 裁判
A88: B1 | B88: 0.33333333 | C88: 5401 | D88: =IF(C88="","",VLOOKUP(C88,[1]名單!$A$1:$Z$65536,4,0)) -> 土庫B | E88: =IF(C88="","",VLOOKUP(C88,[1]名單!$A$1:$Z$65536,2,0)) -> 吳盈蓁 | F88: 5407 | G88: =IF(F88="","",VLOOKUP(F88,[1]名單!$A$1:$Z$65536,4,0)) -> 義峰B | H88: =IF(F88="","",VLOOKUP(F88,[1]名單!$A$1:$Z$65536,2,0)) -> 林惠婷 | I88: 5413 | J88: =IF(I88="","",VLOOKUP(I88,[1]名單!$A$1:$Z$65536,4,0)) -> 土庫A | K88: =IF(I88="","",VLOOKUP(I88,[1]名單!$A$1:$Z$65536,2,0)) -> 吳佩蓉 | L88: 5419 | M88: =IF(L88="","",VLOOKUP(L88,[1]名單!$A$1:$Z$65536,4,0)) -> 義峰A | N88: =IF(L88="","",VLOOKUP(L88,[1]名單!$A$1:$Z$65536,2,0)) -> 吳心怡 | P88: =IF(O88="","",VLOOKUP(O88,[3]名單!$A$1:$Z$65536,2,0))
A89: B2 | B89: 0.3375 | C89: 5402 | D89: =IF(C89="","",VLOOKUP(C89,[1]名單!$A$1:$Z$65536,4,0)) -> 土庫B | E89: =IF(C89="","",VLOOKUP(C89,[1]名單!$A$1:$Z$65536,2,0)) -> 廖嘉芸 | F89: 5408 | G89: =IF(F89="","",VLOOKUP(F89,[1]名單!$A$1:$Z$65536,4,0)) -> 義峰B | H89: =IF(F89="","",VLOOKUP(F89,[1]名單!$A$1:$Z$65536,2,0)) -> 簡珮晴 | I89: 5414 | J89: =IF(I89="","",VLOOKUP(I89,[1]名單!$A$1:$Z$65536,4,0)) -> 土庫A | K89: =IF(I89="","",VLOOKUP(I89,[1]名單!$A$1:$Z$65536,2,0)) -> 吳惠婷 | L89: 5420 | M89: =IF(L89="","",VLOOKUP(L89,[1]名單!$A$1:$Z$65536,4,0)) -> 義峰A | N89: =IF(L89="","",VLOOKUP(L89,[1]名單!$A$1:$Z$65536,2,0)) -> 吳沈盈 | P89: =IF(O89="","",VLOOKUP(O89,[3]名單!$A$1:$Z$65536,2,0))
A90: B3 | B90: 0.34166667 | C90: 5403 | D90: =IF(C90="","",VLOOKUP(C90,[1]名單!$A$1:$Z$65536,4,0)) -> 土庫B | E90: =IF(C90="","",VLOOKUP(C90,[1]名單!$A$1:$Z$65536,2,0)) -> 沈芳如 | F90: 5409 | G90: =IF(F90="","",VLOOKUP(F90,[1]名單!$A$1:$Z$65536,4,0)) -> 義峰B | H90: =IF(F90="","",VLOOKUP(F90,[1]名單!$A$1:$Z$65536,2,0)) -> 蔡宜婷 | I90: 5415 | J90: =IF(I90="","",VLOOKUP(I90,[1]名單!$A$1:$Z$65536,4,0)) -> 土庫A | K90: =IF(I90="","",VLOOKUP(I90,[1]名單!$A$1:$Z$65536,2,0)) -> 吳雅婷 | L90: 5421 | M90: =IF(L90="","",VLOOKUP(L90,[1]名單!$A$1:$Z$65536,4,0)) -> 義峰A | N90: =IF(L90="","",VLOOKUP(L90,[1]名單!$A$1:$Z$65536,2,0)) -> 林佳瑩 | P90: =IF(O90="","",VLOOKUP(O90,[3]名單!$A$1:$Z$65536,2,0))
A91: B4 | B91: 0.34583333 | C91: 5404 | D91: =IF(C91="","",VLOOKUP(C91,[1]名單!$A$1:$Z$65536,4,0)) -> 土庫B | E91: =IF(C91="","",VLOOKUP(C91,[1]名單!$A$1:$Z$65536,2,0)) -> 王佳琪 | F91: 5410 | G91: =IF(F91="","",VLOOKUP(F91,[1]名單!$A$1:$Z$65536,4,0)) -> 義峰B | H91: =IF(F91="","",VLOOKUP(F91,[1]名單!$A$1:$Z$65536,2,0)) -> 蔡宜臻 | I91: 5416 | J91: =IF(I91="","",VLOOKUP(I91,[1]名單!$A$1:$Z$65536,4,0)) -> 土庫A | K91: =IF(I91="","",VLOOKUP(I91,[1]名單!$A$1:$Z$65536,2,0)) -> 林紫玲 | L91: 5422 | M91: =IF(L91="","",VLOOKUP(L91,[1]名單!$A$1:$Z$65536,4,0)) -> 義峰A | N91: =IF(L91="","",VLOOKUP(L91,[1]名單!$A$1:$Z$65536,2,0)) -> 林羿岑 | P91: =IF(O91="","",VLOOKUP(O91,[3]名單!$A$1:$Z$65536,2,0))
A92: B5 | B92: 0.35 | C92: 5405 | D92: =IF(C92="","",VLOOKUP(C92,[1]名單!$A$1:$Z$65536,4,0)) -> 土庫B | E92: =IF(C92="","",VLOOKUP(C92,[1]名單!$A$1:$Z$65536,2,0)) -> 王韻筑 | F92: 5411 | G92: =IF(F92="","",VLOOKUP(F92,[1]名單!$A$1:$Z$65536,4,0)) -> 義峰B | H92: =IF(F92="","",VLOOKUP(F92,[1]名單!$A$1:$Z$65536,2,0)) -> 鄭宛甄 | I92: 5417 | J92: =IF(I92="","",VLOOKUP(I92,[1]名單!$A$1:$Z$65536,4,0)) -> 土庫A | K92: =IF(I92="","",VLOOKUP(I92,[1]名單!$A$1:$Z$65536,2,0)) -> 陳芷彤 | L92: 5423 | M92: =IF(L92="","",VLOOKUP(L92,[1]名單!$A$1:$Z$65536,4,0)) -> 義峰A | N92: =IF(L92="","",VLOOKUP(L92,[1]名單!$A$1:$Z$65536,2,0)) -> 許毓庭 | P92: =IF(O92="","",VLOOKUP(O92,[3]名單!$A$1:$Z$65536,2,0))
A93: B6 | B93: 0.35416667 | C93: 5418 | D93: =IF(C93="","",VLOOKUP(C93,[1]名單!$A$1:$Z$65536,4,0)) -> 土庫A | E93: =IF(C93="","",VLOOKUP(C93,[1]名單!$A$1:$Z$65536,2,0)) -> 陳鈺萱 | F93: 5412 | G93: =IF(F93="","",VLOOKUP(F93,[1]名單!$A$1:$Z$65536,4,0)) -> 義峰B | H93: =IF(F93="","",VLOOKUP(F93,[1]名單!$A$1:$Z$65536,2,0)) -> 陳慧峮 | I93: 5424 | J93: =IF(I93="","",VLOOKUP(I93,[1]名單!$A$1:$Z$65536,4,0)) -> 義峰A | K93: =IF(I93="","",VLOOKUP(I93,[1]名單!$A$1:$Z$65536,2,0)) -> 陳怡臻 | M93: =IF(L93="","",VLOOKUP(L93,[1]名單!$A$1:$Z$65536,4,0)) | N93: =IF(L93="","",VLOOKUP(L93,[1]名單!$A$1:$Z$65536,2,0))
A94: 14 | B94: 組別 | D94: =VLOOKUP(A94,[3]組別!$A$1:$AK$65536,2,0) -> 國小五年級女童組 | P94: 裁判
A95: B7 | B95: 0.35833333 | C95: 5813 | D95: =IF(C95="","",VLOOKUP(C95,[1]名單!$A$1:$Z$65536,4,0)) -> 林內 | E95: =IF(C95="","",VLOOKUP(C95,[1]名單!$A$1:$Z$65536,2,0)) -> 朱霈嫺 | F95: 5819 | G95: =IF(F95="","",VLOOKUP(F95,[1]名單!$A$1:$Z$65536,4,0)) -> 重興 | H95: =IF(F95="","",VLOOKUP(F95,[1]名單!$A$1:$Z$65536,2,0)) -> 宋紫瀅 | I95: 5843 | J95: =IF(I95="","",VLOOKUP(I95,[1]名單!$A$1:$Z$65536,4,0)) -> 僑真 | K95: =IF(I95="","",VLOOKUP(I95,[1]名單!$A$1:$Z$65536,2,0)) -> 嚴亦婷 | L95: 5861 | M95: =IF(L95="","",VLOOKUP(L95,[1]名單!$A$1:$Z$65536,4,0)) -> 宏崙 | N95: =IF(L95="","",VLOOKUP(L95,[1]名單!$A$1:$Z$65536,2,0)) -> 劉季璇 | P95: =IF(O95="","",VLOOKUP(O95,[3]名單!$A$1:$Z$65536,2,0))
A96: B8 | B96: 0.3625 | C96: 5814 | D96: =IF(C96="","",VLOOKUP(C96,[1]名單!$A$1:$Z$65536,4,0)) -> 林內 | E96: =IF(C96="","",VLOOKUP(C96,[1]名單!$A$1:$Z$65536,2,0)) -> 蔡宜蓁 | F96: 5820 | G96: =IF(F96="","",VLOOKUP(F96,[1]名單!$A$1:$Z$65536,4,0)) -> 重興 | H96: =IF(F96="","",VLOOKUP(F96,[1]名單!$A$1:$Z$65536,2,0)) -> 張心怡 | I96: 5844 | J96: =IF(I96="","",VLOOKUP(I96,[1]名單!$A$1:$Z$65536,4,0)) -> 僑真 | K96: =IF(I96="","",VLOOKUP(I96,[1]名單!$A$1:$Z$65536,2,0)) -> 林欣妤 | L96: 5862 | M96: =IF(L96="","",VLOOKUP(L96,[1]名單!$A$1:$Z$65536,4,0)) -> 宏崙 | N96: =IF(L96="","",VLOOKUP(L96,[1]名單!$A$1:$Z$65536,2,0)) -> 吳心慈 | P96: =IF(O96="","",VLOOKUP(O96,[3]名單!$A$1:$Z$65536,2,0))
A97: B9 | B97: 0.36666667 | C97: 5815 | D97: =IF(C97="","",VLOOKUP(C97,[1]名單!$A$1:$Z$65536,4,0)) -> 林內 | E97: =IF(C97="","",VLOOKUP(C97,[1]名單!$A$1:$Z$65536,2,0)) -> 陳羽萱 | F97: 5821 | G97: =IF(F97="","",VLOOKUP(F97,[1]名單!$A$1:$Z$65536,4,0)) -> 重興 | H97: =IF(F97="","",VLOOKUP(F97,[1]名單!$A$1:$Z$65536,2,0)) -> 蔡明秀 | I97: 5845 | J97: =IF(I97="","",VLOOKUP(I97,[1]名單!$A$1:$Z$65536,4,0)) -> 僑真 | K97: =IF(I97="","",VLOOKUP(I97,[1]名單!$A$1:$Z$65536,2,0)) -> 林靜宜 | L97: 5863 | M97: =IF(L97="","",VLOOKUP(L97,[1]名單!$A$1:$Z$65536,4,0)) -> 宏崙 | N97: =IF(L97="","",VLOOKUP(L97,[1]名單!$A$1:$Z$65536,2,0)) -> 吳惠鈞 | P97: =IF(O97="","",VLOOKUP(O97,[3]名單!$A$1:$Z$65536,2,0))
A98: B10 | B98: 0.37083333 | C98: 5816 | D98: =IF(C98="","",VLOOKUP(C98,[1]名單!$A$1:$Z$65536,4,0)) -> 林內 | E98: =IF(C98="","",VLOOKUP(C98,[1]名單!$A$1:$Z$65536,2,0)) -> 陳靜芬 | F98: 5822 | G98: =IF(F98="","",VLOOKUP(F98,[1]名單!$A$1:$Z$65536,4,0)) -> 重興 | H98: =IF(F98="","",VLOOKUP(F98,[1]名單!$A$1:$Z$65536,2,0)) -> 陳芳玫 | I98: 5846 | J98: =IF(I98="","",VLOOKUP(I98,[1]名單!$A$1:$Z$65536,4,0)) -> 僑真 | K98: =IF(I98="","",VLOOKUP(I98,[1]名單!$A$1:$Z$65536,2,0)) -> 楊雅雲 | L98: 5864 | M98: =IF(L98="","",VLOOKUP(L98,[1]名單!$A$1:$Z$65536,4,0)) -> 宏崙 | N98: =IF(L98="","",VLOOKUP(L98,[1]名單!$A$1:$Z$65536,2,0)) -> 林岑鎂 | P98: =IF(O98="","",VLOOKUP(O98,[3]名單!$A$1:$Z$65536,2,0))
A99: B11 | B99: 0.375 | C99: 5817 | D99: =IF(C99="","",VLOOKUP(C99,[1]名單!$A$1:$Z$65536,4,0)) -> 林內 | E99: =IF(C99="","",VLOOKUP(C99,[1]名單!$A$1:$Z$65536,2,0)) -> 黃脩雲 | F99: 5823 | G99: =IF(F99="","",VLOOKUP(F99,[1]名單!$A$1:$Z$65536,4,0)) -> 重興 | H99: =IF(F99="","",VLOOKUP(F99,[1]名單!$A$1:$Z$65536,2,0)) -> 黃楷伶 | I99: 5847 | J99: =IF(I99="","",VLOOKUP(I99,[1]名單!$A$1:$Z$65536,4,0)) -> 僑真 | K99: =IF(I99="","",VLOOKUP(I99,[1]名單!$A$1:$Z$65536,2,0)) -> 江亦雯 | L99: 5865 | M99: =IF(L99="","",VLOOKUP(L99,[1]名單!$A$1:$Z$65536,4,0)) -> 宏崙 | N99: =IF(L99="","",VLOOKUP(L99,[1]名單!$A$1:$Z$65536,2,0)) -> 楊美鈴 | P99: =IF(O99="","",VLOOKUP(O99,[3]名單!$A$1:$Z$65536,2,0))
A100: B12 | B100: 0.37916667 | C100: 5811 | D100: =IF(C100="","",VLOOKUP(C100,[1]名單!$A$1:$Z$65536,4,0)) -> 水碓 | E100: =IF(C100="","",VLOOKUP(C100,[1]名單!$A$1:$Z$65536,2,0)) -> 黃翊甄 | F100: 5824 | G100: =IF(F100="","",VLOOKUP(F100,[1]名單!$A$1:$Z$65536,4,0)) -> 重興 | H100: =IF(F100="","",VLOOKUP(F100,[1]名單!$A$1:$Z$65536,2,0)) -> 黃筱茹 | I100: 5848 | J100: =IF(I100="","",VLOOKUP(I100,[1]名單!$A$1:$Z$65536,4,0)) -> 僑真 | K100: =IF(I100="","",VLOOKUP(I100,[1]名單!$A$1:$Z$65536,2,0)) -> 賴慈昕 | L100: 5866 | M100: =IF(L100="","",VLOOKUP(L100,[1]名單!$A$1:$Z$65536,4,0)) -> 宏崙 | N100: =IF(L100="","",VLOOKUP(L100,[1]名單!$A$1:$Z$65536,2,0)) -> 許右茹 | P100: =IF(O100="","",VLOOKUP(O100,[3]名單!$A$1:$Z$65536,2,0))
A101: B13 | B101: 0.38333333 | C101: 5807 | D101: =IF(C101="","",VLOOKUP(C101,[1]名單!$A$1:$Z$65536,4,0)) -> 水碓 | E101: =IF(C101="","",VLOOKUP(C101,[1]名單!$A$1:$Z$65536,2,0)) -> 朱唯緁 | F101: 5831 | G101: =IF(F101="","",VLOOKUP(F101,[1]名單!$A$1:$Z$65536,4,0)) -> 大東 | H101: =IF(F101="","",VLOOKUP(F101,[1]名單!$A$1:$Z$65536,2,0)) -> 周儷凌 | I101: 5849 | J101: =IF(I101="","",VLOOKUP(I101,[1]名單!$A$1:$Z$65536,4,0)) -> 仁和 | K101: =IF(I101="","",VLOOKUP(I101,[1]名單!$A$1:$Z$65536,2,0)) -> 劉玉梅 | L101: 5867 | M101: =IF(L101="","",VLOOKUP(L101,[1]名單!$A$1:$Z$65536,4,0)) -> 大同 | N101: =IF(L101="","",VLOOKUP(L101,[1]名單!$A$1:$Z$65536,2,0)) -> 劉芷菱 | P101: =IF(O101="","",VLOOKUP(O101,[3]名單!$A$1:$Z$65536,2,0))
A102: B14 | B102: 0.3875 | C102: 5808 | D102: =IF(C102="","",VLOOKUP(C102,[1]名單!$A$1:$Z$65536,4,0)) -> 水碓 | E102: =IF(C102="","",VLOOKUP(C102,[1]名單!$A$1:$Z$65536,2,0)) -> 朱唯銥 | F102: 5832 | G102: =IF(F102="","",VLOOKUP(F102,[1]名單!$A$1:$Z$65536,4,0)) -> 大東 | H102: =IF(F102="","",VLOOKUP(F102,[1]名單!$A$1:$Z$65536,2,0)) -> 沈欣宜 | I102: 5850 | J102: =IF(I102="","",VLOOKUP(I102,[1]名單!$A$1:$Z$65536,4,0)) -> 仁和 | K102: =IF(I102="","",VLOOKUP(I102,[1]名單!$A$1:$Z$65536,2,0)) -> 劉玉蝶 | L102: 5868 | M102: =IF(L102="","",VLOOKUP(L102,[1]名單!$A$1:$Z$65536,4,0)) -> 大同 | N102: =IF(L102="","",VLOOKUP(L102,[1]名單!$A$1:$Z$65536,2,0)) -> 廖彩容 | P102: =IF(O102="","",VLOOKUP(O102,[3]名單!$A$1:$Z$65536,2,0))
A103: B15 | B103: 0.39166667 | C103: 5809 | D103: =IF(C103="","",VLOOKUP(C103,[1]名單!$A$1:$Z$65536,4,0)) -> 水碓 | E103: =IF(C103="","",VLOOKUP(C103,[1]名單!$A$1:$Z$65536,2,0)) -> 李翊萱 | F103: 5833 | G103: =IF(F103="","",VLOOKUP(F103,[1]名單!$A$1:$Z$65536,4,0)) -> 大東 | H103: =IF(F103="","",VLOOKUP(F103,[1]名單!$A$1:$Z$65536,2,0)) -> 沈美宜 | I103: 5851 | J103: =IF(I103="","",VLOOKUP(I103,[1]名單!$A$1:$Z$65536,4,0)) -> 仁和 | K103: =IF(I103="","",VLOOKUP(I103,[1]名單!$A$1:$Z$65536,2,0)) -> 連晏甄 | L103: 5869 | M103: =IF(L103="","",VLOOKUP(L103,[1]名單!$A$1:$Z$65536,4,0)) -> 大同 | N103: =IF(L103="","",VLOOKUP(L103,[1]名單!$A$1:$Z$65536,2,0)) -> 張雅茹 | P103: =IF(O103="","",VLOOKUP(O103,[3]名單!$A$1:$Z$65536,2,0))
A104: B16 | B104: 0.39583333 | C104: 5810 | D104: =IF(C104="","",VLOOKUP(C104,[1]名單!$A$1:$Z$65536,4,0)) -> 水碓 | E104: =IF(C104="","",VLOOKUP(C104,[1]名單!$A$1:$Z$65536,2,0)) -> 高蕾筑 | F104: 5834 | G104: =IF(F104="","",VLOOKUP(F104,[1]名單!$A$1:$Z$65536,4,0)) -> 大東 | H104: =IF(F104="","",VLOOKUP(F104,[1]名單!$A$1:$Z$65536,2,0)) -> 詹茹鈁 | I104: 5852 | J104: =IF(I104="","",VLOOKUP(I104,[1]名單!$A$1:$Z$65536,4,0)) -> 仁和 | K104: =IF(I104="","",VLOOKUP(I104,[1]名單!$A$1:$Z$65536,2,0)) -> 陳昱如 | L104: 5870 | M104: =IF(L104="","",VLOOKUP(L104,[1]名單!$A$1:$Z$65536,4,0)) -> 大同 | N104: =IF(L104="","",VLOOKUP(L104,[1]名單!$A$1:$Z$65536,2,0)) -> 林昀臻 | P104: =IF(O104="","",VLOOKUP(O104,[3]名單!$A$1:$Z$65536,2,0))
A105: B17 | B105: 0.4 | C105: 5801 | D105: =IF(C105="","",VLOOKUP(C105,[1]名單!$A$1:$Z$65536,4,0)) -> 華山 | E105: =IF(C105="","",VLOOKUP(C105,[1]名單!$A$1:$Z$65536,2,0)) -> 李鈺萱 | F105: 5835 | G105: =IF(F105="","",VLOOKUP(F105,[1]名單!$A$1:$Z$65536,4,0)) -> 大東 | H105: =IF(F105="","",VLOOKUP(F105,[1]名單!$A$1:$Z$65536,2,0)) -> 顏劭涵 | I105: 5855 | J105: =IF(I105="","",VLOOKUP(I105,[1]名單!$A$1:$Z$65536,4,0)) -> 聯美 | K105: =IF(I105="","",VLOOKUP(I105,[1]名單!$A$1:$Z$65536,2,0)) -> 林家儀 | L105: 5871 | M105: =IF(L105="","",VLOOKUP(L105,[1]名單!$A$1:$Z$65536,4,0)) -> 大同 | N105: =IF(L105="","",VLOOKUP(L105,[1]名單!$A$1:$Z$65536,2,0)) -> 蔡叔全 | P105: =IF(O105="","",VLOOKUP(O105,[3]名單!$A$1:$Z$65536,2,0))
A106: B18 | B106: 0.40416667 | C106: 5802 | D106: =IF(C106="","",VLOOKUP(C106,[1]名單!$A$1:$Z$65536,4,0)) -> 華山 | E106: =IF(C106="","",VLOOKUP(C106,[1]名單!$A$1:$Z$65536,2,0)) -> 沈玉霖 | F106: 5842 | G106: =IF(F106="","",VLOOKUP(F106,[1]名單!$A$1:$Z$65536,4,0)) -> 重光 | H106: =IF(F106="","",VLOOKUP(F106,[1]名單!$A$1:$Z$65536,2,0)) -> 黃宜佳 | I106: 5856 | J106: =IF(I106="","",VLOOKUP(I106,[1]名單!$A$1:$Z$65536,4,0)) -> 聯美 | K106: =IF(I106="","",VLOOKUP(I106,[1]名單!$A$1:$Z$65536,2,0)) -> 林家楹 | L106: 5873 | M106: =IF(L106="","",VLOOKUP(L106,[1]名單!$A$1:$Z$65536,4,0)) -> 大屯 | N106: =IF(L106="","",VLOOKUP(L106,[1]名單!$A$1:$Z$65536,2,0)) -> 江玟樺 | P106: =IF(O106="","",VLOOKUP(O106,[3]名單!$A$1:$Z$65536,2,0))
... A108: B20 | B108: 0.4125 | C108: 5825 | D108: =IF(C108="","",VLOOKUP(C108,[1]名單!$A$1:$Z$65536,4,0)) -> 民生 | E108: =IF(C108="","",VLOOKUP(C108,[1]名單!$A$1:$Z$65536,2,0)) -> 丁婉嬿 | F108: 5838 | G108: =IF(F108="","",VLOOKUP(F108,[1]名單!$A$1:$Z$65536,4,0)) -> 重光 | H108: =IF(F108="","",VLOOKUP(F108,[1]名單!$A$1:$Z$65536,2,0)) -> 徐偉淋 | I108: 5858 | J108: =IF(I108="","",VLOOKUP(I108,[1]名單!$A$1:$Z$65536,4,0)) -> 聯美 | K108: =IF(I108="","",VLOOKUP(I108,[1]名單!$A$1:$Z$65536,2,0)) -> 許雅宣 | L108: 5875 | M108: =IF(L108="","",VLOOKUP(L108,[1]名單!$A$1:$Z$65536,4,0)) -> 大屯 | N108: =IF(L108="","",VLOOKUP(L108,[1]名單!$A$1:$Z$65536,2,0)) -> 王芃婷 | P108: =IF(O108="","",VLOOKUP(O108,[3]名單!$A$1:$Z$65536,2,0))
A109: B21 | B109: 0.41666667 | C109: 5826 | D109: =IF(C109="","",VLOOKUP(C109,[1]名單!$A$1:$Z$65536,4,0)) -> 民生 | E109: =IF(C109="","",VLOOKUP(C109,[1]名單!$A$1:$Z$65536,2,0)) -> 蔡芯惠 | F109: 5839 | G109: =IF(F109="","",VLOOKUP(F109,[1]名單!$A$1:$Z$65536,4,0)) -> 重光 | H109: =IF(F109="","",VLOOKUP(F109,[1]名單!$A$1:$Z$65536,2,0)) -> 曾妮 | I109: 5859 | J109: =IF(I109="","",VLOOKUP(I109,[1]名單!$A$1:$Z$65536,4,0)) -> 聯美 | K109: =IF(I109="","",VLOOKUP(I109,[1]名單!$A$1:$Z$65536,2,0)) -> 謝采庭 | M109: =IF(L109="","",VLOOKUP(L109,[1]名單!$A$1:$Z$65536,4,0)) | N109: =IF(L109="","",VLOOKUP(L109,[1]名單!$A$1:$Z$65536,2,0)) | P109: =IF(O109="","",VLOOKUP(O109,[3]名單!$A$1:$Z$65536,2,0))
A110: B22 | B110: 0.42083333 | C110: 5827 | D110: =IF(C110="","",VLOOKUP(C110,[1]名單!$A$1:$Z$65536,4,0)) -> 民生 | E110: =IF(C110="","",VLOOKUP(C110,[1]名單!$A$1:$Z$65536,2,0)) -> 蘇姿云 | F110: 5840 | G110: =IF(F110="","",VLOOKUP(F110,[1]名單!$A$1:$Z$65536,4,0)) -> 重光 | H110: =IF(F110="","",VLOOKUP(F110,[1]名單!$A$1:$Z$65536,2,0)) -> 蔡綵孺 | I110: 5876 | J110: =IF(I110="","",VLOOKUP(I110,[1]名單!$A$1:$Z$65536,4,0)) -> 大屯 | K110: =IF(I110="","",VLOOKUP(I110,[1]名單!$A$1:$Z$65536,2,0)) -> 許鈞蕙 | M110: =IF(L110="","",VLOOKUP(L110,[1]名單!$A$1:$Z$65536,4,0)) | N110: =IF(L110="","",VLOOKUP(L110,[1]名單!$A$1:$Z$65536,2,0)) | P110: =IF(O110="","",VLOOKUP(O110,[3]名單!$A$1:$Z$65536,2,0))
A111: B23 | B111: 0.425 | C111: 5828 | D111: =IF(C111="","",VLOOKUP(C111,[1]名單!$A$1:$Z$65536,4,0)) -> 民生 | E111: =IF(C111="","",VLOOKUP(C111,[1]名單!$A$1:$Z$65536,2,0)) -> 賴昱淇 | F111: 5841 | G111: =IF(F111="","",VLOOKUP(F111,[1]名單!$A$1:$Z$65536,4,0)) -> 重光 | H111: =IF(F111="","",VLOOKUP(F111,[1]名單!$A$1:$Z$65536,2,0)) -> 謝仙玟 | I111: 5860 | J111: =IF(I111="","",VLOOKUP(I111,[1]名單!$A$1:$Z$65536,4,0)) -> 聯美 | K111: =IF(I111="","",VLOOKUP(I111,[1]名單!$A$1:$Z$65536,2,0)) -> 顏錦玉 | M111: =IF(L111="","",VLOOKUP(L111,[1]名單!$A$1:$Z$65536,4,0)) | N111: =IF(L111="","",VLOOKUP(L111,[1]名單!$A$1:$Z$65536,2,0))
A112: 16 | B112: 組別 | D112: =VLOOKUP(A112,[3]組別!$A$1:$AK$65536,2,0) -> 國小四年級女童組 | P112: 裁判
A113: B24 | B113: 0.4375 | C113: 6001 | D113: =IF(C113="","",VLOOKUP(C113,[1]名單!$A$1:$Z$65536,4,0)) -> 林內B | E113: =IF(C113="","",VLOOKUP(C113,[1]名單!$A$1:$Z$65536,2,0)) -> 張雯婷 | F113: 6025 | G113: =IF(F113="","",VLOOKUP(F113,[1]名單!$A$1:$Z$65536,4,0)) -> 九芎 | H113: =IF(F113="","",VLOOKUP(F113,[1]名單!$A$1:$Z$65536,2,0)) -> 李昱姍 | I113: 6037 | J113: =IF(I113="","",VLOOKUP(I113,[1]名單!$A$1:$Z$65536,4,0)) -> 石龜A | K113: =IF(I113="","",VLOOKUP(I113,[1]名單!$A$1:$Z$65536,2,0)) -> 楊方琪 | L113: 6055 | M113: =IF(L113="","",VLOOKUP(L113,[1]名單!$A$1:$Z$65536,4,0)) -> 聯美 | N113: =IF(L113="","",VLOOKUP(L113,[1]名單!$A$1:$Z$65536,2,0)) -> 方星予
A114: B25 | B114: 0.44166667 | C114: 6002 | D114: =IF(C114="","",VLOOKUP(C114,[1]名單!$A$1:$Z$65536,4,0)) -> 林內B | E114: =IF(C114="","",VLOOKUP(C114,[1]名單!$A$1:$Z$65536,2,0)) -> 汪幸萱 | F114: 6026 | G114: =IF(F114="","",VLOOKUP(F114,[1]名單!$A$1:$Z$65536,4,0)) -> 九芎 | H114: =IF(F114="","",VLOOKUP(F114,[1]名單!$A$1:$Z$65536,2,0)) -> 楊佳臻 | I114: 6038 | J114: =IF(I114="","",VLOOKUP(I114,[1]名單!$A$1:$Z$65536,4,0)) -> 石龜A | K114: =IF(I114="","",VLOOKUP(I114,[1]名單!$A$1:$Z$65536,2,0)) -> 薛菀琳 | L114: 6056 | M114: =IF(L114="","",VLOOKUP(L114,[1]名單!$A$1:$Z$65536,4,0)) -> 聯美 | N114: =IF(L114="","",VLOOKUP(L114,[1]名單!$A$1:$Z$65536,2,0)) -> 李文祺
A115: B26 | B115: 0.44583333 | C115: 6003 | D115: =IF(C115="","",VLOOKUP(C115,[1]名單!$A$1:$Z$65536,4,0)) -> 林內B | E115: =IF(C115="","",VLOOKUP(C115,[1]名單!$A$1:$Z$65536,2,0)) -> 洪欣妤 | F115: 6027 | G115: =IF(F115="","",VLOOKUP(F115,[1]名單!$A$1:$Z$65536,4,0)) -> 九芎 | H115: =IF(F115="","",VLOOKUP(F115,[1]名單!$A$1:$Z$65536,2,0)) -> 石宜絃 | I115: 6039 | J115: =IF(I115="","",VLOOKUP(I115,[1]名單!$A$1:$Z$65536,4,0)) -> 石龜A | K115: =IF(I115="","",VLOOKUP(I115,[1]名單!$A$1:$Z$65536,2,0)) -> 蘇佩慈 | L115: 6057 | M115: =IF(L115="","",VLOOKUP(L115,[1]名單!$A$1:$Z$65536,4,0)) -> 聯美 | N115: =IF(L115="","",VLOOKUP(L115,[1]名單!$A$1:$Z$65536,2,0)) -> 蘇鈺婷
A116: B27 | B116: 0.45 | C116: 6004 | D116: =IF(C116="","",VLOOKUP(C116,[1]名單!$A$1:$Z$65536,4,0)) -> 林內B | E116: =IF(C116="","",VLOOKUP(C116,[1]名單!$A$1:$Z$65536,2,0)) -> 蔡吟佳 | F116: 6028 | G116: =IF(F116="","",VLOOKUP(F116,[1]名單!$A$1:$Z$65536,4,0)) -> 九芎 | H116: =IF(F116="","",VLOOKUP(F116,[1]名單!$A$1:$Z$65536,2,0)) -> 紀惠心 | I116: 6040 | J116: =IF(I116="","",VLOOKUP(I116,[1]名單!$A$1:$Z$65536,4,0)) -> 石龜A | K116: =IF(I116="","",VLOOKUP(I116,[1]名單!$A$1:$Z$65536,2,0)) -> 黃珮珊 | L116: 6058 | M116: =IF(L116="","",VLOOKUP(L116,[1]名單!$A$1:$Z$65536,4,0)) -> 聯美 | N116: =IF(L116="","",VLOOKUP(L116,[1]名單!$A$1:$Z$65536,2,0)) -> 蘇韻萱
A117: B28 | B117: 0.45416667 | C117: 6005 | D117: =IF(C117="","",VLOOKUP(C117,[1]名單!$A$1:$Z$65536,4,0)) -> 林內B | E117: =IF(C117="","",VLOOKUP(C117,[1]名單!$A$1:$Z$65536,2,0)) -> 蔡逸芯 | F117: 6029 | G117: =IF(F117="","",VLOOKUP(F117,[1]名單!$A$1:$Z$65536,4,0)) -> 九芎 | H117: =IF(F117="","",VLOOKUP(F117,[1]名單!$A$1:$Z$65536,2,0)) -> 蔡佩娟 | I117: 6041 | J117: =IF(I117="","",VLOOKUP(I117,[1]名單!$A$1:$Z$65536,4,0)) -> 石龜A | K117: =IF(I117="","",VLOOKUP(I117,[1]名單!$A$1:$Z$65536,2,0)) -> 黃郁晴 | L117: 6059 | M117: =IF(L117="","",VLOOKUP(L117,[1]名單!$A$1:$Z$65536,4,0)) -> 聯美 | N117: =IF(L117="","",VLOOKUP(L117,[1]名單!$A$1:$Z$65536,2,0)) -> 謝采穎
A118: B29 | B118: 0.45833333 | C118: 6006 | D118: =IF(C118="","",VLOOKUP(C118,[1]名單!$A$1:$Z$65536,4,0)) -> 林內B | E118: =IF(C118="","",VLOOKUP(C118,[1]名單!$A$1:$Z$65536,2,0)) -> 陳雯琪 | F118: 6030 | G118: =IF(F118="","",VLOOKUP(F118,[1]名單!$A$1:$Z$65536,4,0)) -> 九芎 | H118: =IF(F118="","",VLOOKUP(F118,[1]名單!$A$1:$Z$65536,2,0)) -> 許嘉穎 | I118: 6048 | J118: =IF(I118="","",VLOOKUP(I118,[1]名單!$A$1:$Z$65536,4,0)) -> 僑真 | K118: =IF(I118="","",VLOOKUP(I118,[1]名單!$A$1:$Z$65536,2,0)) -> 陳芊豫 | L118: 6060 | M118: =IF(L118="","",VLOOKUP(L118,[1]名單!$A$1:$Z$65536,4,0)) -> 聯美 | N118: =IF(L118="","",VLOOKUP(L118,[1]名單!$A$1:$Z$65536,2,0)) -> 陳婕妤
A119: B30 | B119: 0.4625 | C119: 6007 | D119: =IF(C119="","",VLOOKUP(C119,[1]名單!$A$1:$Z$65536,4,0)) -> 石龜B | E119: =IF(C119="","",VLOOKUP(C119,[1]名單!$A$1:$Z$65536,2,0)) -> 李書妤 | F119: 6019 | G119: =IF(F119="","",VLOOKUP(F119,[1]名單!$A$1:$Z$65536,4,0)) -> 林內A | H119: =IF(F119="","",VLOOKUP(F119,[1]名單!$A$1:$Z$65536,2,0)) -> 吳子絃 | I119: 6043 | J119: =IF(I119="","",VLOOKUP(I119,[1]名單!$A$1:$Z$65536,4,0)) -> 僑真 | K119: =IF(I119="","",VLOOKUP(I119,[1]名單!$A$1:$Z$65536,2,0)) -> 江詠綺 | L119: 6061 | M119: =IF(L119="","",VLOOKUP(L119,[1]名單!$A$1:$Z$65536,4,0)) -> 宏崙 | N119: =IF(L119="","",VLOOKUP(L119,[1]名單!$A$1:$Z$65536,2,0)) -> 吳旻芯
A120: B31 | B120: 0.46666667 | C120: 6008 | D120: =IF(C120="","",VLOOKUP(C120,[1]名單!$A$1:$Z$65536,4,0)) -> 石龜B | E120: =IF(C120="","",VLOOKUP(C120,[1]名單!$A$1:$Z$65536,2,0)) -> 沈佳芯 | F120: 6020 | G120: =IF(F120="","",VLOOKUP(F120,[1]名單!$A$1:$Z$65536,4,0)) -> 林內A | H120: =IF(F120="","",VLOOKUP(F120,[1]名單!$A$1:$Z$65536,2,0)) -> 張姿婷 | I120: 6044 | J120: =IF(I120="","",VLOOKUP(I120,[1]名單!$A$1:$Z$65536,4,0)) -> 僑真 | K120: =IF(I120="","",VLOOKUP(I120,[1]名單!$A$1:$Z$65536,2,0)) -> 沈家瑜 | L120: 6062 | M120: =IF(L120="","",VLOOKUP(L120,[1]名單!$A$1:$Z$65536,4,0)) -> 宏崙 | N120: =IF(L120="","",VLOOKUP(L120,[1]名單!$A$1:$Z$65536,2,0)) -> 周文心
...

Sheet 賽程表2
A1: 請注意本次比賽地點改在林內鄉義峰高中 請不要跑錯地方了
A2: 104年春季縣長盃木球賽賽程表
A3: 日 期 | C3: 104年4月17日（星期五）A場地
A4: 場次 | B4: 時間 | C4: 選 手 名 單
A5: 9 | B5: 組別 | D5: =VLOOKUP(A5,[1]組別!$A$1:$AK$65536,2,0) -> 國中男子組 | P5: 裁判
A6: A1 | B6: 0.33333333 | C6: 2001 | D6: =IF(C6="","",VLOOKUP(C6,[1]名單!$A$1:$Z$65536,4,0)) -> 大埤B | E6: =IF(C6="","",VLOOKUP(C6,[1]名單!$A$1:$Z$65536,2,0)) -> 吳信願 | F6: 2025 | G6: =IF(F6="","",VLOOKUP(F6,[1]名單!$A$1:$Z$65536,4,0)) -> 林內B | H6: =IF(F6="","",VLOOKUP(F6,[1]名單!$A$1:$Z$65536,2,0)) -> 丁翊軒 | I6: 2049 | J6: =IF(I6="","",VLOOKUP(I6,[1]名單!$A$1:$Z$65536,4,0)) -> 東和A | K6: =IF(I6="","",VLOOKUP(I6,[1]名單!$A$1:$Z$65536,2,0)) -> 林哲宇 | L6: 2073 | M6: =IF(L6="","",VLOOKUP(L6,[1]名單!$A$1:$Z$65536,4,0)) -> 淵明A | N6: =IF(L6="","",VLOOKUP(L6,[1]名單!$A$1:$Z$65536,2,0)) -> 張宏毅 | P6: =IF(O6="","",VLOOKUP(O6,[1]名單!$A$1:$Z$65536,2,0))
A7: A2 | B7: 0.3375 | C7: 2002 | D7: =IF(C7="","",VLOOKUP(C7,[1]名單!$A$1:$Z$65536,4,0)) -> 大埤B | E7: =IF(C7="","",VLOOKUP(C7,[1]名單!$A$1:$Z$65536,2,0)) -> 張珈銘 | F7: 2026 | G7: =IF(F7="","",VLOOKUP(F7,[1]名單!$A$1:$Z$65536,4,0)) -> 林內B | H7: =IF(F7="","",VLOOKUP(F7,[1]名單!$A$1:$Z$65536,2,0)) -> 李承翰 | I7: 2050 | J7: =IF(I7="","",VLOOKUP(I7,[1]名單!$A$1:$Z$65536,4,0)) -> 東和A | K7: =IF(I7="","",VLOOKUP(I7,[1]名單!$A$1:$Z$65536,2,0)) -> 林澤浤 | L7: 2074 | M7: =IF(L7="","",VLOOKUP(L7,[1]名單!$A$1:$Z$65536,4,0)) -> 淵明A | N7: =IF(L7="","",VLOOKUP(L7,[1]名單!$A$1:$Z$65536,2,0)) -> 張景評 | P7: =IF(O7="","",VLOOKUP(O7,[1]名單!$A$1:$Z$65536,2,0))
A8: A3 | B8: 0.34166667 | C8: 2003 | D8: =IF(C8="","",VLOOKUP(C8,[1]名單!$A$1:$Z$65536,4,0)) -> 大埤B | E8: =IF(C8="","",VLOOKUP(C8,[1]名單!$A$1:$Z$65536,2,0)) -> 徐宥為 | F8: 2027 | G8: =IF(F8="","",VLOOKUP(F8,[1]名單!$A$1:$Z$65536,4,0)) -> 林內B | H8: =IF(F8="","",VLOOKUP(F8,[1]名單!$A$1:$Z$65536,2,0)) -> 林松儒 | I8: 2051 | J8: =IF(I8="","",VLOOKUP(I8,[1]名單!$A$1:$Z$65536,4,0)) -> 東和A | K8: =IF(I8="","",VLOOKUP(I8,[1]名單!$A$1:$Z$65536,2,0)) -> 陳宏瑋 | L8: 2075 | M8: =IF(L8="","",VLOOKUP(L8,[1]名單!$A$1:$Z$65536,4,0)) -> 淵明A | N8: =IF(L8="","",VLOOKUP(L8,[1]名單!$A$1:$Z$65536,2,0)) -> 張智揚 | P8: =IF(O8="","",VLOOKUP(O8,[1]名單!$A$1:$Z$65536,2,0))
A9: A4 | B9: 0.34583333 | C9: 2004 | D9: =IF(C9="","",VLOOKUP(C9,[1]名單!$A$1:$Z$65536,4,0)) -> 大埤B | E9: =IF(C9="","",VLOOKUP(C9,[1]名單!$A$1:$Z$65536,2,0)) -> 蔡世偉 | F9: 2028 | G9: =IF(F9="","",VLOOKUP(F9,[1]名單!$A$1:$Z$65536,4,0)) -> 林內B | H9: =IF(F9="","",VLOOKUP(F9,[1]名單!$A$1:$Z$65536,2,0)) -> 莊吉峯 | I9: 2052 | J9: =IF(I9="","",VLOOKUP(I9,[1]名單!$A$1:$Z$65536,4,0)) -> 東和A | K9: =IF(I9="","",VLOOKUP(I9,[1]名單!$A$1:$Z$65536,2,0)) -> 陳書晟 | L9: 2076 | M9: =IF(L9="","",VLOOKUP(L9,[1]名單!$A$1:$Z$65536,4,0)) -> 淵明A | N9: =IF(L9="","",VLOOKUP(L9,[1]名單!$A$1:$Z$65536,2,0)) -> 蘇郁翔 | P9: =IF(O9="","",VLOOKUP(O9,[1]名單!$A$1:$Z$65536,2,0))
A10: A5 | B10: 0.35 | C10: 2005 | D10: =IF(C10="","",VLOOKUP(C10,[1]名單!$A$1:$Z$65536,4,0)) -> 大埤B | E10: =IF(C10="","",VLOOKUP(C10,[1]名單!$A$1:$Z$65536,2,0)) -> 蕭文德 | F10: 2029 | G10: =IF(F10="","",VLOOKUP(F10,[1]名單!$A$1:$Z$65536,4,0)) -> 林內B | H10: =IF(F10="","",VLOOKUP(F10,[1]名單!$A$1:$Z$65536,2,0)) -> 賴以恩 | I10: 2053 | J10: =IF(I10="","",VLOOKUP(I10,[1]名單!$A$1:$Z$65536,4,0)) -> 東和A | K10: =IF(I10="","",VLOOKUP(I10,[1]名單!$A$1:$Z$65536,2,0)) -> 高博揚 | L10: 2077 | M10: =IF(L10="","",VLOOKUP(L10,[1]名單!$A$1:$Z$65536,4,0)) -> 淵明A | N10: =IF(L10="","",VLOOKUP(L10,[1]名單!$A$1:$Z$65536,2,0)) -> 鄭念宗 | P10: =IF(O10="","",VLOOKUP(O10,[1]名單!$A$1:$Z$65536,2,0))
A11: A6 | B11: 0.35416667 | C11: 2006 | D11: =IF(C11="","",VLOOKUP(C11,[1]名單!$A$1:$Z$65536,4,0)) -> 大埤B | E11: =IF(C11="","",VLOOKUP(C11,[1]名單!$A$1:$Z$65536,2,0)) -> 魏永安 | F11: 2030 | G11: =IF(F11="","",VLOOKUP(F11,[1]名單!$A$1:$Z$65536,4,0)) -> 林內B | H11: =IF(F11="","",VLOOKUP(F11,[1]名單!$A$1:$Z$65536,2,0)) -> 黃義墀 | I11: 2054 | J11: =IF(I11="","",VLOOKUP(I11,[1]名單!$A$1:$Z$65536,4,0)) -> 東和A | K11: =IF(I11="","",VLOOKUP(I11,[1]名單!$A$1:$Z$65536,2,0)) -> 高福隆 | L11: 2078 | M11: =IF(L11="","",VLOOKUP(L11,[1]名單!$A$1:$Z$65536,4,0)) -> 淵明A | N11: =IF(L11="","",VLOOKUP(L11,[1]名單!$A$1:$Z$65536,2,0)) -> 黃裕綸 | P11: =IF(O11="","",VLOOKUP(O11,[1]名單!$A$1:$Z$65536,2,0))
A12: A7 | B12: 0.35833333 | C12: 2007 | D12: =IF(C12="","",VLOOKUP(C12,[1]名單!$A$1:$Z$65536,4,0)) -> 東和B | E12: =IF(C12="","",VLOOKUP(C12,[1]名單!$A$1:$Z$65536,2,0)) -> 周佳毅 | F12: 2031 | G12: =IF(F12="","",VLOOKUP(F12,[1]名單!$A$1:$Z$65536,4,0)) -> 東明 | H12: =IF(F12="","",VLOOKUP(F12,[1]名單!$A$1:$Z$65536,2,0)) -> 劉政佑 | I12: 2055 | J12: =IF(I12="","",VLOOKUP(I12,[1]名單!$A$1:$Z$65536,4,0)) -> 馬光A | K12: =IF(I12="","",VLOOKUP(I12,[1]名單!$A$1:$Z$65536,2,0)) -> 吳政翰 | L12: 2109 | M12: =IF(L12="","",VLOOKUP(L12,[1]名單!$A$1:$Z$65536,4,0)) -> 淵明B | N12: =IF(L12="","",VLOOKUP(L12,[1]名單!$A$1:$Z$65536,2,0)) -> 林易信 | P12: =IF(O12="","",VLOOKUP(O12,[1]名單!$A$1:$Z$65536,2,0))
A13: A8 | B13: 0.3625 | C13: 2008 | D13: =IF(C13="","",VLOOKUP(C13,[1]名單!$A$1:$Z$65536,4,0)) -> 東和B | E13: =IF(C13="","",VLOOKUP(C13,[1]名單!$A$1:$Z$65536,2,0)) -> 張朝評 | F13: 2032 | G13: =IF(F13="","",VLOOKUP(F13,[1]名單!$A$1:$Z$65536,4,0)) -> 東明 | H13: =IF(F13="","",VLOOKUP(F13,[1]名單!$A$1:$Z$65536,2,0)) -> 張峻維 | I13: 2056 | J13: =IF(I13="","",VLOOKUP(I13,[1]名單!$A$1:$Z$65536,4,0)) -> 馬光A | K13: =IF(I13="","",VLOOKUP(I13,[1]名單!$A$1:$Z$65536,2,0)) -> 吳瑞文 | L13: 2110 | M13: =IF(L13="","",VLOOKUP(L13,[1]名單!$A$1:$Z$65536,4,0)) -> 淵明B | N13: =IF(L13="","",VLOOKUP(L13,[1]名單!$A$1:$Z$65536,2,0)) -> 蘇弘展 | P13: =IF(O13="","",VLOOKUP(O13,[1]名單!$A$1:$Z$65536,2,0))
A14: A9 | B14: 0.36666667 | C14: 2009 | D14: =IF(C14="","",VLOOKUP(C14,[1]名單!$A$1:$Z$65536,4,0)) -> 東和B | E14: =IF(C14="","",VLOOKUP(C14,[1]名單!$A$1:$Z$65536,2,0)) -> 戴靖霖 | F14: 2033 | G14: =IF(F14="","",VLOOKUP(F14,[1]名單!$A$1:$Z$65536,4,0)) -> 東明 | H14: =IF(F14="","",VLOOKUP(F14,[1]名單!$A$1:$Z$65536,2,0)) -> 朱高明 | I14: 2057 | J14: =IF(I14="","",VLOOKUP(I14,[1]名單!$A$1:$Z$65536,4,0)) -> 馬光A | K14: =IF(I14="","",VLOOKUP(I14,[1]名單!$A$1:$Z$65536,2,0)) -> 林承意 | L14: 2111 | M14: =IF(L14="","",VLOOKUP(L14,[1]名單!$A$1:$Z$65536,4,0)) -> 淵明B | N14: =IF(L14="","",VLOOKUP(L14,[1]名單!$A$1:$Z$65536,2,0)) -> 鄭智勝 | P14: =IF(O14="","",VLOOKUP(O14,[1]名單!$A$1:$Z$65536,2,0))
A15: A10 | B15: 0.37083333 | C15: 2010 | D15: =IF(C15="","",VLOOKUP(C15,[1]名單!$A$1:$Z$65536,4,0)) -> 東和B | E15: =IF(C15="","",VLOOKUP(C15,[1]名單!$A$1:$Z$65536,2,0)) -> 鐘明璋 | F15: 2034 | G15: =IF(F15="","",VLOOKUP(F15,[1]名單!$A$1:$Z$65536,4,0)) -> 東明 | H15: =IF(F15="","",VLOOKUP(F15,[1]名單!$A$1:$Z$65536,2,0)) -> 陳靖羽 | I15: 2058 | J15: =IF(I15="","",VLOOKUP(I15,[1]名單!$A$1:$Z$65536,4,0)) -> 馬光A | K15: =IF(I15="","",VLOOKUP(I15,[1]名單!$A$1:$Z$65536,2,0)) -> 陳秉宏 | L15: 2103 | M15: =IF(L15="","",VLOOKUP(L15,[1]名單!$A$1:$Z$65536,4,0)) -> 林內D | N15: =IF(L15="","",VLOOKUP(L15,[1]名單!$A$1:$Z$65536,2,0)) -> 蔡柏慶 | P15: =IF(O15="","",VLOOKUP(O15,[1]名單!$A$1:$Z$65536,2,0))
A16: A11 | B16: 0.375 | C16: 2011 | D16: =IF(C16="","",VLOOKUP(C16,[1]名單!$A$1:$Z$65536,4,0)) -> 東和B | E16: =IF(C16="","",VLOOKUP(C16,[1]名單!$A$1:$Z$65536,2,0)) -> 陳垣亘 | F16: 2037 | G16: =IF(F16="","",VLOOKUP(F16,[1]名單!$A$1:$Z$65536,4,0)) -> 大埤A | H16: =IF(F16="","",VLOOKUP(F16,[1]名單!$A$1:$Z$65536,2,0)) -> 劉哲嘉 | I16: 2059 | J16: =IF(I16="","",VLOOKUP(I16,[1]名單!$A$1:$Z$65536,4,0)) -> 馬光A | K16: =IF(I16="","",VLOOKUP(I16,[1]名單!$A$1:$Z$65536,2,0)) -> 黃偉傑 | L16: 2104 | M16: =IF(L16="","",VLOOKUP(L16,[1]名單!$A$1:$Z$65536,4,0)) -> 林內D | N16: =IF(L16="","",VLOOKUP(L16,[1]名單!$A$1:$Z$65536,2,0)) -> 陳俊逸 | P16: =IF(O16="","",VLOOKUP(O16,[1]名單!$A$1:$Z$65536,2,0))
A17: A12 | B17: 0.37916667 | C17: 2012 | D17: =IF(C17="","",VLOOKUP(C17,[1]名單!$A$1:$Z$65536,4,0)) -> 東和B | E17: =IF(C17="","",VLOOKUP(C17,[1]名單!$A$1:$Z$65536,2,0)) -> 高民峻 | F17: 2038 | G17: =IF(F17="","",VLOOKUP(F17,[1]名單!$A$1:$Z$65536,4,0)) -> 大埤A | H17: =IF(F17="","",VLOOKUP(F17,[1]名單!$A$1:$Z$65536,2,0)) -> 劉志威 | I17: 2060 | J17: =IF(I17="","",VLOOKUP(I17,[1]名單!$A$1:$Z$65536,4,0)) -> 馬光A | K17: =IF(I17="","",VLOOKUP(I17,[1]名單!$A$1:$Z$65536,2,0)) -> 黃元龍 | L17: 2105 | M17: =IF(L17="","",VLOOKUP(L17,[1]名單!$A$1:$Z$65536,4,0)) -> 林內D | N17: =IF(L17="","",VLOOKUP(L17,[1]名單!$A$1:$Z$65536,2,0)) -> 陳樞樺 | P17: =IF(O17="","",VLOOKUP(O17,[1]名單!$A$1:$Z$65536,2,0))
... A24: A19 | B24: 0.40833333 | C24: 2020 | D24: =IF(C24="","",VLOOKUP(C24,[1]名單!$A$1:$Z$65536,4,0)) -> 石榴B | E24: =IF(C24="","",VLOOKUP(C24,[1]名單!$A$1:$Z$65536,2,0)) -> 李元倉 | F24: 2045 | G24: =IF(F24="","",VLOOKUP(F24,[1]名單!$A$1:$Z$65536,4,0)) -> 元長 | H24: =IF(F24="","",VLOOKUP(F24,[1]名單!$A$1:$Z$65536,2,0)) -> 李化郁 | I24: 2067 | J24: =IF(I24="","",VLOOKUP(I24,[1]名單!$A$1:$Z$65536,4,0)) -> 林內A | K24: =IF(I24="","",VLOOKUP(I24,[1]名單!$A$1:$Z$65536,2,0)) -> 張介皇 | L24: 2085 | M24: =IF(L24="","",VLOOKUP(L24,[1]名單!$A$1:$Z$65536,4,0)) -> 口湖 | N24: =IF(L24="","",VLOOKUP(L24,[1]名單!$A$1:$Z$65536,2,0)) -> 呂松穎 | P24: =IF(O24="","",VLOOKUP(O24,[1]名單!$A$1:$Z$65536,2,0))
A25: A20 | B25: 0.4125 | C25: 2021 | D25: =IF(C25="","",VLOOKUP(C25,[1]名單!$A$1:$Z$65536,4,0)) -> 石榴B | E25: =IF(C25="","",VLOOKUP(C25,[1]名單!$A$1:$Z$65536,2,0)) -> 楊詠宏 | F25: 2046 | G25: =IF(F25="","",VLOOKUP(F25,[1]名單!$A$1:$Z$65536,4,0)) -> 元長 | H25: =IF(F25="","",VLOOKUP(F25,[1]名單!$A$1:$Z$65536,2,0)) -> 李星緯 | I25: 2068 | J25: =IF(I25="","",VLOOKUP(I25,[1]名單!$A$1:$Z$65536,4,0)) -> 林內A | K25: =IF(I25="","",VLOOKUP(I25,[1]名單!$A$1:$Z$65536,2,0)) -> 張富豪 | L25: 2086 | M25: =IF(L25="","",VLOOKUP(L25,[1]名單!$A$1:$Z$65536,4,0)) -> 口湖 | N25: =IF(L25="","",VLOOKUP(L25,[1]名單!$A$1:$Z$65536,2,0)) -> 曾紹群
A26: A21 | B26: 0.41666667 | C26: 2022 | D26: =IF(C26="","",VLOOKUP(C26,[1]名單!$A$1:$Z$65536,4,0)) -> 石榴B | E26: =IF(C26="","",VLOOKUP(C26,[1]名單!$A$1:$Z$65536,2,0)) -> 蔡駿忠 | F26: 2047 | G26: =IF(F26="","",VLOOKUP(F26,[1]名單!$A$1:$Z$65536,4,0)) -> 元長 | H26: =IF(F26="","",VLOOKUP(F26,[1]名單!$A$1:$Z$65536,2,0)) -> 林榮盛 | I26: 2069 | J26: =IF(I26="","",VLOOKUP(I26,[1]名單!$A$1:$Z$65536,4,0)) -> 林內A | K26: =IF(I26="","",VLOOKUP(I26,[1]名單!$A$1:$Z$65536,2,0)) -> 林季磊 | L26: 2087 | M26: =IF(L26="","",VLOOKUP(L26,[1]名單!$A$1:$Z$65536,4,0)) -> 口湖 | N26: =IF(L26="","",VLOOKUP(L26,[1]名單!$A$1:$Z$65536,2,0)) -> 林俊吉
A27: A22 | B27: 0.42083333 | C27: 2023 | D27: =IF(C27="","",VLOOKUP(C27,[1]名單!$A$1:$Z$65536,4,0)) -> 石榴B | E27: =IF(C27="","",VLOOKUP(C27,[1]名單!$A$1:$Z$65536,2,0)) -> 詹泓穎 | F27: 2048 | G27: =IF(F27="","",VLOOKUP(F27,[1]名單!$A$1:$Z$65536,4,0)) -> 元長 | H27: =IF(F27="","",VLOOKUP(F27,[1]名單!$A$1:$Z$65536,2,0)) -> 蔡俊龍 | I27: 2070 | J27: =IF(I27="","",VLOOKUP(I27,[1]名單!$A$1:$Z$65536,4,0)) -> 林內A | K27: =IF(I27="","",VLOOKUP(I27,[1]名單!$A$1:$Z$65536,2,0)) -> 林晉融 | M27: =IF(L27="","",VLOOKUP(L27,[1]名單!$A$1:$Z$65536,4,0)) | N27: =IF(L27="","",VLOOKUP(L27,[1]名單!$A$1:$Z$65536,2,0))
A28: 11 | B28: 組別 | D28: =VLOOKUP(A28,[1]組別!$A$1:$AK$65536,2,0) -> 國小六年級男童組 | P28: 裁判
A29: A23 | B29: 0.425 | C29: 1601 | D29: =IF(C29="","",VLOOKUP(C29,[1]名單!$A$1:$Z$65536,4,0)) -> 石榴B | E29: =IF(C29="","",VLOOKUP(C29,[1]名單!$A$1:$Z$65536,2,0)) -> 余泊恩 | F29: 1607 | G29: =IF(F29="","",VLOOKUP(F29,[1]名單!$A$1:$Z$65536,4,0)) -> 溝壩 | H29: =IF(F29="","",VLOOKUP(F29,[1]名單!$A$1:$Z$65536,2,0)) -> 劉哲維 | I29: 1619 | J29: =IF(I29="","",VLOOKUP(I29,[1]名單!$A$1:$Z$65536,4,0)) -> 林內 | K29: =IF(I29="","",VLOOKUP(I29,[1]名單!$A$1:$Z$65536,2,0)) -> 張凱翔 | L29: 1625 | M29: =IF(L29="","",VLOOKUP(L29,[1]名單!$A$1:$Z$65536,4,0)) -> 重興 | N29: =IF(L29="","",VLOOKUP(L29,[1]名單!$A$1:$Z$65536,2,0)) -> 吳致緯 | P29: =IF(O29="","",VLOOKUP(O29,[1]名單!$A$1:$Z$65536,2,0))
A30: A24 | B30: 0.42916667 | C30: 1602 | D30: =IF(C30="","",VLOOKUP(C30,[1]名單!$A$1:$Z$65536,4,0)) -> 石榴B | E30: =IF(C30="","",VLOOKUP(C30,[1]名單!$A$1:$Z$65536,2,0)) -> 張宸豪 | F30: 1608 | G30: =IF(F30="","",VLOOKUP(F30,[1]名單!$A$1:$Z$65536,4,0)) -> 溝壩 | H30: =IF(F30="","",VLOOKUP(F30,[1]名單!$A$1:$Z$65536,2,0)) -> 周紹霆 | I30: 1620 | J30: =IF(I30="","",VLOOKUP(I30,[1]名單!$A$1:$Z$65536,4,0)) -> 林內 | K30: =IF(I30="","",VLOOKUP(I30,[1]名單!$A$1:$Z$65536,2,0)) -> 張哲愿 | L30: 1626 | M30: =IF(L30="","",VLOOKUP(L30,[1]名單!$A$1:$Z$65536,4,0)) -> 重興 | N30: =IF(L30="","",VLOOKUP(L30,[1]名單!$A$1:$Z$65536,2,0)) -> 張錦祥 | P30: =IF(O30="","",VLOOKUP(O30,[1]名單!$A$1:$Z$65536,2,0))
A31: A25 | B31: 0.43333333 | C31: 1603 | D31: =IF(C31="","",VLOOKUP(C31,[1]名單!$A$1:$Z$65536,4,0)) -> 石榴B | E31: =IF(C31="","",VLOOKUP(C31,[1]名單!$A$1:$Z$65536,2,0)) -> 張慶元 | F31: 1609 | G31: =IF(F31="","",VLOOKUP(F31,[1]名單!$A$1:$Z$65536,4,0)) -> 溝壩 | H31: =IF(F31="","",VLOOKUP(F31,[1]名單!$A$1:$Z$65536,2,0)) -> 張凱閔 | I31: 1621 | J31: =IF(I31="","",VLOOKUP(I31,[1]名單!$A$1:$Z$65536,4,0)) -> 林內 | K31: =IF(I31="","",VLOOKUP(I31,[1]名單!$A$1:$Z$65536,2,0)) -> 張誠哲 | L31: 1627 | M31: =IF(L31="","",VLOOKUP(L31,[1]名單!$A$1:$Z$65536,4,0)) -> 重興 | N31: =IF(L31="","",VLOOKUP(L31,[1]名單!$A$1:$Z$65536,2,0)) -> 戴育宸 | P31: =IF(O31="","",VLOOKUP(O31,[1]名單!$A$1:$Z$65536,2,0))
A32: A26 | B32: 0.4375 | C32: 1604 | D32: =IF(C32="","",VLOOKUP(C32,[1]名單!$A$1:$Z$65536,4,0)) -> 石榴B | E32: =IF(C32="","",VLOOKUP(C32,[1]名單!$A$1:$Z$65536,2,0)) -> 張永豪 | F32: 1610 | G32: =IF(F32="","",VLOOKUP(F32,[1]名單!$A$1:$Z$65536,4,0)) -> 溝壩 | H32: =IF(F32="","",VLOOKUP(F32,[1]名單!$A$1:$Z$65536,2,0)) -> 林國智 | I32: 1622 | J32: =IF(I32="","",VLOOKUP(I32,[1]名單!$A$1:$Z$65536,4,0)) -> 林內 | K32: =IF(I32="","",VLOOKUP(I32,[1]名單!$A$1:$Z$65536,2,0)) -> 林新佑 | L32: 1628 | M32: =IF(L32="","",VLOOKUP(L32,[1]名單!$A$1:$Z$65536,4,0)) -> 重興 | N32: =IF(L32="","",VLOOKUP(L32,[1]名單!$A$1:$Z$65536,2,0)) -> 戴辰旭 | P32: =IF(O32="","",VLOOKUP(O32,[1]名單!$A$1:$Z$65536,2,0))
A33: A27 | B33: 0.44166667 | C33: 1605 | D33: =IF(C33="","",VLOOKUP(C33,[1]名單!$A$1:$Z$65536,4,0)) -> 石榴B | E33: =IF(C33="","",VLOOKUP(C33,[1]名單!$A$1:$Z$65536,2,0)) -> 林達崙 | F33: 1631 | G33: =IF(F33="","",VLOOKUP(F33,[1]名單!$A$1:$Z$65536,4,0)) -> 九芎 | H33: =IF(F33="","",VLOOKUP(F33,[1]名單!$A$1:$Z$65536,2,0)) -> 張晉愷 | I33: 1623 | J33: =IF(I33="","",VLOOKUP(I33,[1]名單!$A$1:$Z$65536,4,0)) -> 林內 | K33: =IF(I33="","",VLOOKUP(I33,[1]名單!$A$1:$Z$65536,2,0)) -> 蔡宗廷 | L33: 1629 | M33: =IF(L33="","",VLOOKUP(L33,[1]名單!$A$1:$Z$65536,4,0)) -> 重興 | N33: =IF(L33="","",VLOOKUP(L33,[1]名單!$A$1:$Z$65536,2,0)) -> 朱又齊 | P33: =IF(O33="","",VLOOKUP(O33,[1]名單!$A$1:$Z$65536,2,0))
A34: A28 | B34: 0.44583333 | C34: 1606 | D34: =IF(C34="","",VLOOKUP(C34,[1]名單!$A$1:$Z$65536,4,0)) -> 石榴B | E34: =IF(C34="","",VLOOKUP(C34,[1]名單!$A$1:$Z$65536,2,0)) -> 王俊麟 | F34: 1632 | G34: =IF(F34="","",VLOOKUP(F34,[1]名單!$A$1:$Z$65536,4,0)) -> 九芎 | H34: =IF(F34="","",VLOOKUP(F34,[1]名單!$A$1:$Z$65536,2,0)) -> 林宏諺 | I34: 1624 | J34: =IF(I34="","",VLOOKUP(I34,[1]名單!$A$1:$Z$65536,4,0)) -> 林內 | K34: =IF(I34="","",VLOOKUP(I34,[1]名單!$A$1:$Z$65536,2,0)) -> 陳致憲 | L34: 1630 | M34: =IF(L34="","",VLOOKUP(L34,[1]名單!$A$1:$Z$65536,4,0)) -> 重興 | N34: =IF(L34="","",VLOOKUP(L34,[1]名單!$A$1:$Z$65536,2,0)) -> 鄭延彬 | P34: =IF(O34="","",VLOOKUP(O34,[1]名單!$A$1:$Z$65536,2,0))
A35: A29 | B35: 0.45 | C35: 1613 | D35: =IF(C35="","",VLOOKUP(C35,[1]名單!$A$1:$Z$65536,4,0)) -> 石榴A | E35: =IF(C35="","",VLOOKUP(C35,[1]名單!$A$1:$Z$65536,2,0)) -> 何仁傑 | F35: 1633 | G35: =IF(F35="","",VLOOKUP(F35,[1]名單!$A$1:$Z$65536,4,0)) -> 九芎 | H35: =IF(F35="","",VLOOKUP(F35,[1]名單!$A$1:$Z$65536,2,0)) -> 林鈺翔 | I35: 1637 | J35: =IF(I35="","",VLOOKUP(I35,[1]名單!$A$1:$Z$65536,4,0)) -> 民生 | K35: =IF(I35="","",VLOOKUP(I35,[1]名單!$A$1:$Z$65536,2,0)) -> 施仁傑 | L35: 1679 | M35: =IF(L35="","",VLOOKUP(L35,[1]名單!$A$1:$Z$65536,4,0)) -> 重興B | N35: =IF(L35="","",VLOOKUP(L35,[1]名單!$A$1:$Z$65536,2,0)) -> 廖聖祐 | P35: =IF(O35="","",VLOOKUP(O35,[1]名單!$A$1:$Z$65536,2,0))
A36: A30 | B36: 0.45416667 | C36: 1614 | D36: =IF(C36="","",VLOOKUP(C36,[1]名單!$A$1:$Z$65536,4,0)) -> 石榴A | E36: =IF(C36="","",VLOOKUP(C36,[1]名單!$A$1:$Z$65536,2,0)) -> 姚宏燁 | F36: 1634 | G36: =IF(F36="","",VLOOKUP(F36,[1]名單!$A$1:$Z$65536,4,0)) -> 九芎 | H36: =IF(F36="","",VLOOKUP(F36,[1]名單!$A$1:$Z$65536,2,0)) -> 蔡承翰 | I36: 1638 | J36: =IF(I36="","",VLOOKUP(I36,[1]名單!$A$1:$Z$65536,4,0)) -> 民生 | K36: =IF(I36="","",VLOOKUP(I36,[1]名單!$A$1:$Z$65536,2,0)) -> 施仁翔 | L36: 1680 | M36: =IF(L36="","",VLOOKUP(L36,[1]名單!$A$1:$Z$65536,4,0)) -> 重興B | N36: =IF(L36="","",VLOOKUP(L36,[1]名單!$A$1:$Z$65536,2,0)) -> 張桐嘉 | P36: =IF(O36="","",VLOOKUP(O36,[1]名單!$A$1:$Z$65536,2,0))
A37: A31 | B37: 0.45833333 | C37: 1615 | D37: =IF(C37="","",VLOOKUP(C37,[1]名單!$A$1:$Z$65536,4,0)) -> 石榴A | E37: =IF(C37="","",VLOOKUP(C37,[1]名單!$A$1:$Z$65536,2,0)) -> 張惟堯 | F37: 1635 | G37: =IF(F37="","",VLOOKUP(F37,[1]名單!$A$1:$Z$65536,4,0)) -> 九芎 | H37: =IF(F37="","",VLOOKUP(F37,[1]名單!$A$1:$Z$65536,2,0)) -> 蔡欣祐 | I37: 1639 | J37: =IF(I37="","",VLOOKUP(I37,[1]名單!$A$1:$Z$65536,4,0)) -> 民生 | K37: =IF(I37="","",VLOOKUP(I37,[1]名單!$A$1:$Z$65536,2,0)) -> 林廷諺 | L37: 1645 | M37: =IF(L37="","",VLOOKUP(L37,[1]名單!$A$1:$Z$65536,4,0)) -> 聯美 | N37: =IF(L37="","",VLOOKUP(L37,[1]名單!$A$1:$Z$65536,2,0)) -> 陳政楷 | P37: =IF(O37="","",VLOOKUP(O37,[1]名單!$A$1:$Z$65536,2,0))
A38: A32 | B38: 0.4625 | C38: 1616 | D38: =IF(C38="","",VLOOKUP(C38,[1]名單!$A$1:$Z$65536,4,0)) -> 石榴A | E38: =IF(C38="","",VLOOKUP(C38,[1]名單!$A$1:$Z$65536,2,0)) -> 張閔翔 | F38: 1636 | G38: =IF(F38="","",VLOOKUP(F38,[1]名單!$A$1:$Z$65536,4,0)) -> 九芎 | H38: =IF(F38="","",VLOOKUP(F38,[1]名單!$A$1:$Z$65536,2,0)) -> 陳立昌 | I38: 1640 | J38: =IF(I38="","",VLOOKUP(I38,[1]名單!$A$1:$Z$65536,4,0)) -> 民生 | K38: =IF(I38="","",VLOOKUP(I38,[1]名單!$A$1:$Z$65536,2,0)) -> 林詠軒 | L38: 1646 | M38: =IF(L38="","",VLOOKUP(L38,[1]名單!$A$1:$Z$65536,4,0)) -> 聯美 | N38: =IF(L38="","",VLOOKUP(L38,[1]名單!$A$1:$Z$65536,2,0)) -> 顏茂峰 | P38: =IF(O38="","",VLOOKUP(O38,[1]名單!$A$1:$Z$65536,2,0))
A39: A33 | B39: 0.46666667 | C39: 1617 | D39: =IF(C39="","",VLOOKUP(C39,[1]名單!$A$1:$Z$65536,4,0)) -> 石榴A | E39: =IF(C39="","",VLOOKUP(C39,[1]名單!$A$1:$Z$65536,2,0)) -> 林致宇 | F39: 1655 | G39: =IF(F39="","",VLOOKUP(F39,[1]名單!$A$1:$Z$65536,4,0)) -> 中和 | H39: =IF(F39="","",VLOOKUP(F39,[1]名單!$A$1:$Z$65536,2,0)) -> 林冠宏 | I39: 1641 | J39: =IF(I39="","",VLOOKUP(I39,[1]名單!$A$1:$Z$65536,4,0)) -> 民生 | K39: =IF(I39="","",VLOOKUP(I39,[1]名單!$A$1:$Z$65536,2,0)) -> 王政雄 | L39: 1643 | M39: =IF(L39="","",VLOOKUP(L39,[1]名單!$A$1:$Z$65536,4,0)) -> 聯美 | N39: =IF(L39="","",VLOOKUP(L39,[1]名單!$A$1:$Z$65536,2,0)) -> 沈俊辰 | P39: =IF(O39="","",VLOOKUP(O39,[1]名單!$A$1:$Z$65536,2,0))
A40: A34 | B40: 0.47083333 | C40: 1618 | D40: =IF(C40="","",VLOOKUP(C40,[1]名單!$A$1:$Z$65536,4,0)) -> 石榴A | E40: =IF(C40="","",VLOOKUP(C40,[1]名單!$A$1:$Z$65536,2,0)) -> 陳俊源 | F40: 1656 | G40: =IF(F40="","",VLOOKUP(F40,[1]名單!$A$1:$Z$65536,4,0)) -> 中和 | H40: =IF(F40="","",VLOOKUP(F40,[1]名單!$A$1:$Z$65536,2,0)) -> 林坤正 | I40: 1642 | J40: =IF(I40="","",VLOOKUP(I40,[1]名單!$A$1:$Z$65536,4,0)) -> 民生 | K40: =IF(I40="","",VLOOKUP(I40,[1]名單!$A$1:$Z$65536,2,0)) -> 蔡景文 | L40: 1644 | M40: =IF(L40="","",VLOOKUP(L40,[1]名單!$A$1:$Z$65536,4,0)) -> 聯美 | N40: =IF(L40="","",VLOOKUP(L40,[1]名單!$A$1:$Z$65536,2,0)) -> 蘇威誠 | P40: =IF(O40="","",VLOOKUP(O40,[1]名單!$A$1:$Z$65536,2,0))
A41: A35 | B41: 0.475 | C41: 1649 | D41: =IF(C41="","",VLOOKUP(C41,[1]名單!$A$1:$Z$65536,4,0)) -> 宏崙 | E41: =IF(C41="","",VLOOKUP(C41,[1]名單!$A$1:$Z$65536,2,0)) -> 吳光仁 | F41: 1657 | G41: =IF(F41="","",VLOOKUP(F41,[1]名單!$A$1:$Z$65536,4,0)) -> 中和 | H41: =IF(F41="","",VLOOKUP(F41,[1]名單!$A$1:$Z$65536,2,0)) -> 林金成 | I41: 1661 | J41: =IF(I41="","",VLOOKUP(I41,[1]名單!$A$1:$Z$65536,4,0)) -> 信義 | K41: =IF(I41="","",VLOOKUP(I41,[1]名單!$A$1:$Z$65536,2,0)) -> 吳尚承 | L41: 1669 | M41: =IF(L41="","",VLOOKUP(L41,[1]名單!$A$1:$Z$65536,4,0)) -> 三和 | N41: =IF(L41="","",VLOOKUP(L41,[1]名單!$A$1:$Z$65536,2,0)) -> 廖郁威
A42: A36 | B42: 0.47916667 | C42: 1650 | D42: =IF(C42="","",VLOOKUP(C42,[1]名單!$A$1:$Z$65536,4,0)) -> 宏崙 | E42: =IF(C42="","",VLOOKUP(C42,[1]名單!$A$1:$Z$65536,2,0)) -> 吳宗樺 | F42: 1658 | G42: =IF(F42="","",VLOOKUP(F42,[1]名單!$A$1:$Z$65536,4,0)) -> 中和 | H42: =IF(F42="","",VLOOKUP(F42,[1]名單!$A$1:$Z$65536,2,0)) -> 蔡仁博 | I42: 1662 | J42: =IF(I42="","",VLOOKUP(I42,[1]名單!$A$1:$Z$65536,4,0)) -> 信義 | K42: =IF(I42="","",VLOOKUP(I42,[1]名單!$A$1:$Z$65536,2,0)) -> 吳承諭 | L42: 1670 | M42: =IF(L42="","",VLOOKUP(L42,[1]名單!$A$1:$Z$65536,4,0)) -> 三和 | N42: =IF(L42="","",VLOOKUP(L42,[1]名單!$A$1:$Z$65536,2,0)) -> 張峻瑋
A43: A37 | B43: 0.48333333 | C43: 1651 | D43: =IF(C43="","",VLOOKUP(C43,[1]名單!$A$1:$Z$65536,4,0)) -> 宏崙 | E43: =IF(C43="","",VLOOKUP(C43,[1]名單!$A$1:$Z$65536,2,0)) -> 吳睿祥 | F43: 1659 | G43: =IF(F43="","",VLOOKUP(F43,[1]名單!$A$1:$Z$65536,4,0)) -> 中和 | H43: =IF(F43="","",VLOOKUP(F43,[1]名單!$A$1:$Z$65536,2,0)) -> 蔡建庭 | I43: 1663 | J43: =IF(I43="","",VLOOKUP(I43,[1]名單!$A$1:$Z$65536,4,0)) -> 信義 | K43: =IF(I43="","",VLOOKUP(I43,[1]名單!$A$1:$Z$65536,2,0)) -> 吳振鴻 | L43: 1667 | M43: =IF(L43="","",VLOOKUP(L43,[1]名單!$A$1:$Z$65536,4,0)) -> 三和 | N43: =IF(L43="","",VLOOKUP(L43,[1]名單!$A$1:$Z$65536,2,0)) -> 廖威勝
A44: A38 | B44: 0.4875 | C44: 1652 | D44: =IF(C44="","",VLOOKUP(C44,[1]名單!$A$1:$Z$65536,4,0)) -> 宏崙 | E44: =IF(C44="","",VLOOKUP(C44,[1]名單!$A$1:$Z$65536,2,0)) -> 周文麒 | F44: 1660 | G44: =IF(F44="","",VLOOKUP(F44,[1]名單!$A$1:$Z$65536,4,0)) -> 中和 | H44: =IF(F44="","",VLOOKUP(F44,[1]名單!$A$1:$Z$65536,2,0)) -> 蔡明哲 | I44: 1664 | J44: =IF(I44="","",VLOOKUP(I44,[1]名單!$A$1:$Z$65536,4,0)) -> 信義 | K44: =IF(I44="","",VLOOKUP(I44,[1]名單!$A$1:$Z$65536,2,0)) -> 蔡奇峰 | L44: 1668 | M44: =IF(L44="","",VLOOKUP(L44,[1]名單!$A$1:$Z$65536,4,0)) -> 三和 | N44: =IF(L44="","",VLOOKUP(L44,[1]名單!$A$1:$Z$65536,2,0)) -> 廖銘展
A45: A39 | B45: 0.49166667 | C45: 1653 | D45: =IF(C45="","",VLOOKUP(C45,[1]名單!$A$1:$Z$65536,4,0)) -> 宏崙 | E45: =IF(C45="","",VLOOKUP(C45,[1]名單!$A$1:$Z$65536,2,0)) -> 朱翊豪 | F45: 1685 | G45: =IF(F45="","",VLOOKUP(F45,[1]名單!$A$1:$Z$65536,4,0)) -> 僑真 | H45: =IF(F45="","",VLOOKUP(F45,[1]名單!$A$1:$Z$65536,2,0)) -> 楊迪硯 | I45: 1665 | J45: =IF(I45="","",VLOOKUP(I45,[1]名單!$A$1:$Z$65536,4,0)) -> 信義 | K45: =IF(I45="","",VLOOKUP(I45,[1]名單!$A$1:$Z$65536,2,0)) -> 蔡宗桓 | L45: 1703 | M45: =IF(L45="","",VLOOKUP(L45,[1]名單!$A$1:$Z$65536,4,0)) -> 三和B | N45: =IF(L45="","",VLOOKUP(L45,[1]名單!$A$1:$Z$65536,2,0)) -> 許庭碩
A46: A40 | B46: 0.49583333 | C46: 1654 | D46: =IF(C46="","",VLOOKUP(C46,[1]名單!$A$1:$Z$65536,4,0)) -> 宏崙 | E46: =IF(C46="","",VLOOKUP(C46,[1]名單!$A$1:$Z$65536,2,0)) -> 王佩偉 | F46: 1697 | G46: =IF(F46="","",VLOOKUP(F46,[1]名單!$A$1:$Z$65536,4,0)) -> 大屯 | H46: =IF(F46="","",VLOOKUP(F46,[1]名單!$A$1:$Z$65536,2,0)) -> 陳志嘉 | I46: 1666 | J46: =IF(I46="","",VLOOKUP(I46,[1]名單!$A$1:$Z$65536,4,0)) -> 信義 | K46: =IF(I46="","",VLOOKUP(I46,[1]名單!$A$1:$Z$65536,2,0)) -> 黃明治 | L46: 1704 | M46: =IF(L46="","",VLOOKUP(L46,[1]名單!$A$1:$Z$65536,4,0)) -> 三和B | N46: =IF(L46="","",VLOOKUP(L46,[1]名單!$A$1:$Z$65536,2,0)) -> 廖家豪
A47: A41 | B47: 0.5 | C47: 1691 | D47: =IF(C47="","",VLOOKUP(C47,[1]名單!$A$1:$Z$65536,4,0)) -> 仁和 | E47: =IF(C47="","",VLOOKUP(C47,[1]名單!$A$1:$Z$65536,2,0)) -> 邱定宏 | F47: 1698 | G47: =IF(F47="","",VLOOKUP(F47,[1]名單!$A$1:$Z$65536,4,0)) -> 大屯 | H47: =IF(F47="","",VLOOKUP(F47,[1]名單!$A$1:$Z$65536,2,0)) -> 王名吉 | I47: 1673 | J47: =IF(I47="","",VLOOKUP(I47,[1]名單!$A$1:$Z$65536,4,0)) -> 華山 | K47: =IF(I47="","",VLOOKUP(I47,[1]名單!$A$1:$Z$65536,2,0)) -> 董謹銓 | L47: 1705 | M47: =IF(L47="","",VLOOKUP(L47,[1]名單!$A$1:$Z$65536,4,0)) -> 三和B | N47: =IF(L47="","",VLOOKUP(L47,[1]名單!$A$1:$Z$65536,2,0)) -> 廖永勝
B48: 個人決賽 | P48: 裁判
A49: A42 | B49: 0.5625 | C49: 8064 | D49: =VLOOKUP(C49,[1]組別!$B$1:$AK$65536,2,0) -> 國女12 | F49: 8065 | G49: =VLOOKUP(F49,[1]組別!$B$1:$AK$65536,2,0) -> 國女11 | I49: 8066 | J49: =VLOOKUP(I49,[1]組別!$B$1:$AK$65536,2,0) -> 國女10 | L49: 8067 | M49: =VLOOKUP(L49,[1]組別!$B$1:$AK$65536,2,0) -> 國女9 | P49: =IF(O49="","",VLOOKUP(O49,[1]名單!$A$1:$Z$65536,2,0))
A50: A43 | B50: 0.56666667 | C50: 8068 | D50: =VLOOKUP(C50,[1]組別!$B$1:$AK$65536,2,0) -> 國女8 | F50: 8069 | G50: =VLOOKUP(F50,[1]組別!$B$1:$AK$65536,2,0) -> 國女7 | I50: 8070 | J50: =VLOOKUP(I50,[1]組別!$B$1:$AK$65536,2,0) -> 國女6 | L50: 8071 | M50: =VLOOKUP(L50,[1]組別!$B$1:$AK$65536,2,0) -> 國女5 | P50: =IF(O50="","",VLOOKUP(O50,[1]名單!$A$1:$Z$65536,2,0))
A51: A44 | B51: 0.57083333 | C51: 8072 | D51: =VLOOKUP(C51,[1]組別!$B$1:$AK$65536,2,0) -> 國女4 | F51: 8073 | G51: =VLOOKUP(F51,[1]組別!$B$1:$AK$65536,2,0) -> 國女3 | I51: 8074 | J51: =VLOOKUP(I51,[1]組別!$B$1:$AK$65536,2,0) -> 國女2 | L51: 8075 | M51: =VLOOKUP(L51,[1]組別!$B$1:$AK$65536,2,0) -> 國女1 | P51: =IF(O51="","",VLOOKUP(O51,[1]名單!$A$1:$Z$65536,2,0))
A52: A45 | B52: 0.575 | C52: 8079 | D52: =VLOOKUP(C52,[2]組別!$B$1:$AK$65536,2,0) -> 六女12 | F52: 8080 | G52: =VLOOKUP(F52,[2]組別!$B$1:$AK$65536,2,0) -> 六女11 | I52: 8081 | J52: =VLOOKUP(I52,[2]組別!$B$1:$AK$65536,2,0) -> 六女10 | L52: 8082 | M52: =VLOOKUP(L52,[2]組別!$B$1:$AK$65536,2,0) -> 六女9 | P52: =IF(O52="","",VLOOKUP(O52,[1]名單!$A$1:$Z$65536,2,0))
A53: A46 | B53: 0.57916667 | C53: 8083 | D53: =VLOOKUP(C53,[2]組別!$B$1:$AK$65536,2,0) -> 六女8 | F53: 8084 | G53: =VLOOKUP(F53,[2]組別!$B$1:$AK$65536,2,0) -> 六女7 | I53: 8085 | J53: =VLOOKUP(I53,[2]組別!$B$1:$AK$65536,2,0) -> 六女6 | L53: 8086 | M53: =VLOOKUP(L53,[2]組別!$B$1:$AK$65536,2,0) -> 六女5 | P53: =IF(O53="","",VLOOKUP(O53,[1]名單!$A$1:$Z$65536,2,0))
A54: A47 | B54: 0.58333333 | C54: 8087 | D54: =VLOOKUP(C54,[2]組別!$B$1:$AK$65536,2,0) -> 六女4 | F54: 8088 | G54: =VLOOKUP(F54,[2]組別!$B$1:$AK$65536,2,0) -> 六女3 | I54: 8089 | J54: =VLOOKUP(I54,[2]組別!$B$1:$AK$65536,2,0) -> 六女2 | L54: 8090 | M54: =VLOOKUP(L54,[2]組別!$B$1:$AK$65536,2,0) -> 六女1 | P54: =IF(O54="","",VLOOKUP(O54,[1]名單!$A$1:$Z$65536,2,0))
A74: =A2 -> 104年春季縣長盃木球賽賽程表
A75: 日 期 | C75: 104年4月17日（星期五）B場地
A76: 場次 | B76: 時間 | C76: 選 手 名 單
A77: 10 | B77: 組別 | D77: =VLOOKUP(A77,[1]組別!$A$1:$AK$65536,2,0) -> 國中女子組 | P77: 裁判
A78: B1 | B78: 0.33333333 | C78: 5501 | D78: =IF(C78="","",VLOOKUP(C78,[1]名單!$A$1:$Z$65536,4,0)) -> 大埤B | E78: =IF(C78="","",VLOOKUP(C78,[1]名單!$A$1:$Z$65536,2,0)) -> 曾玉如 | F78: 5585 | G78: =IF(F78="","",VLOOKUP(F78,[1]名單!$A$1:$Z$65536,4,0)) -> 淵明 | H78: =IF(F78="","",VLOOKUP(F78,[1]名單!$A$1:$Z$65536,2,0)) -> 林紋琪 | I78: 5513 | J78: =IF(I78="","",VLOOKUP(I78,[1]名單!$A$1:$Z$65536,4,0)) -> 石榴B | K78: =IF(I78="","",VLOOKUP(I78,[1]名單!$A$1:$Z$65536,2,0)) -> 周珮淇 | L78: 5519 | M78: =IF(L78="","",VLOOKUP(L78,[1]名單!$A$1:$Z$65536,4,0)) -> 林內B | N78: =IF(L78="","",VLOOKUP(L78,[1]名單!$A$1:$Z$65536,2,0)) -> 宋育慈 | P78: =IF(O78="","",VLOOKUP(O78,[1]名單!$A$1:$Z$65536,2,0))
A79: B2 | B79: 0.3375 | C79: 5502 | D79: =IF(C79="","",VLOOKUP(C79,[1]名單!$A$1:$Z$65536,4,0)) -> 大埤B | E79: =IF(C79="","",VLOOKUP(C79,[1]名單!$A$1:$Z$65536,2,0)) -> 林詩涵 | F79: 5586 | G79: =IF(F79="","",VLOOKUP(F79,[1]名單!$A$1:$Z$65536,4,0)) -> 淵明 | H79: =IF(F79="","",VLOOKUP(F79,[1]名單!$A$1:$Z$65536,2,0)) -> 沈芯綺 | I79: 5514 | J79: =IF(I79="","",VLOOKUP(I79,[1]名單!$A$1:$Z$65536,4,0)) -> 石榴B | K79: =IF(I79="","",VLOOKUP(I79,[1]名單!$A$1:$Z$65536,2,0)) -> 李于君 | L79: 5520 | M79: =IF(L79="","",VLOOKUP(L79,[1]名單!$A$1:$Z$65536,4,0)) -> 林內B | N79: =IF(L79="","",VLOOKUP(L79,[1]名單!$A$1:$Z$65536,2,0)) -> 張玉乾 | P79: =IF(O79="","",VLOOKUP(O79,[1]名單!$A$1:$Z$65536,2,0))
A80: B3 | B80: 0.34166667 | C80: 5503 | D80: =IF(C80="","",VLOOKUP(C80,[1]名單!$A$1:$Z$65536,4,0)) -> 大埤B | E80: =IF(C80="","",VLOOKUP(C80,[1]名單!$A$1:$Z$65536,2,0)) -> 林鈺芳 | F80: 5587 | G80: =IF(F80="","",VLOOKUP(F80,[1]名單!$A$1:$Z$65536,4,0)) -> 淵明 | H80: =IF(F80="","",VLOOKUP(F80,[1]名單!$A$1:$Z$65536,2,0)) -> 潘宜臻 | I80: 5515 | J80: =IF(I80="","",VLOOKUP(I80,[1]名單!$A$1:$Z$65536,4,0)) -> 石榴B | K80: =IF(I80="","",VLOOKUP(I80,[1]名單!$A$1:$Z$65536,2,0)) -> 林邑庭 | L80: 5521 | M80: =IF(L80="","",VLOOKUP(L80,[1]名單!$A$1:$Z$65536,4,0)) -> 林內B | N80: =IF(L80="","",VLOOKUP(L80,[1]名單!$A$1:$Z$65536,2,0)) -> 張珮甄 | P80: =IF(O80="","",VLOOKUP(O80,[1]名單!$A$1:$Z$65536,2,0))
A81: B4 | B81: 0.34583333 | C81: 5504 | D81: =IF(C81="","",VLOOKUP(C81,[1]名單!$A$1:$Z$65536,4,0)) -> 大埤B | E81: =IF(C81="","",VLOOKUP(C81,[1]名單!$A$1:$Z$65536,2,0)) -> 簡苡媜 | F81: 5526 | G81: =IF(F81="","",VLOOKUP(F81,[1]名單!$A$1:$Z$65536,4,0)) -> 東明 | H81: =IF(F81="","",VLOOKUP(F81,[1]名單!$A$1:$Z$65536,2,0)) -> 沈宛榆 | I81: 5516 | J81: =IF(I81="","",VLOOKUP(I81,[1]名單!$A$1:$Z$65536,4,0)) -> 石榴B | K81: =IF(I81="","",VLOOKUP(I81,[1]名單!$A$1:$Z$65536,2,0)) -> 梁雅筑 | L81: 5522 | M81: =IF(L81="","",VLOOKUP(L81,[1]名單!$A$1:$Z$65536,4,0)) -> 林內B | N81: =IF(L81="","",VLOOKUP(L81,[1]名單!$A$1:$Z$65536,2,0)) -> 張瑀芩 | P81: =IF(O81="","",VLOOKUP(O81,[1]名單!$A$1:$Z$65536,2,0))
A82: B5 | B82: 0.35 | C82: 5505 | D82: =IF(C82="","",VLOOKUP(C82,[1]名單!$A$1:$Z$65536,4,0)) -> 大埤B | E82: =IF(C82="","",VLOOKUP(C82,[1]名單!$A$1:$Z$65536,2,0)) -> 蕭秋婷 | F82: 5527 | G82: =IF(F82="","",VLOOKUP(F82,[1]名單!$A$1:$Z$65536,4,0)) -> 東明 | H82: =IF(F82="","",VLOOKUP(F82,[1]名單!$A$1:$Z$65536,2,0)) -> 沈蝶芸 | I82: 5517 | J82: =IF(I82="","",VLOOKUP(I82,[1]名單!$A$1:$Z$65536,4,0)) -> 石榴B | K82: =IF(I82="","",VLOOKUP(I82,[1]名單!$A$1:$Z$65536,2,0)) -> 葉育彤 | L82: 5523 | M82: =IF(L82="","",VLOOKUP(L82,[1]名單!$A$1:$Z$65536,4,0)) -> 林內B | N82: =IF(L82="","",VLOOKUP(L82,[1]名單!$A$1:$Z$65536,2,0)) -> 王郁嵋 | P82: =IF(O82="","",VLOOKUP(O82,[1]名單!$A$1:$Z$65536,2,0))
A83: B6 | B83: 0.35416667 | C83: 5506 | D83: =IF(C83="","",VLOOKUP(C83,[1]名單!$A$1:$Z$65536,4,0)) -> 大埤B | E83: =IF(C83="","",VLOOKUP(C83,[1]名單!$A$1:$Z$65536,2,0)) -> 謝沅臻 | F83: 5528 | G83: =IF(F83="","",VLOOKUP(F83,[1]名單!$A$1:$Z$65536,4,0)) -> 東明 | H83: =IF(F83="","",VLOOKUP(F83,[1]名單!$A$1:$Z$65536,2,0)) -> 翁婉婷 | I83: 5518 | J83: =IF(I83="","",VLOOKUP(I83,[1]名單!$A$1:$Z$65536,4,0)) -> 石榴B | K83: =IF(I83="","",VLOOKUP(I83,[1]名單!$A$1:$Z$65536,2,0)) -> 陳虹儒 | L83: 5524 | M83: =IF(L83="","",VLOOKUP(L83,[1]名單!$A$1:$Z$65536,4,0)) -> 林內B | N83: =IF(L83="","",VLOOKUP(L83,[1]名單!$A$1:$Z$65536,2,0)) -> 鄭丁慈 | P83: =IF(O83="","",VLOOKUP(O83,[1]名單!$A$1:$Z$65536,2,0))
A84: B7 | B84: 0.35833333 | C84: 5525 | D84: =IF(C84="","",VLOOKUP(C84,[1]名單!$A$1:$Z$65536,4,0)) -> 東明 | E84: =IF(C84="","",VLOOKUP(C84,[1]名單!$A$1:$Z$65536,2,0)) -> 張齡尹 | F84: 5531 | G84: =IF(F84="","",VLOOKUP(F84,[1]名單!$A$1:$Z$65536,4,0)) -> 大埤A | H84: =IF(F84="","",VLOOKUP(F84,[1]名單!$A$1:$Z$65536,2,0)) -> 劉玫芳 | I84: 5555 | J84: =IF(I84="","",VLOOKUP(I84,[1]名單!$A$1:$Z$65536,4,0)) -> 石榴A | K84: =IF(I84="","",VLOOKUP(I84,[1]名單!$A$1:$Z$65536,2,0)) -> 林佑柔 | L84: 5561 | M84: =IF(L84="","",VLOOKUP(L84,[1]名單!$A$1:$Z$65536,4,0)) -> 林內A | N84: =IF(L84="","",VLOOKUP(L84,[1]名單!$A$1:$Z$65536,2,0)) -> 何宣宣 | P84: =IF(O84="","",VLOOKUP(O84,[1]名單!$A$1:$Z$65536,2,0))
A85: B8 | B85: 0.3625 | C85: 5507 | D85: =IF(C85="","",VLOOKUP(C85,[1]名單!$A$1:$Z$65536,4,0)) -> 馬光B | E85: =IF(C85="","",VLOOKUP(C85,[1]名單!$A$1:$Z$65536,2,0)) -> 劉凱棋 | F85: 5532 | G85: =IF(F85="","",VLOOKUP(F85,[1]名單!$A$1:$Z$65536,4,0)) -> 大埤A | H85: =IF(F85="","",VLOOKUP(F85,[1]名單!$A$1:$Z$65536,2,0)) -> 呂家怡 | I85: 5556 | J85: =IF(I85="","",VLOOKUP(I85,[1]名單!$A$1:$Z$65536,4,0)) -> 石榴A | K85: =IF(I85="","",VLOOKUP(I85,[1]名單!$A$1:$Z$65536,2,0)) -> 沈品妤 | L85: 5562 | M85: =IF(L85="","",VLOOKUP(L85,[1]名單!$A$1:$Z$65536,4,0)) -> 林內A | N85: =IF(L85="","",VLOOKUP(L85,[1]名單!$A$1:$Z$65536,2,0)) -> 吳慈芳 | P85: =IF(O85="","",VLOOKUP(O85,[1]名單!$A$1:$Z$65536,2,0))
A86: B9 | B86: 0.36666667 | C86: 5509 | D86: =IF(C86="","",VLOOKUP(C86,[1]名單!$A$1:$Z$65536,4,0)) -> 馬光B | E86: =IF(C86="","",VLOOKUP(C86,[1]名單!$A$1:$Z$65536,2,0)) -> 黃竹竟 | F86: 5533 | G86: =IF(F86="","",VLOOKUP(F86,[1]名單!$A$1:$Z$65536,4,0)) -> 大埤A | H86: =IF(F86="","",VLOOKUP(F86,[1]名單!$A$1:$Z$65536,2,0)) -> 徐佩妏 | I86: 5557 | J86: =IF(I86="","",VLOOKUP(I86,[1]名單!$A$1:$Z$65536,4,0)) -> 石榴A | K86: =IF(I86="","",VLOOKUP(I86,[1]名單!$A$1:$Z$65536,2,0)) -> 熊怡惠 | L86: 5563 | M86: =IF(L86="","",VLOOKUP(L86,[1]名單!$A$1:$Z$65536,4,0)) -> 林內A | N86: =IF(L86="","",VLOOKUP(L86,[1]名單!$A$1:$Z$65536,2,0)) -> 鄭湘錞 | P86: =IF(O86="","",VLOOKUP(O86,[1]名單!$A$1:$Z$65536,2,0))
A87: B10 | B87: 0.37083333 | C87: 5508 | D87: =IF(C87="","",VLOOKUP(C87,[1]名單!$A$1:$Z$65536,4,0)) -> 馬光B | E87: =IF(C87="","",VLOOKUP(C87,[1]名單!$A$1:$Z$65536,2,0)) -> 吳宜蓁 | F87: 5534 | G87: =IF(F87="","",VLOOKUP(F87,[1]名單!$A$1:$Z$65536,4,0)) -> 大埤A | H87: =IF(F87="","",VLOOKUP(F87,[1]名單!$A$1:$Z$65536,2,0)) -> 李欣潔 | I87: 5558 | J87: =IF(I87="","",VLOOKUP(I87,[1]名單!$A$1:$Z$65536,4,0)) -> 石榴A | K87: =IF(I87="","",VLOOKUP(I87,[1]名單!$A$1:$Z$65536,2,0)) -> 羅悅瑜 | L87: 5564 | M87: =IF(L87="","",VLOOKUP(L87,[1]名單!$A$1:$Z$65536,4,0)) -> 林內A | N87: =IF(L87="","",VLOOKUP(L87,[1]名單!$A$1:$Z$65536,2,0)) -> 鄭鈺潔 | P87: =IF(O87="","",VLOOKUP(O87,[1]名單!$A$1:$Z$65536,2,0))
A88: B11 | B88: 0.375 | C88: 5549 | D88: =IF(C88="","",VLOOKUP(C88,[1]名單!$A$1:$Z$65536,4,0)) -> 馬光A | E88: =IF(C88="","",VLOOKUP(C88,[1]名單!$A$1:$Z$65536,2,0)) -> 吳佩蓉 | F88: 5535 | G88: =IF(F88="","",VLOOKUP(F88,[1]名單!$A$1:$Z$65536,4,0)) -> 大埤A | H88: =IF(F88="","",VLOOKUP(F88,[1]名單!$A$1:$Z$65536,2,0)) -> 簡于瑄 | I88: 5559 | J88: =IF(I88="","",VLOOKUP(I88,[1]名單!$A$1:$Z$65536,4,0)) -> 石榴A | K88: =IF(I88="","",VLOOKUP(I88,[1]名單!$A$1:$Z$65536,2,0)) -> 賴宛瑜 | L88: 5565 | M88: =IF(L88="","",VLOOKUP(L88,[1]名單!$A$1:$Z$65536,4,0)) -> 林內A | N88: =IF(L88="","",VLOOKUP(L88,[1]名單!$A$1:$Z$65536,2,0)) -> 陳心玫 | P88: =IF(O88="","",VLOOKUP(O88,[1]名單!$A$1:$Z$65536,2,0))
A89: B12 | B89: 0.37916667 | C89: 5550 | D89: =IF(C89="","",VLOOKUP(C89,[1]名單!$A$1:$Z$65536,4,0)) -> 馬光A | E89: =IF(C89="","",VLOOKUP(C89,[1]名單!$A$1:$Z$65536,2,0)) -> 吳沂蒨 | F89: 5536 | G89: =IF(F89="","",VLOOKUP(F89,[1]名單!$A$1:$Z$65536,4,0)) -> 大埤A | H89: =IF(F89="","",VLOOKUP(F89,[1]名單!$A$1:$Z$65536,2,0)) -> 賴映伶 | I89: 5560 | J89: =IF(I89="","",VLOOKUP(I89,[1]名單!$A$1:$Z$65536,4,0)) -> 石榴A | K89: =IF(I89="","",VLOOKUP(I89,[1]名單!$A$1:$Z$65536,2,0)) -> 陳誌玟 | L89: 5566 | M89: =IF(L89="","",VLOOKUP(L89,[1]名單!$A$1:$Z$65536,4,0)) -> 林內A | N89: =IF(L89="","",VLOOKUP(L89,[1]名單!$A$1:$Z$65536,2,0)) -> 陳玟瑜 | P89: =IF(O89="","",VLOOKUP(O89,[1]名單!$A$1:$Z$65536,2,0))
... A94: B17 | B94: 0.4 | C94: 5542 | D94: =IF(C94="","",VLOOKUP(C94,[1]名單!$A$1:$Z$65536,4,0)) -> 古坑 | E94: =IF(C94="","",VLOOKUP(C94,[1]名單!$A$1:$Z$65536,2,0)) -> 黃嘉綺 | F94: 5573 | G94: =IF(F94="","",VLOOKUP(F94,[1]名單!$A$1:$Z$65536,4,0)) -> 元長 | H94: =IF(F94="","",VLOOKUP(F94,[1]名單!$A$1:$Z$65536,2,0)) -> 吳家慧 | I94: 5541 | J94: =IF(I94="","",VLOOKUP(I94,[1]名單!$A$1:$Z$65536,4,0)) -> 古坑 | K94: =IF(I94="","",VLOOKUP(I94,[1]名單!$A$1:$Z$65536,2,0)) -> 許沛琪 | L94: 5547 | M94: =IF(L94="","",VLOOKUP(L94,[1]名單!$A$1:$Z$65536,4,0)) -> 東和 | N94: =IF(L94="","",VLOOKUP(L94,[1]名單!$A$1:$Z$65536,2,0)) -> 楊佳容 | P94: =IF(O94="","",VLOOKUP(O94,[1]名單!$A$1:$Z$65536,2,0))
A95: 12 | B95: 組別 | D95: =VLOOKUP(A95,[1]組別!$A$1:$AK$65536,2,0) -> 國小六年級女童組 | P95: 裁判
A96: B18 | B96: 0.40416667 | C96: 5601 | D96: =IF(C96="","",VLOOKUP(C96,[1]名單!$A$1:$Z$65536,4,0)) -> 石榴B | E96: =IF(C96="","",VLOOKUP(C96,[1]名單!$A$1:$Z$65536,2,0)) -> 張家甄 | F96: 5625 | G96: =IF(F96="","",VLOOKUP(F96,[1]名單!$A$1:$Z$65536,4,0)) -> 林內A | H96: =IF(F96="","",VLOOKUP(F96,[1]名單!$A$1:$Z$65536,2,0)) -> 劉金鑾 | I96: 5649 | J96: =IF(I96="","",VLOOKUP(I96,[1]名單!$A$1:$Z$65536,4,0)) -> 仁和 | K96: =IF(I96="","",VLOOKUP(I96,[1]名單!$A$1:$Z$65536,2,0)) -> 丁舜稜 | L96: 5673 | M96: =IF(L96="","",VLOOKUP(L96,[1]名單!$A$1:$Z$65536,4,0)) -> 中和 | N96: =IF(L96="","",VLOOKUP(L96,[1]名單!$A$1:$Z$65536,2,0)) -> 廖貞瑜 | P96: =IF(O96="","",VLOOKUP(O96,[1]名單!$A$1:$Z$65536,2,0))
A97: B19 | B97: 0.40694444 | C97: 5602 | D97: =IF(C97="","",VLOOKUP(C97,[1]名單!$A$1:$Z$65536,4,0)) -> 石榴B | E97: =IF(C97="","",VLOOKUP(C97,[1]名單!$A$1:$Z$65536,2,0)) -> 張家菁 | F97: 5626 | G97: =IF(F97="","",VLOOKUP(F97,[1]名單!$A$1:$Z$65536,4,0)) -> 林內A | H97: =IF(F97="","",VLOOKUP(F97,[1]名單!$A$1:$Z$65536,2,0)) -> 周佩誼 | I97: 5650 | J97: =IF(I97="","",VLOOKUP(I97,[1]名單!$A$1:$Z$65536,4,0)) -> 仁和 | K97: =IF(I97="","",VLOOKUP(I97,[1]名單!$A$1:$Z$65536,2,0)) -> 張維珍 | L97: 5674 | M97: =IF(L97="","",VLOOKUP(L97,[1]名單!$A$1:$Z$65536,4,0)) -> 中和 | N97: =IF(L97="","",VLOOKUP(L97,[1]名單!$A$1:$Z$65536,2,0)) -> 林儀婷 | P97: =IF(O97="","",VLOOKUP(O97,[1]名單!$A$1:$Z$65536,2,0))
A98: B20 | B98: 0.40972222 | C98: 5603 | D98: =IF(C98="","",VLOOKUP(C98,[1]名單!$A$1:$Z$65536,4,0)) -> 石榴B | E98: =IF(C98="","",VLOOKUP(C98,[1]名單!$A$1:$Z$65536,2,0)) -> 張欣婕 | F98: 5627 | G98: =IF(F98="","",VLOOKUP(F98,[1]名單!$A$1:$Z$65536,4,0)) -> 林內A | H98: =IF(F98="","",VLOOKUP(F98,[1]名單!$A$1:$Z$65536,2,0)) -> 蔡鈺瑄 | I98: 5651 | J98: =IF(I98="","",VLOOKUP(I98,[1]名單!$A$1:$Z$65536,4,0)) -> 仁和 | K98: =IF(I98="","",VLOOKUP(I98,[1]名單!$A$1:$Z$65536,2,0)) -> 黃家芝 | L98: 5675 | M98: =IF(L98="","",VLOOKUP(L98,[1]名單!$A$1:$Z$65536,4,0)) -> 中和 | N98: =IF(L98="","",VLOOKUP(L98,[1]名單!$A$1:$Z$65536,2,0)) -> 林育嫻 | P98: =IF(O98="","",VLOOKUP(O98,[1]名單!$A$1:$Z$65536,2,0))
A99: B21 | B99: 0.4125 | C99: 5604 | D99: =IF(C99="","",VLOOKUP(C99,[1]名單!$A$1:$Z$65536,4,0)) -> 石榴B | E99: =IF(C99="","",VLOOKUP(C99,[1]名單!$A$1:$Z$65536,2,0)) -> 石云筑 | F99: 5628 | G99: =IF(F99="","",VLOOKUP(F99,[1]名單!$A$1:$Z$65536,4,0)) -> 林內A | H99: =IF(F99="","",VLOOKUP(F99,[1]名單!$A$1:$Z$65536,2,0)) -> 郭蕙萍 | I99: 5652 | J99: =IF(I99="","",VLOOKUP(I99,[1]名單!$A$1:$Z$65536,4,0)) -> 仁和 | K99: =IF(I99="","",VLOOKUP(I99,[1]名單!$A$1:$Z$65536,2,0)) -> 黃鈺甯 | L99: 5676 | M99: =IF(L99="","",VLOOKUP(L99,[1]名單!$A$1:$Z$65536,4,0)) -> 中和 | N99: =IF(L99="","",VLOOKUP(L99,[1]名單!$A$1:$Z$65536,2,0)) -> 林虹蓮 | P99: =IF(O99="","",VLOOKUP(O99,[1]名單!$A$1:$Z$65536,2,0))
A100: B22 | B100: 0.41527778 | C100: 5605 | D100: =IF(C100="","",VLOOKUP(C100,[1]名單!$A$1:$Z$65536,4,0)) -> 石榴B | E100: =IF(C100="","",VLOOKUP(C100,[1]名單!$A$1:$Z$65536,2,0)) -> 邱美妙 | F100: 5629 | G100: =IF(F100="","",VLOOKUP(F100,[1]名單!$A$1:$Z$65536,4,0)) -> 林內A | H100: =IF(F100="","",VLOOKUP(F100,[1]名單!$A$1:$Z$65536,2,0)) -> 鄧怡靜 | I100: 5655 | J100: =IF(I100="","",VLOOKUP(I100,[1]名單!$A$1:$Z$65536,4,0)) -> 聯美 | K100: =IF(I100="","",VLOOKUP(I100,[1]名單!$A$1:$Z$65536,2,0)) -> 李嘉穎 | L100: 5677 | M100: =IF(L100="","",VLOOKUP(L100,[1]名單!$A$1:$Z$65536,4,0)) -> 中和 | N100: =IF(L100="","",VLOOKUP(L100,[1]名單!$A$1:$Z$65536,2,0)) -> 林雅惠 | P100: =IF(O100="","",VLOOKUP(O100,[1]名單!$A$1:$Z$65536,2,0))
A101: B23 | B101: 0.41805556 | C101: 5606 | D101: =IF(C101="","",VLOOKUP(C101,[1]名單!$A$1:$Z$65536,4,0)) -> 石榴B | E101: =IF(C101="","",VLOOKUP(C101,[1]名單!$A$1:$Z$65536,2,0)) -> 黎羿君 | F101: 5631 | G101: =IF(F101="","",VLOOKUP(F101,[1]名單!$A$1:$Z$65536,4,0)) -> 九芎 | H101: =IF(F101="","",VLOOKUP(F101,[1]名單!$A$1:$Z$65536,2,0)) -> 張惠菁 | I101: 5656 | J101: =IF(I101="","",VLOOKUP(I101,[1]名單!$A$1:$Z$65536,4,0)) -> 聯美 | K101: =IF(I101="","",VLOOKUP(I101,[1]名單!$A$1:$Z$65536,2,0)) -> 李宜庭 | L101: 5678 | M101: =IF(L101="","",VLOOKUP(L101,[1]名單!$A$1:$Z$65536,4,0)) -> 中和 | N101: =IF(L101="","",VLOOKUP(L101,[1]名單!$A$1:$Z$65536,2,0)) -> 陳欣雲 | P101: =IF(O101="","",VLOOKUP(O101,[1]名單!$A$1:$Z$65536,2,0))
A102: B24 | B102: 0.42083333 | C102: 5619 | D102: =IF(C102="","",VLOOKUP(C102,[1]名單!$A$1:$Z$65536,4,0)) -> 石榴A | E102: =IF(C102="","",VLOOKUP(C102,[1]名單!$A$1:$Z$65536,2,0)) -> 何羽婕 | F102: 5632 | G102: =IF(F102="","",VLOOKUP(F102,[1]名單!$A$1:$Z$65536,4,0)) -> 九芎 | H102: =IF(F102="","",VLOOKUP(F102,[1]名單!$A$1:$Z$65536,2,0)) -> 林均蓓 | I102: 5657 | J102: =IF(I102="","",VLOOKUP(I102,[1]名單!$A$1:$Z$65536,4,0)) -> 聯美 | K102: =IF(I102="","",VLOOKUP(I102,[1]名單!$A$1:$Z$65536,2,0)) -> 林佳穎 | L102: 5703 | M102: =IF(L102="","",VLOOKUP(L102,[1]名單!$A$1:$Z$65536,4,0)) -> 中和B | N102: =IF(L102="","",VLOOKUP(L102,[1]名單!$A$1:$Z$65536,2,0)) -> 林秝榛 | P102: =IF(O102="","",VLOOKUP(O102,[1]名單!$A$1:$Z$65536,2,0))
A103: B25 | B103: 0.42361111 | C103: 5620 | D103: =IF(C103="","",VLOOKUP(C103,[1]名單!$A$1:$Z$65536,4,0)) -> 石榴A | E103: =IF(C103="","",VLOOKUP(C103,[1]名單!$A$1:$Z$65536,2,0)) -> 劉姿慧 | F103: 5633 | G103: =IF(F103="","",VLOOKUP(F103,[1]名單!$A$1:$Z$65536,4,0)) -> 九芎 | H103: =IF(F103="","",VLOOKUP(F103,[1]名單!$A$1:$Z$65536,2,0)) -> 石芷茵 | I103: 5658 | J103: =IF(I103="","",VLOOKUP(I103,[1]名單!$A$1:$Z$65536,4,0)) -> 聯美 | K103: =IF(I103="","",VLOOKUP(I103,[1]名單!$A$1:$Z$65536,2,0)) -> 陳天香 | L103: 5680 | M103: =IF(L103="","",VLOOKUP(L103,[1]名單!$A$1:$Z$65536,4,0)) -> 三和 | N103: =IF(L103="","",VLOOKUP(L103,[1]名單!$A$1:$Z$65536,2,0)) -> 張雁淳 | P103: =IF(O103="","",VLOOKUP(O103,[1]名單!$A$1:$Z$65536,2,0))
A104: B26 | B104: 0.42638889 | C104: 5621 | D104: =IF(C104="","",VLOOKUP(C104,[1]名單!$A$1:$Z$65536,4,0)) -> 石榴A | E104: =IF(C104="","",VLOOKUP(C104,[1]名單!$A$1:$Z$65536,2,0)) -> 張紫荷 | F104: 5634 | G104: =IF(F104="","",VLOOKUP(F104,[1]名單!$A$1:$Z$65536,4,0)) -> 九芎 | H104: =IF(F104="","",VLOOKUP(F104,[1]名單!$A$1:$Z$65536,2,0)) -> 蔡宛庭 | I104: 5659 | J104: =IF(I104="","",VLOOKUP(I104,[1]名單!$A$1:$Z$65536,4,0)) -> 聯美 | K104: =IF(I104="","",VLOOKUP(I104,[1]名單!$A$1:$Z$65536,2,0)) -> 陳柔蒨 | L104: 5681 | M104: =IF(L104="","",VLOOKUP(L104,[1]名單!$A$1:$Z$65536,4,0)) -> 三和 | N104: =IF(L104="","",VLOOKUP(L104,[1]名單!$A$1:$Z$65536,2,0)) -> 廖倍淇 | P104: =IF(O104="","",VLOOKUP(O104,[1]名單!$A$1:$Z$65536,2,0))
A105: B27 | B105: 0.42916667 | C105: 5622 | D105: =IF(C105="","",VLOOKUP(C105,[1]名單!$A$1:$Z$65536,4,0)) -> 石榴A | E105: =IF(C105="","",VLOOKUP(C105,[1]名單!$A$1:$Z$65536,2,0)) -> 蔡宜芬 | F105: 5635 | G105: =IF(F105="","",VLOOKUP(F105,[1]名單!$A$1:$Z$65536,4,0)) -> 九芎 | H105: =IF(F105="","",VLOOKUP(F105,[1]名單!$A$1:$Z$65536,2,0)) -> 蔡幸妤 | I105: 5660 | J105: =IF(I105="","",VLOOKUP(I105,[1]名單!$A$1:$Z$65536,4,0)) -> 聯美 | K105: =IF(I105="","",VLOOKUP(I105,[1]名單!$A$1:$Z$65536,2,0)) -> 陳雨欣 | L105: 5682 | M105: =IF(L105="","",VLOOKUP(L105,[1]名單!$A$1:$Z$65536,4,0)) -> 三和 | N105: =IF(L105="","",VLOOKUP(L105,[1]名單!$A$1:$Z$65536,2,0)) -> 廖丸萱 | P105: =IF(O105="","",VLOOKUP(O105,[1]名單!$A$1:$Z$65536,2,0))
A106: B28 | B106: 0.43194444 | C106: 5623 | D106: =IF(C106="","",VLOOKUP(C106,[1]名單!$A$1:$Z$65536,4,0)) -> 石榴A | E106: =IF(C106="","",VLOOKUP(C106,[1]名單!$A$1:$Z$65536,2,0)) -> 詹欣蓉 | F106: 5636 | G106: =IF(F106="","",VLOOKUP(F106,[1]名單!$A$1:$Z$65536,4,0)) -> 九芎 | H106: =IF(F106="","",VLOOKUP(F106,[1]名單!$A$1:$Z$65536,2,0)) -> 陳真嘉 | I106: 5661 | J106: =IF(I106="","",VLOOKUP(I106,[1]名單!$A$1:$Z$65536,4,0)) -> 宏崙 | K106: =IF(I106="","",VLOOKUP(I106,[1]名單!$A$1:$Z$65536,2,0)) -> 吳佳軒 | L106: 5679 | M106: =IF(L106="","",VLOOKUP(L106,[1]名單!$A$1:$Z$65536,4,0)) -> 三和 | N106: =IF(L106="","",VLOOKUP(L106,[1]名單!$A$1:$Z$65536,2,0)) -> 林依潔 | P106: =IF(O106="","",VLOOKUP(O106,[1]名單!$A$1:$Z$65536,2,0))
A107: B29 | B107: 0.43472222 | C107: 5624 | D107: =IF(C107="","",VLOOKUP(C107,[1]名單!$A$1:$Z$65536,4,0)) -> 石榴A | E107: =IF(C107="","",VLOOKUP(C107,[1]名單!$A$1:$Z$65536,2,0)) -> 陳倩誼 | F107: 5637 | G107: =IF(F107="","",VLOOKUP(F107,[1]名單!$A$1:$Z$65536,4,0)) -> 民生 | H107: =IF(F107="","",VLOOKUP(F107,[1]名單!$A$1:$Z$65536,2,0)) -> 丁婉芯 | I107: 5662 | J107: =IF(I107="","",VLOOKUP(I107,[1]名單!$A$1:$Z$65536,4,0)) -> 宏崙 | K107: =IF(I107="","",VLOOKUP(I107,[1]名單!$A$1:$Z$65536,2,0)) -> 吳雨蓁 | L107: 5691 | M107: =IF(L107="","",VLOOKUP(L107,[1]名單!$A$1:$Z$65536,4,0)) -> 大屯 | N107: =IF(L107="","",VLOOKUP(L107,[1]名單!$A$1:$Z$65536,2,0)) -> 楊宇婕 | P107: =IF(O107="","",VLOOKUP(O107,[1]名單!$A$1:$Z$65536,2,0))
A108: B30 | B108: 0.4375 | C108: 5613 | D108: =IF(C108="","",VLOOKUP(C108,[1]名單!$A$1:$Z$65536,4,0)) -> 林內B | E108: =IF(C108="","",VLOOKUP(C108,[1]名單!$A$1:$Z$65536,2,0)) -> 張宜樺 | F108: 5638 | G108: =IF(F108="","",VLOOKUP(F108,[1]名單!$A$1:$Z$65536,4,0)) -> 民生 | H108: =IF(F108="","",VLOOKUP(F108,[1]名單!$A$1:$Z$65536,2,0)) -> 劉心儀 | I108: 5663 | J108: =IF(I108="","",VLOOKUP(I108,[1]名單!$A$1:$Z$65536,4,0)) -> 宏崙 | K108: =IF(I108="","",VLOOKUP(I108,[1]名單!$A$1:$Z$65536,2,0)) -> 林盈萱 | L108: 5692 | M108: =IF(L108="","",VLOOKUP(L108,[1]名單!$A$1:$Z$65536,4,0)) -> 大屯 | N108: =IF(L108="","",VLOOKUP(L108,[1]名單!$A$1:$Z$65536,2,0)) -> 楊雅茹
A109: B31 | B109: 0.44027778 | C109: 5614 | D109: =IF(C109="","",VLOOKUP(C109,[1]名單!$A$1:$Z$65536,4,0)) -> 林內B | E109: =IF(C109="","",VLOOKUP(C109,[1]名單!$A$1:$Z$65536,2,0)) -> 王亭雁 | F109: 5639 | G109: =IF(F109="","",VLOOKUP(F109,[1]名單!$A$1:$Z$65536,4,0)) -> 民生 | H109: =IF(F109="","",VLOOKUP(F109,[1]名單!$A$1:$Z$65536,2,0)) -> 楊偲苹 | I109: 5664 | J109: =IF(I109="","",VLOOKUP(I109,[1]名單!$A$1:$Z$65536,4,0)) -> 宏崙 | K109: =IF(I109="","",VLOOKUP(I109,[1]名單!$A$1:$Z$65536,2,0)) -> 邱芷萱 | L109: 5693 | M109: =IF(L109="","",VLOOKUP(L109,[1]名單!$A$1:$Z$65536,4,0)) -> 大屯 | N109: =IF(L109="","",VLOOKUP(L109,[1]名單!$A$1:$Z$65536,2,0)) -> 江俞萱 | P109: =IF(O109="","",VLOOKUP(O109,[1]名單!$A$1:$Z$65536,2,0))
A110: B32 | B110: 0.44305556 | C110: 5615 | D110: =IF(C110="","",VLOOKUP(C110,[1]名單!$A$1:$Z$65536,4,0)) -> 林內B | E110: =IF(C110="","",VLOOKUP(C110,[1]名單!$A$1:$Z$65536,2,0)) -> 陳玫均 | F110: 5640 | G110: =IF(F110="","",VLOOKUP(F110,[1]名單!$A$1:$Z$65536,4,0)) -> 民生 | H110: =IF(F110="","",VLOOKUP(F110,[1]名單!$A$1:$Z$65536,2,0)) -> 陳依伶 | I110: 5665 | J110: =IF(I110="","",VLOOKUP(I110,[1]名單!$A$1:$Z$65536,4,0)) -> 宏崙 | K110: =IF(I110="","",VLOOKUP(I110,[1]名單!$A$1:$Z$65536,2,0)) -> 黃佳萱 | L110: 5694 | M110: =IF(L110="","",VLOOKUP(L110,[1]名單!$A$1:$Z$65536,4,0)) -> 大屯 | N110: =IF(L110="","",VLOOKUP(L110,[1]名單!$A$1:$Z$65536,2,0)) -> 王琳筑 | P110: =IF(O110="","",VLOOKUP(O110,[1]名單!$A$1:$Z$65536,2,0))
A111: B33 | B111: 0.44583333 | C111: 5616 | D111: =IF(C111="","",VLOOKUP(C111,[1]名單!$A$1:$Z$65536,4,0)) -> 林內B | E111: =IF(C111="","",VLOOKUP(C111,[1]名單!$A$1:$Z$65536,2,0)) -> 陳薈綸 | F111: 5641 | G111: =IF(F111="","",VLOOKUP(F111,[1]名單!$A$1:$Z$65536,4,0)) -> 民生 | H111: =IF(F111="","",VLOOKUP(F111,[1]名單!$A$1:$Z$65536,2,0)) -> 魏甄誼 | I111: 5672 | J111: =IF(I111="","",VLOOKUP(I111,[1]名單!$A$1:$Z$65536,4,0)) -> 大同 | K111: =IF(I111="","",VLOOKUP(I111,[1]名單!$A$1:$Z$65536,2,0)) -> 陳欣怡 | L111: 5695 | M111: =IF(L111="","",VLOOKUP(L111,[1]名單!$A$1:$Z$65536,4,0)) -> 大屯 | N111: =IF(L111="","",VLOOKUP(L111,[1]名單!$A$1:$Z$65536,2,0)) -> 王芷婷 | P111: =IF(O111="","",VLOOKUP(O111,[1]名單!$A$1:$Z$65536,2,0))
A112: B34 | B112: 0.44861111 | C112: 5617 | D112: =IF(C112="","",VLOOKUP(C112,[1]名單!$A$1:$Z$65536,4,0)) -> 林內B | E112: =IF(C112="","",VLOOKUP(C112,[1]名單!$A$1:$Z$65536,2,0)) -> 黃靖雯 | F112: 5642 | G112: =IF(F112="","",VLOOKUP(F112,[1]名單!$A$1:$Z$65536,4,0)) -> 民生 | H112: =IF(F112="","",VLOOKUP(F112,[1]名單!$A$1:$Z$65536,2,0)) -> 黃昱恩 | I112: 5667 | J112: =IF(I112="","",VLOOKUP(I112,[1]名單!$A$1:$Z$65536,4,0)) -> 大同 | K112: =IF(I112="","",VLOOKUP(I112,[1]名單!$A$1:$Z$65536,2,0)) -> 廖香媚 | L112: 5696 | M112: =IF(L112="","",VLOOKUP(L112,[1]名單!$A$1:$Z$65536,4,0)) -> 大屯 | N112: =IF(L112="","",VLOOKUP(L112,[1]名單!$A$1:$Z$65536,2,0)) -> 陳怡如 | P112: =IF(O112="","",VLOOKUP(O112,[1]名單!$A$1:$Z$65536,2,0))
A113: B35 | B113: 0.45138889 | C113: 5607 | D113: =IF(C113="","",VLOOKUP(C113,[1]名單!$A$1:$Z$65536,4,0)) -> 古坑 | E113: =IF(C113="","",VLOOKUP(C113,[1]名單!$A$1:$Z$65536,2,0)) -> 張凱欣 | F113: 5643 | G113: =IF(F113="","",VLOOKUP(F113,[1]名單!$A$1:$Z$65536,4,0)) -> 僑真 | H113: =IF(F113="","",VLOOKUP(F113,[1]名單!$A$1:$Z$65536,2,0)) -> 廖佳娟 | I113: 5668 | J113: =IF(I113="","",VLOOKUP(I113,[1]名單!$A$1:$Z$65536,4,0)) -> 大同 | K113: =IF(I113="","",VLOOKUP(I113,[1]名單!$A$1:$Z$65536,2,0)) -> 李佳家 | L113: 5697 | M113: =IF(L113="","",VLOOKUP(L113,[1]名單!$A$1:$Z$65536,4,0)) -> 民生B | N113: =IF(L113="","",VLOOKUP(L113,[1]名單!$A$1:$Z$65536,2,0)) -> 卓稚欣 | P113: =IF(O113="","",VLOOKUP(O113,[1]名單!$A$1:$Z$65536,2,0))
A114: B36 | B114: 0.45416667 | C114: 5608 | D114: =IF(C114="","",VLOOKUP(C114,[1]名單!$A$1:$Z$65536,4,0)) -> 古坑 | E114: =IF(C114="","",VLOOKUP(C114,[1]名單!$A$1:$Z$65536,2,0)) -> 戴妏芯 | F114: 5644 | G114: =IF(F114="","",VLOOKUP(F114,[1]名單!$A$1:$Z$65536,4,0)) -> 僑真 | H114: =IF(F114="","",VLOOKUP(F114,[1]名單!$A$1:$Z$65536,2,0)) -> 歐雅珺 | I114: 5669 | J114: =IF(I114="","",VLOOKUP(I114,[1]名單!$A$1:$Z$65536,4,0)) -> 大同 | K114: =IF(I114="","",VLOOKUP(I114,[1]名單!$A$1:$Z$65536,2,0)) -> 李冠慧 | L114: 5698 | M114: =IF(L114="","",VLOOKUP(L114,[1]名單!$A$1:$Z$65536,4,0)) -> 民生B | N114: =IF(L114="","",VLOOKUP(L114,[1]名單!$A$1:$Z$65536,2,0)) -> 葉 婷 | P114: =IF(O114="","",VLOOKUP(O114,[1]名單!$A$1:$Z$65536,2,0))
A115: B37 | B115: 0.45694444 | C115: 5609 | D115: =IF(C115="","",VLOOKUP(C115,[1]名單!$A$1:$Z$65536,4,0)) -> 古坑 | E115: =IF(C115="","",VLOOKUP(C115,[1]名單!$A$1:$Z$65536,2,0)) -> 王姿婷 | F115: 5645 | G115: =IF(F115="","",VLOOKUP(F115,[1]名單!$A$1:$Z$65536,4,0)) -> 僑真 | H115: =IF(F115="","",VLOOKUP(F115,[1]名單!$A$1:$Z$65536,2,0)) -> 沈懿真 | I115: 5648 | J115: =IF(I115="","",VLOOKUP(I115,[1]名單!$A$1:$Z$65536,4,0)) -> 僑真 | K115: =IF(I115="","",VLOOKUP(I115,[1]名單!$A$1:$Z$65536,2,0)) -> 陳雅琳 | L115: 5686 | M115: =IF(L115="","",VLOOKUP(L115,[1]名單!$A$1:$Z$65536,4,0)) -> 信義 | N115: =IF(L115="","",VLOOKUP(L115,[1]名單!$A$1:$Z$65536,2,0)) -> 施岳辰 | P115: =IF(O115="","",VLOOKUP(O115,[1]名單!$A$1:$Z$65536,2,0))
A116: B38 | B116: 0.45972222 | C116: 5670 | D116: =IF(C116="","",VLOOKUP(C116,[1]名單!$A$1:$Z$65536,4,0)) -> 大同 | E116: =IF(C116="","",VLOOKUP(C116,[1]名單!$A$1:$Z$65536,2,0)) -> 洪千玳 | F116: 5646 | G116: =IF(F116="","",VLOOKUP(F116,[1]名單!$A$1:$Z$65536,4,0)) -> 僑真 | H116: =IF(F116="","",VLOOKUP(F116,[1]名單!$A$1:$Z$65536,2,0)) -> 王曉君 | I116: 5685 | J116: =IF(I116="","",VLOOKUP(I116,[1]名單!$A$1:$Z$65536,4,0)) -> 信義 | K116: =IF(I116="","",VLOOKUP(I116,[1]名單!$A$1:$Z$65536,2,0)) -> 張湘梅 | L116: 5687 | M116: =IF(L116="","",VLOOKUP(L116,[1]名單!$A$1:$Z$65536,4,0)) -> 信義 | N116: =IF(L116="","",VLOOKUP(L116,[1]名單!$A$1:$Z$65536,2,0)) -> 湯雨萱 | P116: =IF(O116="","",VLOOKUP(O116,[1]名單!$A$1:$Z$65536,2,0))
A117: B39 | B117: 0.4625 | C117: 5610 | D117: =IF(C117="","",VLOOKUP(C117,[1]名單!$A$1:$Z$65536,4,0)) -> 古坑 | E117: =IF(C117="","",VLOOKUP(C117,[1]名單!$A$1:$Z$65536,2,0)) -> 黃詩雅 | F117: 5647 | G117: =IF(F117="","",VLOOKUP(F117,[1]名單!$A$1:$Z$65536,4,0)) -> 僑真 | H117: =IF(F117="","",VLOOKUP(F117,[1]名單!$A$1:$Z$65536,2,0)) -> 鐘文翎 | I117: 5671 | J117: =IF(I117="","",VLOOKUP(I117,[1]名單!$A$1:$Z$65536,4,0)) -> 大同 | K117: =IF(I117="","",VLOOKUP(I117,[1]名單!$A$1:$Z$65536,2,0)) -> 程郁捷 | L117: 5688 | M117: =IF(L117="","",VLOOKUP(L117,[1]名單!$A$1:$Z$65536,4,0)) -> 信義 | N117: =IF(L117="","",VLOOKUP(L117,[1]名單!$A$1:$Z$65536,2,0)) -> 黃雅涵 | P117: =IF(O117="","",VLOOKUP(O117,[1]名單!$A$1:$Z$65536,2,0))
B118: 個人決賽 | P118: 裁判
A119: B40 | B119: 0.5625 | C119: 7064 | D119: =VLOOKUP(C119,[3]組別!$B$1:$AK$65536,2,0) -> 國男12 | F119: 7065 | G119: =VLOOKUP(F119,[3]組別!$B$1:$AK$65536,2,0) -> 國男11 | I119: 7066 | J119: =VLOOKUP(I119,[3]組別!$B$1:$AK$65536,2,0) -> 國男10 | L119: 7067 | M119: =VLOOKUP(L119,[3]組別!$B$1:$AK$65536,2,0) -> 國男9 | P119: =IF(O119="","",VLOOKUP(O119,[3]名單!$A$1:$Z$65536,2,0))
A120: B41 | B120: 0.56666667 | C120: 7068 | D120: =VLOOKUP(C120,[3]組別!$B$1:$AK$65536,2,0) -> 國男8 | F120: 7069 | G120: =VLOOKUP(F120,[3]組別!$B$1:$AK$65536,2,0) -> 國男7 | I120: 7070 | J120: =VLOOKUP(I120,[3]組別!$B$1:$AK$65536,2,0) -> 國男6 | L120: 7071 | M120: =VLOOKUP(L120,[3]組別!$B$1:$AK$65536,2,0) -> 國男5 | P120: =IF(O120="","",VLOOKUP(O120,[3]名單!$A$1:$Z$65536,2,0))
A121: B42 | B121: 0.57083333 | C121: 7072 | D121: =VLOOKUP(C121,[3]組別!$B$1:$AK$65536,2,0) -> 國男4 | F121: 7073 | G121: =VLOOKUP(F121,[3]組別!$B$1:$AK$65536,2,0) -> 國男3 | I121: 7074 | J121: =VLOOKUP(I121,[3]組別!$B$1:$AK$65536,2,0) -> 國男2 | L121: 7075 | M121: =VLOOKUP(L121,[3]組別!$B$1:$AK$65536,2,0) -> 國男1 | P121: =IF(O121="","",VLOOKUP(O121,[3]名單!$A$1:$Z$65536,2,0))
A122: B43 | B122: 0.575 | C122: 7079 | D122: =VLOOKUP(C122,[2]組別!$B$1:$AK$65536,2,0) -> 六男12 | F122: 7080 | G122: =VLOOKUP(F122,[2]組別!$B$1:$AK$65536,2,0) -> 六男11 | I122: 7081 | J122: =VLOOKUP(I122,[2]組別!$B$1:$AK$65536,2,0) -> 六男10 | L122: 7082 | M122: =VLOOKUP(L122,[2]組別!$B$1:$AK$65536,2,0) -> 六男9 | P122: =IF(O122="","",VLOOKUP(O122,[2]名單!$A$1:$Z$65536,2,0))
A123: B44 | B123: 0.57916667 | C123: 7083 | D123: =VLOOKUP(C123,[2]組別!$B$1:$AK$65536,2,0) -> 六男8 | F123: 7084 | G123: =VLOOKUP(F123,[2]組別!$B$1:$AK$65536,2,0) -> 六男7 | I123: 7085 | J123: =VLOOKUP(I123,[2]組別!$B$1:$AK$65536,2,0) -> 六男6 | L123: 7086 | M123: =VLOOKUP(L123,[2]組別!$B$1:$AK$65536,2,0) -> 六男5 | P123: =IF(O123="","",VLOOKUP(O123,[2]名單!$A$1:$Z$65536,2,0))
A124: B45 | B124: 0.58333333 | C124: 7087 | D124: =VLOOKUP(C124,[2]組別!$B$1:$AK$65536,2,0) -> 六男4 | F124: 7088 | G124: =VLOOKUP(F124,[2]組別!$B$1:$AK$65536,2,0) -> 六男3 | I124: 7089 | J124: =VLOOKUP(I124,[2]組別!$B$1:$AK$65536,2,0) -> 六男2 | L124: 7090 | M124: =VLOOKUP(L124,[2]組別!$B$1:$AK$65536,2,0) -> 六男1 | P124: =IF(O124="","",VLOOKUP(O124,[2]名單!$A$1:$Z$65536,2,0))

Sheet 賽程表3
A1: 請注意本次比賽地點改在林內鄉義峰高中 請不要跑錯地方了
A2: 104年春季縣長盃木球賽賽程表
A3: 日 期 | C3: 104年4月18日（星期六）A場地
A4: 場次 | B4: 時間 | C4: 選 手 名 單
A5: 3 | B5: 組別 | D5: =VLOOKUP(A5,[1]組別!$A$1:$AK$65536,2,0) -> 社會男子組 | P5: 裁判
A6: A1 | B6: 0.33333333 | C6: 1201 | D6: =IF(C6="","",VLOOKUP(C6,[1]名單!$A$1:$Z$65536,4,0)) -> 馬光 | E6: =IF(C6="","",VLOOKUP(C6,[1]名單!$A$1:$Z$65536,2,0)) -> 張博彥 | F6: 1217 | G6: =IF(F6="","",VLOOKUP(F6,[1]名單!$A$1:$Z$65536,4,0)) -> 義峰A | H6: =IF(F6="","",VLOOKUP(F6,[1]名單!$A$1:$Z$65536,2,0)) -> 鄭立揚 | I6: 1231 | J6: =IF(I6="","",VLOOKUP(I6,[1]名單!$A$1:$Z$65536,4,0)) -> 雲林 | K6: =IF(I6="","",VLOOKUP(I6,[1]名單!$A$1:$Z$65536,2,0)) -> 鄭詠耀 | L6: 1244 | M6: =IF(L6="","",VLOOKUP(L6,[1]名單!$A$1:$Z$65536,4,0)) -> 溪陽A | N6: =IF(L6="","",VLOOKUP(L6,[1]名單!$A$1:$Z$65536,2,0)) -> 鄭錫駿
A7: A2 | B7: 0.3375 | C7: 1202 | D7: =IF(C7="","",VLOOKUP(C7,[1]名單!$A$1:$Z$65536,4,0)) -> 馬光 | E7: =IF(C7="","",VLOOKUP(C7,[1]名單!$A$1:$Z$65536,2,0)) -> 謝培田 | F7: 1218 | G7: =IF(F7="","",VLOOKUP(F7,[1]名單!$A$1:$Z$65536,4,0)) -> 義峰A | H7: =IF(F7="","",VLOOKUP(F7,[1]名單!$A$1:$Z$65536,2,0)) -> 陳俊志 | I7: 1232 | J7: =IF(I7="","",VLOOKUP(I7,[1]名單!$A$1:$Z$65536,4,0)) -> 雲林 | K7: =IF(I7="","",VLOOKUP(I7,[1]名單!$A$1:$Z$65536,2,0)) -> 蔡世宏 | L7: 1245 | M7: =IF(L7="","",VLOOKUP(L7,[1]名單!$A$1:$Z$65536,4,0)) -> 溪陽A | N7: =IF(L7="","",VLOOKUP(L7,[1]名單!$A$1:$Z$65536,2,0)) -> 楊淇鈞
A8: A3 | B8: 0.34166667 | C8: 1203 | D8: =IF(C8="","",VLOOKUP(C8,[1]名單!$A$1:$Z$65536,4,0)) -> 馬光 | E8: =IF(C8="","",VLOOKUP(C8,[1]名單!$A$1:$Z$65536,2,0)) -> 林約三 | F8: 1219 | G8: =IF(F8="","",VLOOKUP(F8,[1]名單!$A$1:$Z$65536,4,0)) -> 義峰B | H8: =IF(F8="","",VLOOKUP(F8,[1]名單!$A$1:$Z$65536,2,0)) -> 王安順 | I8: 1233 | J8: =IF(I8="","",VLOOKUP(I8,[1]名單!$A$1:$Z$65536,4,0)) -> 雲林 | K8: =IF(I8="","",VLOOKUP(I8,[1]名單!$A$1:$Z$65536,2,0)) -> 劉炘衢 | L8: 1246 | M8: =IF(L8="","",VLOOKUP(L8,[1]名單!$A$1:$Z$65536,4,0)) -> 溪陽A | N8: =IF(L8="","",VLOOKUP(L8,[1]名單!$A$1:$Z$65536,2,0)) -> 劉顯誠
A9: A4 | B9: 0.34583333 | C9: 1207 | D9: =IF(C9="","",VLOOKUP(C9,[1]名單!$A$1:$Z$65536,4,0)) -> 重興 | E9: =IF(C9="","",VLOOKUP(C9,[1]名單!$A$1:$Z$65536,2,0)) -> 施錫勳 | F9: 1220 | G9: =IF(F9="","",VLOOKUP(F9,[1]名單!$A$1:$Z$65536,4,0)) -> 義峰B | H9: =IF(F9="","",VLOOKUP(F9,[1]名單!$A$1:$Z$65536,2,0)) -> 張春得 | I9: 1234 | J9: =IF(I9="","",VLOOKUP(I9,[1]名單!$A$1:$Z$65536,4,0)) -> 雲林 | K9: =IF(I9="","",VLOOKUP(I9,[1]名單!$A$1:$Z$65536,2,0)) -> 廖信雄 | L9: 1247 | M9: =IF(L9="","",VLOOKUP(L9,[1]名單!$A$1:$Z$65536,4,0)) -> 溪陽A | N9: =IF(L9="","",VLOOKUP(L9,[1]名單!$A$1:$Z$65536,2,0)) -> 邱子倫
A10: A5 | B10: 0.35 | C10: 1208 | D10: =IF(C10="","",VLOOKUP(C10,[1]名單!$A$1:$Z$65536,4,0)) -> 重興 | E10: =IF(C10="","",VLOOKUP(C10,[1]名單!$A$1:$Z$65536,2,0)) -> 張建成 | F10: 1221 | G10: =IF(F10="","",VLOOKUP(F10,[1]名單!$A$1:$Z$65536,4,0)) -> 義峰B | H10: =IF(F10="","",VLOOKUP(F10,[1]名單!$A$1:$Z$65536,2,0)) -> 吳銘章 | I10: 1235 | J10: =IF(I10="","",VLOOKUP(I10,[1]名單!$A$1:$Z$65536,4,0)) -> 雲林 | K10: =IF(I10="","",VLOOKUP(I10,[1]名單!$A$1:$Z$65536,2,0)) -> 廖家慶 | L10: 1248 | M10: =IF(L10="","",VLOOKUP(L10,[1]名單!$A$1:$Z$65536,4,0)) -> 溪陽A | N10: =IF(L10="","",VLOOKUP(L10,[1]名單!$A$1:$Z$65536,2,0)) -> 黃群佑
A11: A6 | B11: 0.35416667 | C11: 1209 | D11: =IF(C11="","",VLOOKUP(C11,[1]名單!$A$1:$Z$65536,4,0)) -> 重興 | E11: =IF(C11="","",VLOOKUP(C11,[1]名單!$A$1:$Z$65536,2,0)) -> 林如龍 | F11: 1222 | G11: =IF(F11="","",VLOOKUP(F11,[1]名單!$A$1:$Z$65536,4,0)) -> 義峰B | H11: =IF(F11="","",VLOOKUP(F11,[1]名單!$A$1:$Z$65536,2,0)) -> 王哲駿 | I11: 1236 | J11: =IF(I11="","",VLOOKUP(I11,[1]名單!$A$1:$Z$65536,4,0)) -> 雲林 | K11: =IF(I11="","",VLOOKUP(I11,[1]名單!$A$1:$Z$65536,2,0)) -> 郭郁含 | L11: 1249 | M11: =IF(L11="","",VLOOKUP(L11,[1]名單!$A$1:$Z$65536,4,0)) -> 溪陽B | N11: =IF(L11="","",VLOOKUP(L11,[1]名單!$A$1:$Z$65536,2,0)) -> 林宏儒
A12: A7 | B12: 0.35833333 | C12: 1210 | D12: =IF(C12="","",VLOOKUP(C12,[1]名單!$A$1:$Z$65536,4,0)) -> 重興 | E12: =IF(C12="","",VLOOKUP(C12,[1]名單!$A$1:$Z$65536,2,0)) -> 林學發 | F12: 1223 | G12: =IF(F12="","",VLOOKUP(F12,[1]名單!$A$1:$Z$65536,4,0)) -> 義峰B | H12: =IF(F12="","",VLOOKUP(F12,[1]名單!$A$1:$Z$65536,2,0)) -> 厲秀忠 | I12: 1237 | J12: =IF(I12="","",VLOOKUP(I12,[1]名單!$A$1:$Z$65536,4,0)) -> 社會 | K12: =IF(I12="","",VLOOKUP(I12,[1]名單!$A$1:$Z$65536,2,0)) -> 吳冠穎 | L12: 1250 | M12: =IF(L12="","",VLOOKUP(L12,[1]名單!$A$1:$Z$65536,4,0)) -> 溪陽B | N12: =IF(L12="","",VLOOKUP(L12,[1]名單!$A$1:$Z$65536,2,0)) -> 楊鎮嘉
A13: A8 | B13: 0.3625 | C13: 1211 | D13: =IF(C13="","",VLOOKUP(C13,[1]名單!$A$1:$Z$65536,4,0)) -> 重興 | E13: =IF(C13="","",VLOOKUP(C13,[1]名單!$A$1:$Z$65536,2,0)) -> 蘇泓憲 | F13: 1225 | G13: =IF(F13="","",VLOOKUP(F13,[1]名單!$A$1:$Z$65536,4,0)) -> 石榴 | H13: =IF(F13="","",VLOOKUP(F13,[1]名單!$A$1:$Z$65536,2,0)) -> 沈志憲 | I13: 1238 | J13: =IF(I13="","",VLOOKUP(I13,[1]名單!$A$1:$Z$65536,4,0)) -> 社會 | K13: =IF(I13="","",VLOOKUP(I13,[1]名單!$A$1:$Z$65536,2,0)) -> 廖士元 | L13: 1251 | M13: =IF(L13="","",VLOOKUP(L13,[1]名單!$A$1:$Z$65536,4,0)) -> 溪陽B | N13: =IF(L13="","",VLOOKUP(L13,[1]名單!$A$1:$Z$65536,2,0)) -> 彭建睿
A14: A9 | B14: 0.36666667 | C14: 1212 | D14: =IF(C14="","",VLOOKUP(C14,[1]名單!$A$1:$Z$65536,4,0)) -> 重興 | E14: =IF(C14="","",VLOOKUP(C14,[1]名單!$A$1:$Z$65536,2,0)) -> 施欽鐘 | F14: 1226 | G14: =IF(F14="","",VLOOKUP(F14,[1]名單!$A$1:$Z$65536,4,0)) -> 石榴 | H14: =IF(F14="","",VLOOKUP(F14,[1]名單!$A$1:$Z$65536,2,0)) -> 陳雲龍 | I14: 1239 | J14: =IF(I14="","",VLOOKUP(I14,[1]名單!$A$1:$Z$65536,4,0)) -> 社會 | K14: =IF(I14="","",VLOOKUP(I14,[1]名單!$A$1:$Z$65536,2,0)) -> 廖本祺 | L14: 1252 | M14: =IF(L14="","",VLOOKUP(L14,[1]名單!$A$1:$Z$65536,4,0)) -> 溪陽B | N14: =IF(L14="","",VLOOKUP(L14,[1]名單!$A$1:$Z$65536,2,0)) -> 彭志騰
A15: A10 | B15: 0.37083333 | C15: 1213 | D15: =IF(C15="","",VLOOKUP(C15,[1]名單!$A$1:$Z$65536,4,0)) -> 義峰A | E15: =IF(C15="","",VLOOKUP(C15,[1]名單!$A$1:$Z$65536,2,0)) -> 張世杰 | F15: 1227 | G15: =IF(F15="","",VLOOKUP(F15,[1]名單!$A$1:$Z$65536,4,0)) -> 石榴 | H15: =IF(F15="","",VLOOKUP(F15,[1]名單!$A$1:$Z$65536,2,0)) -> 周群斌 | I15: 1240 | J15: =IF(I15="","",VLOOKUP(I15,[1]名單!$A$1:$Z$65536,4,0)) -> 社會 | K15: =IF(I15="","",VLOOKUP(I15,[1]名單!$A$1:$Z$65536,2,0)) -> 林俊吉 | L15: 1253 | M15: =IF(L15="","",VLOOKUP(L15,[1]名單!$A$1:$Z$65536,4,0)) -> 溪陽B | N15: =IF(L15="","",VLOOKUP(L15,[1]名單!$A$1:$Z$65536,2,0)) -> 鄭豐育
A16: A11 | B16: 0.375 | C16: 1214 | D16: =IF(C16="","",VLOOKUP(C16,[1]名單!$A$1:$Z$65536,4,0)) -> 義峰A | E16: =IF(C16="","",VLOOKUP(C16,[1]名單!$A$1:$Z$65536,2,0)) -> 蔡堡樺 | F16: 1228 | G16: =IF(F16="","",VLOOKUP(F16,[1]名單!$A$1:$Z$65536,4,0)) -> 石榴 | H16: =IF(F16="","",VLOOKUP(F16,[1]名單!$A$1:$Z$65536,2,0)) -> 林麗卿 | I16: 1241 | J16: =IF(I16="","",VLOOKUP(I16,[1]名單!$A$1:$Z$65536,4,0)) -> 社會 | K16: =IF(I16="","",VLOOKUP(I16,[1]名單!$A$1:$Z$65536,2,0)) -> 鄭吉成 | L16: 1254 | M16: =IF(L16="","",VLOOKUP(L16,[1]名單!$A$1:$Z$65536,4,0)) -> 溪陽B | N16: =IF(L16="","",VLOOKUP(L16,[1]名單!$A$1:$Z$65536,2,0)) -> 張佑誠
A17: A12 | B17: 0.37916667 | C17: 1215 | D17: =IF(C17="","",VLOOKUP(C17,[1]名單!$A$1:$Z$65536,4,0)) -> 義峰A | E17: =IF(C17="","",VLOOKUP(C17,[1]名單!$A$1:$Z$65536,2,0)) -> 汪駟承 | F17: 1229 | G17: =IF(F17="","",VLOOKUP(F17,[1]名單!$A$1:$Z$65536,4,0)) -> 石榴 | H17: =IF(F17="","",VLOOKUP(F17,[1]名單!$A$1:$Z$65536,2,0)) -> 丁哲民 | I17: 1242 | J17: =IF(I17="","",VLOOKUP(I17,[1]名單!$A$1:$Z$65536,4,0)) -> 社會 | K17: =IF(I17="","",VLOOKUP(I17,[1]名單!$A$1:$Z$65536,2,0)) -> 陳昱昇 | M17: =IF(L17="","",VLOOKUP(L17,[1]名單!$A$1:$Z$65536,4,0)) | N17: =IF(L17="","",VLOOKUP(L17,[1]名單!$A$1:$Z$65536,2,0))
A18: A13 | B18: 0.38333333 | C18: 1216 | D18: =IF(C18="","",VLOOKUP(C18,[1]名單!$A$1:$Z$65536,4,0)) -> 義峰A | E18: =IF(C18="","",VLOOKUP(C18,[1]名單!$A$1:$Z$65536,2,0)) -> 郭政霖 | F18: 1230 | G18: =IF(F18="","",VLOOKUP(F18,[1]名單!$A$1:$Z$65536,4,0)) -> 石榴 | H18: =IF(F18="","",VLOOKUP(F18,[1]名單!$A$1:$Z$65536,2,0)) -> 張惟翔 | I18: 1243 | J18: =IF(I18="","",VLOOKUP(I18,[1]名單!$A$1:$Z$65536,4,0)) -> 溪陽A | K18: =IF(I18="","",VLOOKUP(I18,[1]名單!$A$1:$Z$65536,2,0)) -> 廖振良 | M18: =IF(L18="","",VLOOKUP(L18,[1]名單!$A$1:$Z$65536,4,0)) | N18: =IF(L18="","",VLOOKUP(L18,[1]名單!$A$1:$Z$65536,2,0))
A19: 1 | B19: 組別 | D19: =VLOOKUP(A19,[1]組別!$A$1:$AK$65536,2,0) -> 長青男組 | P19: 裁判
A20: A14 | B20: 0.3875 | C20: 1101 | D20: =IF(C20="","",VLOOKUP(C20,[1]名單!$A$1:$Z$65536,4,0)) -> 馬光 | E20: =IF(C20="","",VLOOKUP(C20,[1]名單!$A$1:$Z$65536,2,0)) -> 林明生 | F20: 1107 | G20: =IF(F20="","",VLOOKUP(F20,[1]名單!$A$1:$Z$65536,4,0)) -> 馬光B | H20: =IF(F20="","",VLOOKUP(F20,[1]名單!$A$1:$Z$65536,2,0)) -> 張吉男 | I20: 1113 | J20: =IF(I20="","",VLOOKUP(I20,[1]名單!$A$1:$Z$65536,4,0)) -> 元長 | K20: =IF(I20="","",VLOOKUP(I20,[1]名單!$A$1:$Z$65536,2,0)) -> 蔡連慶 | L20: 1119 | M20: =IF(L20="","",VLOOKUP(L20,[1]名單!$A$1:$Z$65536,4,0)) -> 大東 | N20: =IF(L20="","",VLOOKUP(L20,[1]名單!$A$1:$Z$65536,2,0)) -> 沈建武
A21: A15 | B21: 0.39166667 | C21: 1102 | D21: =IF(C21="","",VLOOKUP(C21,[1]名單!$A$1:$Z$65536,4,0)) -> 馬光 | E21: =IF(C21="","",VLOOKUP(C21,[1]名單!$A$1:$Z$65536,2,0)) -> 張添丁 | F21: 1108 | G21: =IF(F21="","",VLOOKUP(F21,[1]名單!$A$1:$Z$65536,4,0)) -> 馬光B | H21: =IF(F21="","",VLOOKUP(F21,[1]名單!$A$1:$Z$65536,2,0)) -> 許江海 | I21: 1114 | J21: =IF(I21="","",VLOOKUP(I21,[1]名單!$A$1:$Z$65536,4,0)) -> 元長 | K21: =IF(I21="","",VLOOKUP(I21,[1]名單!$A$1:$Z$65536,2,0)) -> 蔡貞庫 | L21: 1120 | M21: =IF(L21="","",VLOOKUP(L21,[1]名單!$A$1:$Z$65536,4,0)) -> 大東 | N21: =IF(L21="","",VLOOKUP(L21,[1]名單!$A$1:$Z$65536,2,0)) -> 江明山
A22: A16 | B22: 0.39583333 | C22: 1103 | D22: =IF(C22="","",VLOOKUP(C22,[1]名單!$A$1:$Z$65536,4,0)) -> 馬光 | E22: =IF(C22="","",VLOOKUP(C22,[1]名單!$A$1:$Z$65536,2,0)) -> 林金生 | F22: 1109 | G22: =IF(F22="","",VLOOKUP(F22,[1]名單!$A$1:$Z$65536,4,0)) -> 馬光B | H22: =IF(F22="","",VLOOKUP(F22,[1]名單!$A$1:$Z$65536,2,0)) -> 張井南 | I22: 1115 | J22: =IF(I22="","",VLOOKUP(I22,[1]名單!$A$1:$Z$65536,4,0)) -> 元長 | K22: =IF(I22="","",VLOOKUP(I22,[1]名單!$A$1:$Z$65536,2,0)) -> 陳海瑞 | L22: 1121 | M22: =IF(L22="","",VLOOKUP(L22,[1]名單!$A$1:$Z$65536,4,0)) -> 大東 | N22: =IF(L22="","",VLOOKUP(L22,[1]名單!$A$1:$Z$65536,2,0)) -> 沈瑞榮
A23: A17 | B23: 0.4 | C23: 1104 | D23: =IF(C23="","",VLOOKUP(C23,[1]名單!$A$1:$Z$65536,4,0)) -> 馬光 | E23: =IF(C23="","",VLOOKUP(C23,[1]名單!$A$1:$Z$65536,2,0)) -> 王進發 | F23: 1110 | G23: =IF(F23="","",VLOOKUP(F23,[1]名單!$A$1:$Z$65536,4,0)) -> 馬光B | H23: =IF(F23="","",VLOOKUP(F23,[1]名單!$A$1:$Z$65536,2,0)) -> 許鼎林 | I23: 1116 | J23: =IF(I23="","",VLOOKUP(I23,[1]名單!$A$1:$Z$65536,4,0)) -> 元長 | K23: =IF(I23="","",VLOOKUP(I23,[1]名單!$A$1:$Z$65536,2,0)) -> 蔡三碧 | L23: 1122 | M23: =IF(L23="","",VLOOKUP(L23,[1]名單!$A$1:$Z$65536,4,0)) -> 大東 | N23: =IF(L23="","",VLOOKUP(L23,[1]名單!$A$1:$Z$65536,2,0)) -> 張明國
A24: A18 | B24: 0.40416667 | C24: 1105 | D24: =IF(C24="","",VLOOKUP(C24,[1]名單!$A$1:$Z$65536,4,0)) -> 馬光 | E24: =IF(C24="","",VLOOKUP(C24,[1]名單!$A$1:$Z$65536,2,0)) -> 王銘賢 | F24: 1125 | G24: =IF(F24="","",VLOOKUP(F24,[1]名單!$A$1:$Z$65536,4,0)) -> 石榴 | H24: =IF(F24="","",VLOOKUP(F24,[1]名單!$A$1:$Z$65536,2,0)) -> 郭宏機 | I24: 1117 | J24: =IF(I24="","",VLOOKUP(I24,[1]名單!$A$1:$Z$65536,4,0)) -> 元長 | K24: =IF(I24="","",VLOOKUP(I24,[1]名單!$A$1:$Z$65536,2,0)) -> 黃寶元 | L24: 1123 | M24: =IF(L24="","",VLOOKUP(L24,[1]名單!$A$1:$Z$65536,4,0)) -> 大東 | N24: =IF(L24="","",VLOOKUP(L24,[1]名單!$A$1:$Z$65536,2,0)) -> 沈萬福
A25: A19 | B25: 0.40833333 | C25: 1106 | D25: =IF(C25="","",VLOOKUP(C25,[1]名單!$A$1:$Z$65536,4,0)) -> 馬光 | E25: =IF(C25="","",VLOOKUP(C25,[1]名單!$A$1:$Z$65536,2,0)) -> 黃新營 | F25: 1124 | G25: =IF(F25="","",VLOOKUP(F25,[1]名單!$A$1:$Z$65536,4,0)) -> 大東 | H25: =IF(F25="","",VLOOKUP(F25,[1]名單!$A$1:$Z$65536,2,0)) -> 沈東澤 | I25: 1118 | J25: =IF(I25="","",VLOOKUP(I25,[1]名單!$A$1:$Z$65536,4,0)) -> 元長 | K25: =IF(I25="","",VLOOKUP(I25,[1]名單!$A$1:$Z$65536,2,0)) -> 吳俊雄 | M25: =IF(L25="","",VLOOKUP(L25,[1]名單!$A$1:$Z$65536,4,0)) | N25: =IF(L25="","",VLOOKUP(L25,[1]名單!$A$1:$Z$65536,2,0))
A26: 5 | B26: 組別 | D26: =VLOOKUP(A26,[1]組別!$A$1:$AK$65536,2,0) -> 教師男子組 | P26: 裁判
A27: A20 | B27: 0.4125 | C27: 1301 | D27: =IF(C27="","",VLOOKUP(C27,[1]名單!$A$1:$Z$65536,4,0)) -> 古坑 | E27: =IF(C27="","",VLOOKUP(C27,[1]名單!$A$1:$Z$65536,2,0)) -> 沈有朋 | F27: 1310 | G27: =IF(F27="","",VLOOKUP(F27,[1]名單!$A$1:$Z$65536,4,0)) -> 林內 | H27: =IF(F27="","",VLOOKUP(F27,[1]名單!$A$1:$Z$65536,2,0)) -> 王育峰 | I27: 1319 | J27: =IF(I27="","",VLOOKUP(I27,[1]名單!$A$1:$Z$65536,4,0)) -> 大東 | K27: =IF(I27="","",VLOOKUP(I27,[1]名單!$A$1:$Z$65536,2,0)) -> 張鑫豪 | L27: 1328 | M27: =IF(L27="","",VLOOKUP(L27,[1]名單!$A$1:$Z$65536,4,0)) -> 僑真 | N27: =IF(L27="","",VLOOKUP(L27,[1]名單!$A$1:$Z$65536,2,0)) -> 郭智明
A28: A21 | B28: 0.41666667 | C28: 1302 | D28: =IF(C28="","",VLOOKUP(C28,[1]名單!$A$1:$Z$65536,4,0)) -> 古坑 | E28: =IF(C28="","",VLOOKUP(C28,[1]名單!$A$1:$Z$65536,2,0)) -> 詹慶雲 | F28: 1311 | G28: =IF(F28="","",VLOOKUP(F28,[1]名單!$A$1:$Z$65536,4,0)) -> 林內 | H28: =IF(F28="","",VLOOKUP(F28,[1]名單!$A$1:$Z$65536,2,0)) -> 薛守仁 | I28: 1320 | J28: =IF(I28="","",VLOOKUP(I28,[1]名單!$A$1:$Z$65536,4,0)) -> 大東 | K28: =IF(I28="","",VLOOKUP(I28,[1]名單!$A$1:$Z$65536,2,0)) -> 李柏寰 | L28: 1329 | M28: =IF(L28="","",VLOOKUP(L28,[1]名單!$A$1:$Z$65536,4,0)) -> 僑真 | N28: =IF(L28="","",VLOOKUP(L28,[1]名單!$A$1:$Z$65536,2,0)) -> 黃致傑
A29: A22 | B29: 0.42083333 | C29: 1303 | D29: =IF(C29="","",VLOOKUP(C29,[1]名單!$A$1:$Z$65536,4,0)) -> 古坑 | E29: =IF(C29="","",VLOOKUP(C29,[1]名單!$A$1:$Z$65536,2,0)) -> 陳純寅 | F29: 1312 | G29: =IF(F29="","",VLOOKUP(F29,[1]名單!$A$1:$Z$65536,4,0)) -> 林內 | H29: =IF(F29="","",VLOOKUP(F29,[1]名單!$A$1:$Z$65536,2,0)) -> 邱春旗 | I29: 1321 | J29: =IF(I29="","",VLOOKUP(I29,[1]名單!$A$1:$Z$65536,4,0)) -> 大東 | K29: =IF(I29="","",VLOOKUP(I29,[1]名單!$A$1:$Z$65536,2,0)) -> 李顯宏 | L29: 1330 | M29: =IF(L29="","",VLOOKUP(L29,[1]名單!$A$1:$Z$65536,4,0)) -> 僑真 | N29: =IF(L29="","",VLOOKUP(L29,[1]名單!$A$1:$Z$65536,2,0)) -> 黃致賢
A30: A23 | B30: 0.425 | C30: 1304 | D30: =IF(C30="","",VLOOKUP(C30,[1]名單!$A$1:$Z$65536,4,0)) -> 古坑 | E30: =IF(C30="","",VLOOKUP(C30,[1]名單!$A$1:$Z$65536,2,0)) -> 韓育仁 | F30: 1313 | G30: =IF(F30="","",VLOOKUP(F30,[1]名單!$A$1:$Z$65536,4,0)) -> 重興 | H30: =IF(F30="","",VLOOKUP(F30,[1]名單!$A$1:$Z$65536,2,0)) -> 李明賜 | I30: 1322 | J30: =IF(I30="","",VLOOKUP(I30,[1]名單!$A$1:$Z$65536,4,0)) -> 大東 | K30: =IF(I30="","",VLOOKUP(I30,[1]名單!$A$1:$Z$65536,2,0)) -> 郭興昌 | L30: 1331 | M30: =IF(L30="","",VLOOKUP(L30,[1]名單!$A$1:$Z$65536,4,0)) -> 宏崙 | N30: =IF(L30="","",VLOOKUP(L30,[1]名單!$A$1:$Z$65536,2,0)) -> 沈峻民
A31: A24 | B31: 0.42916667 | C31: 1305 | D31: =IF(C31="","",VLOOKUP(C31,[1]名單!$A$1:$Z$65536,4,0)) -> 古坑 | E31: =IF(C31="","",VLOOKUP(C31,[1]名單!$A$1:$Z$65536,2,0)) -> 高國祥 | F31: 1314 | G31: =IF(F31="","",VLOOKUP(F31,[1]名單!$A$1:$Z$65536,4,0)) -> 重興 | H31: =IF(F31="","",VLOOKUP(F31,[1]名單!$A$1:$Z$65536,2,0)) -> 林暐閔 | I31: 1323 | J31: =IF(I31="","",VLOOKUP(I31,[1]名單!$A$1:$Z$65536,4,0)) -> 大東 | K31: =IF(I31="","",VLOOKUP(I31,[1]名單!$A$1:$Z$65536,2,0)) -> 鐘長振 | L31: 1332 | M31: =IF(L31="","",VLOOKUP(L31,[1]名單!$A$1:$Z$65536,4,0)) -> 宏崙 | N31: =IF(L31="","",VLOOKUP(L31,[1]名單!$A$1:$Z$65536,2,0)) -> 謝東明
A32: A25 | B32: 0.43333333 | C32: 1337 | D32: =IF(C32="","",VLOOKUP(C32,[1]名單!$A$1:$Z$65536,4,0)) -> 溝壩 | E32: =IF(C32="","",VLOOKUP(C32,[1]名單!$A$1:$Z$65536,2,0)) -> 沈耿宏 | F32: 1315 | G32: =IF(F32="","",VLOOKUP(F32,[1]名單!$A$1:$Z$65536,4,0)) -> 重興 | H32: =IF(F32="","",VLOOKUP(F32,[1]名單!$A$1:$Z$65536,2,0)) -> 林本源 | I32: 1324 | J32: =IF(I32="","",VLOOKUP(I32,[1]名單!$A$1:$Z$65536,4,0)) -> 大東 | K32: =IF(I32="","",VLOOKUP(I32,[1]名單!$A$1:$Z$65536,2,0)) -> 黃建鴻 | L32: 1333 | M32: =IF(L32="","",VLOOKUP(L32,[1]名單!$A$1:$Z$65536,4,0)) -> 宏崙 | N32: =IF(L32="","",VLOOKUP(L32,[1]名單!$A$1:$Z$65536,2,0)) -> 高正忠
A33: A26 | B33: 0.4375 | C33: 1307 | D33: =IF(C33="","",VLOOKUP(C33,[1]名單!$A$1:$Z$65536,4,0)) -> 林內 | E33: =IF(C33="","",VLOOKUP(C33,[1]名單!$A$1:$Z$65536,2,0)) -> 張宏洲 | F33: 1316 | G33: =IF(F33="","",VLOOKUP(F33,[1]名單!$A$1:$Z$65536,4,0)) -> 重興 | H33: =IF(F33="","",VLOOKUP(F33,[1]名單!$A$1:$Z$65536,2,0)) -> 林汶峰 | I33: 1325 | J33: =IF(I33="","",VLOOKUP(I33,[1]名單!$A$1:$Z$65536,4,0)) -> 僑真 | K33: =IF(I33="","",VLOOKUP(I33,[1]名單!$A$1:$Z$65536,2,0)) -> 劉南陽 | L33: 1334 | M33: =IF(L33="","",VLOOKUP(L33,[1]名單!$A$1:$Z$65536,4,0)) | N33: =IF(L33="","",VLOOKUP(L33,[1]名單!$A$1:$Z$65536,2,0)) -> 0
A34: A27 | B34: 0.44166667 | C34: 1308 | D34: =IF(C34="","",VLOOKUP(C34,[1]名單!$A$1:$Z$65536,4,0)) -> 林內 | E34: =IF(C34="","",VLOOKUP(C34,[1]名單!$A$1:$Z$65536,2,0)) -> 林丙茂 | F34: 1317 | G34: =IF(F34="","",VLOOKUP(F34,[1]名單!$A$1:$Z$65536,4,0)) -> 重興 | H34: =IF(F34="","",VLOOKUP(F34,[1]名單!$A$1:$Z$65536,2,0)) -> 黃文志 | I34: 1326 | J34: =IF(I34="","",VLOOKUP(I34,[1]名單!$A$1:$Z$65536,4,0)) -> 僑真 | K34: =IF(I34="","",VLOOKUP(I34,[1]名單!$A$1:$Z$65536,2,0)) -> 劉威男 | L34: 1335 | M34: =IF(L34="","",VLOOKUP(L34,[1]名單!$A$1:$Z$65536,4,0)) | N34: =IF(L34="","",VLOOKUP(L34,[1]名單!$A$1:$Z$65536,2,0)) -> 0
A35: A28 | B35: 0.44583333 | C35: 1309 | D35: =IF(C35="","",VLOOKUP(C35,[1]名單!$A$1:$Z$65536,4,0)) -> 林內 | E35: =IF(C35="","",VLOOKUP(C35,[1]名單!$A$1:$Z$65536,2,0)) -> 林俊智 | F35: 1318 | G35: =IF(F35="","",VLOOKUP(F35,[1]名單!$A$1:$Z$65536,4,0)) -> 重興 | H35: =IF(F35="","",VLOOKUP(F35,[1]名單!$A$1:$Z$65536,2,0)) -> 張嘉進 | I35: 1327 | J35: =IF(I35="","",VLOOKUP(I35,[1]名單!$A$1:$Z$65536,4,0)) -> 僑真 | K35: =IF(I35="","",VLOOKUP(I35,[1]名單!$A$1:$Z$65536,2,0)) -> 林景松 | L35: 1336 | M35: =IF(L35="","",VLOOKUP(L35,[1]名單!$A$1:$Z$65536,4,0)) | N35: =IF(L35="","",VLOOKUP(L35,[1]名單!$A$1:$Z$65536,2,0)) -> 0
B36: 個人決賽 | P36: 裁判
A37: A29 | B37: 0.45833333 | C37: 8019 | D37: 社女12 | F37: 8020 | G37: 社女11 | I37: 8021 | J37: 社女10 | L37: 8022 | M37: 社女9
A38: A30 | B38: 0.4625 | C38: 8023 | D38: 社女8 | F38: 8024 | G38: 社女7 | I38: 8025 | J38: 社女6 | L38: 8026 | M38: 社女5
A39: A31 | B39: 0.46666667 | C39: 8027 | D39: 社女4 | F39: 8028 | G39: 社女3 | I39: 8029 | J39: 社女2 | L39: 8030 | M39: 社女1
A40: A32 | B40: 0.47083333 | C40: 8008 | D40: 長青女8 | F40: 8009 | G40: 長青女7 | I40: 8010 | J40: 長青女6 | L40: 8011 | M40: 長青女5
A41: A33 | B41: 0.475 | C41: 8012 | D41: 長青女4 | F41: 8013 | G41: 長青女3 | I41: 8014 | J41: 長青女2 | L41: 8015 | M41: 長青女1
A42: A34 | B42: 0.47916667 | C42: 8034 | D42: 教女12 | F42: 8035 | G42: 教女11 | I42: 8036 | J42: 教女10 | L42: 8037 | M42: 教女9
A43: A35 | B43: 0.48333333 | C43: 8038 | D43: 教女8 | F43: 8039 | G43: 教女7 | I43: 8040 | J43: 教女6 | L43: 8041 | M43: 教女5
A44: A36 | B44: 0.4875 | C44: 8042 | D44: 教女4 | F44: 8043 | G44: 教女3 | I44: 8044 | J44: 教女2 | L44: 8045 | M44: 教女1
A84: =A2 -> 104年春季縣長盃木球賽賽程表
A85: 日 期 | C85: 104年4月18日（星期六）B場地
A86: 場次 | B86: 時間 | C86: 選 手 名 單
A87: 4 | B87: 組別 | D87: =VLOOKUP(A87,[1]組別!$A$1:$AK$65536,2,0) -> 社會女子組 | P87: 裁判
A88: B1 | B88: 0.33333333 | C88: 5201 | D88: =IF(C88="","",VLOOKUP(C88,[1]名單!$A$1:$Z$65536,4,0)) -> 馬光 | E88: =IF(C88="","",VLOOKUP(C88,[1]名單!$A$1:$Z$65536,2,0)) -> 謝月英 | F88: 5206 | G88: =IF(F88="","",VLOOKUP(F88,[1]名單!$A$1:$Z$65536,4,0)) -> 馬光 | H88: =IF(F88="","",VLOOKUP(F88,[1]名單!$A$1:$Z$65536,2,0)) -> 王思婷 | I88: 5211 | J88: =IF(I88="","",VLOOKUP(I88,[1]名單!$A$1:$Z$65536,4,0)) -> 重興 | K88: =IF(I88="","",VLOOKUP(I88,[1]名單!$A$1:$Z$65536,2,0)) -> 林玉雯 | L88: 5216 | M88: =IF(L88="","",VLOOKUP(L88,[1]名單!$A$1:$Z$65536,4,0)) -> 西螺 | N88: =IF(L88="","",VLOOKUP(L88,[1]名單!$A$1:$Z$65536,2,0)) -> 吳秋霞
A89: B2 | B89: 0.3375 | C89: 5202 | D89: =IF(C89="","",VLOOKUP(C89,[1]名單!$A$1:$Z$65536,4,0)) -> 馬光 | E89: =IF(C89="","",VLOOKUP(C89,[1]名單!$A$1:$Z$65536,2,0)) -> 李慧珍 | F89: 5207 | G89: =IF(F89="","",VLOOKUP(F89,[1]名單!$A$1:$Z$65536,4,0)) -> 重興 | H89: =IF(F89="","",VLOOKUP(F89,[1]名單!$A$1:$Z$65536,2,0)) -> 陳淑玉 | I89: 5212 | J89: =IF(I89="","",VLOOKUP(I89,[1]名單!$A$1:$Z$65536,4,0)) -> 重興 | K89: =IF(I89="","",VLOOKUP(I89,[1]名單!$A$1:$Z$65536,2,0)) -> 陳佳琪 | L89: 5217 | M89: =IF(L89="","",VLOOKUP(L89,[1]名單!$A$1:$Z$65536,4,0)) -> 西螺 | N89: =IF(L89="","",VLOOKUP(L89,[1]名單!$A$1:$Z$65536,2,0)) -> 吳淑華
A90: B3 | B90: 0.34166667 | C90: 5203 | D90: =IF(C90="","",VLOOKUP(C90,[1]名單!$A$1:$Z$65536,4,0)) -> 馬光 | E90: =IF(C90="","",VLOOKUP(C90,[1]名單!$A$1:$Z$65536,2,0)) -> 謝寶儀 | F90: 5208 | G90: =IF(F90="","",VLOOKUP(F90,[1]名單!$A$1:$Z$65536,4,0)) -> 重興 | H90: =IF(F90="","",VLOOKUP(F90,[1]名單!$A$1:$Z$65536,2,0)) -> 李雅雯 | I90: 5213 | J90: =IF(I90="","",VLOOKUP(I90,[1]名單!$A$1:$Z$65536,4,0)) -> 西螺 | K90: =IF(I90="","",VLOOKUP(I90,[1]名單!$A$1:$Z$65536,2,0)) -> 吳月娟 | L90: 5218 | M90: =IF(L90="","",VLOOKUP(L90,[1]名單!$A$1:$Z$65536,4,0)) -> 西螺 | N90: =IF(L90="","",VLOOKUP(L90,[1]名單!$A$1:$Z$65536,2,0)) -> 顏雅華
A91: B4 | B91: 0.34583333 | C91: 5204 | D91: =IF(C91="","",VLOOKUP(C91,[1]名單!$A$1:$Z$65536,4,0)) -> 馬光 | E91: =IF(C91="","",VLOOKUP(C91,[1]名單!$A$1:$Z$65536,2,0)) -> 陳美菱 | F91: 5220 | G91: =IF(F91="","",VLOOKUP(F91,[1]名單!$A$1:$Z$65536,4,0)) -> 大東 | H91: =IF(F91="","",VLOOKUP(F91,[1]名單!$A$1:$Z$65536,2,0)) -> 黃楚鈞 | I91: 5214 | J91: =IF(I91="","",VLOOKUP(I91,[1]名單!$A$1:$Z$65536,4,0)) -> 西螺 | K91: =IF(I91="","",VLOOKUP(I91,[1]名單!$A$1:$Z$65536,2,0)) -> 張美慧 | L91: 5219 | M91: =IF(L91="","",VLOOKUP(L91,[1]名單!$A$1:$Z$65536,4,0)) -> 大東 | N91: =IF(L91="","",VLOOKUP(L91,[1]名單!$A$1:$Z$65536,2,0)) -> 張珠金
A92: B5 | B92: 0.35 | C92: 5205 | D92: =IF(C92="","",VLOOKUP(C92,[1]名單!$A$1:$Z$65536,4,0)) -> 馬光 | E92: =IF(C92="","",VLOOKUP(C92,[1]名單!$A$1:$Z$65536,2,0)) -> 蔡麗娟 | F92: 5210 | G92: =IF(F92="","",VLOOKUP(F92,[1]名單!$A$1:$Z$65536,4,0)) -> 重興 | H92: =IF(F92="","",VLOOKUP(F92,[1]名單!$A$1:$Z$65536,2,0)) -> 江幸容 | I92: 5215 | J92: =IF(I92="","",VLOOKUP(I92,[1]名單!$A$1:$Z$65536,4,0)) -> 西螺 | K92: =IF(I92="","",VLOOKUP(I92,[1]名單!$A$1:$Z$65536,2,0)) -> 許月惠 | M92: =IF(L92="","",VLOOKUP(L92,[1]名單!$A$1:$Z$65536,4,0)) | N92: =IF(L92="","",VLOOKUP(L92,[1]名單!$A$1:$Z$65536,2,0))
A93: 2 | B93: 組別 | D93: =VLOOKUP(A93,[1]組別!$A$1:$AK$65536,2,0) -> 長青女組 | P93: 裁判
A94: B6 | B94: 0.35416667 | C94: 5101 | D94: =IF(C94="","",VLOOKUP(C94,[1]名單!$A$1:$Z$65536,4,0)) -> 馬光 | E94: =IF(C94="","",VLOOKUP(C94,[1]名單!$A$1:$Z$65536,2,0)) -> 張英煌 | F94: 5104 | G94: =IF(F94="","",VLOOKUP(F94,[1]名單!$A$1:$Z$65536,4,0)) -> 馬光 | H94: =IF(F94="","",VLOOKUP(F94,[1]名單!$A$1:$Z$65536,2,0)) -> 賴月珠 | I94: 5108 | J94: =IF(I94="","",VLOOKUP(I94,[1]名單!$A$1:$Z$65536,4,0)) -> 西平 | K94: =IF(I94="","",VLOOKUP(I94,[1]名單!$A$1:$Z$65536,2,0)) -> 張莊秀梅 | M94: =IF(L94="","",VLOOKUP(L94,[1]名單!$A$1:$Z$65536,4,0)) | N94: =IF(L94="","",VLOOKUP(L94,[1]名單!$A$1:$Z$65536,2,0))
A95: B7 | B95: 0.35833333 | C95: 5102 | D95: =IF(C95="","",VLOOKUP(C95,[1]名單!$A$1:$Z$65536,4,0)) -> 馬光 | E95: =IF(C95="","",VLOOKUP(C95,[1]名單!$A$1:$Z$65536,2,0)) -> 蕭張妤珣 | F95: 5105 | G95: =IF(F95="","",VLOOKUP(F95,[1]名單!$A$1:$Z$65536,4,0)) -> 馬光 | H95: =IF(F95="","",VLOOKUP(F95,[1]名單!$A$1:$Z$65536,2,0)) -> 張郭丹 | I95: 5109 | J95: =IF(I95="","",VLOOKUP(I95,[1]名單!$A$1:$Z$65536,4,0)) -> 西平 | K95: =IF(I95="","",VLOOKUP(I95,[1]名單!$A$1:$Z$65536,2,0)) -> 張錦枝 | M95: =IF(L95="","",VLOOKUP(L95,[1]名單!$A$1:$Z$65536,4,0)) | N95: =IF(L95="","",VLOOKUP(L95,[1]名單!$A$1:$Z$65536,2,0))
A96: B8 | B96: 0.3625 | C96: 5103 | D96: =IF(C96="","",VLOOKUP(C96,[1]名單!$A$1:$Z$65536,4,0)) -> 馬光 | E96: =IF(C96="","",VLOOKUP(C96,[1]名單!$A$1:$Z$65536,2,0)) -> 林瑞鶯 | F96: 5107 | G96: =IF(F96="","",VLOOKUP(F96,[1]名單!$A$1:$Z$65536,4,0)) -> 西平 | H96: =IF(F96="","",VLOOKUP(F96,[1]名單!$A$1:$Z$65536,2,0)) -> 歐陽矩慶 | I96: 5110 | J96: =IF(I96="","",VLOOKUP(I96,[1]名單!$A$1:$Z$65536,4,0)) -> 西平 | K96: =IF(I96="","",VLOOKUP(I96,[1]名單!$A$1:$Z$65536,2,0)) -> 張馨方 | M96: =IF(L96="","",VLOOKUP(L96,[1]名單!$A$1:$Z$65536,4,0)) | N96: =IF(L96="","",VLOOKUP(L96,[1]名單!$A$1:$Z$65536,2,0))
A97: 6 | B97: 組別 | D97: =VLOOKUP(A97,[5]組別!$A$1:$AK$65536,2,0) -> 教師女子組 | P97: 裁判
A98: B9 | B98: 0.36666667 | C98: 5301 | D98: =IF(C98="","",VLOOKUP(C98,[1]名單!$A$1:$Z$65536,4,0)) -> 溝壩 | E98: =IF(C98="","",VLOOKUP(C98,[1]名單!$A$1:$Z$65536,2,0)) -> 楊舒淇 | F98: 5310 | G98: =IF(F98="","",VLOOKUP(F98,[1]名單!$A$1:$Z$65536,4,0)) -> 重興 | H98: =IF(F98="","",VLOOKUP(F98,[1]名單!$A$1:$Z$65536,2,0)) -> 黃婷鈺 | I98: 5319 | J98: =IF(I98="","",VLOOKUP(I98,[1]名單!$A$1:$Z$65536,4,0)) -> 民生 | K98: =IF(I98="","",VLOOKUP(I98,[1]名單!$A$1:$Z$65536,2,0)) -> 林綺楓 | L98: 5328 | M98: =IF(L98="","",VLOOKUP(L98,[1]名單!$A$1:$Z$65536,4,0)) -> 僑真 | N98: =IF(L98="","",VLOOKUP(L98,[1]名單!$A$1:$Z$65536,2,0)) -> 蔡慧炫
A99: B10 | B99: 0.37083333 | C99: 5302 | D99: =IF(C99="","",VLOOKUP(C99,[1]名單!$A$1:$Z$65536,4,0)) -> 溝壩 | E99: =IF(C99="","",VLOOKUP(C99,[1]名單!$A$1:$Z$65536,2,0)) -> 翁碧慧 | F99: 5311 | G99: =IF(F99="","",VLOOKUP(F99,[1]名單!$A$1:$Z$65536,4,0)) -> 重興 | H99: =IF(F99="","",VLOOKUP(F99,[1]名單!$A$1:$Z$65536,2,0)) -> 黃惠文 | I99: 5320 | J99: =IF(I99="","",VLOOKUP(I99,[1]名單!$A$1:$Z$65536,4,0)) -> 民生 | K99: =IF(I99="","",VLOOKUP(I99,[1]名單!$A$1:$Z$65536,2,0)) -> 郭滿州 | L99: 5329 | M99: =IF(L99="","",VLOOKUP(L99,[1]名單!$A$1:$Z$65536,4,0)) -> 僑真 | N99: =IF(L99="","",VLOOKUP(L99,[1]名單!$A$1:$Z$65536,2,0)) -> 鄭秀玲
A100: B11 | B100: 0.375 | C100: 5303 | D100: =IF(C100="","",VLOOKUP(C100,[1]名單!$A$1:$Z$65536,4,0)) -> 溝壩 | E100: =IF(C100="","",VLOOKUP(C100,[1]名單!$A$1:$Z$65536,2,0)) -> 范淑婷 | F100: 5312 | G100: =IF(F100="","",VLOOKUP(F100,[1]名單!$A$1:$Z$65536,4,0)) -> 重興 | H100: =IF(F100="","",VLOOKUP(F100,[1]名單!$A$1:$Z$65536,2,0)) -> 黃麗蘭 | I100: 5321 | J100: =IF(I100="","",VLOOKUP(I100,[1]名單!$A$1:$Z$65536,4,0)) -> 民生 | K100: =IF(I100="","",VLOOKUP(I100,[1]名單!$A$1:$Z$65536,2,0)) -> 鄭伊芳 | L100: 5330 | M100: =IF(L100="","",VLOOKUP(L100,[1]名單!$A$1:$Z$65536,4,0)) -> 僑真 | N100: =IF(L100="","",VLOOKUP(L100,[1]名單!$A$1:$Z$65536,2,0)) -> 黃翠紅
A101: B12 | B101: 0.37916667 | C101: 5304 | D101: =IF(C101="","",VLOOKUP(C101,[1]名單!$A$1:$Z$65536,4,0)) -> 溝壩 | E101: =IF(C101="","",VLOOKUP(C101,[1]名單!$A$1:$Z$65536,2,0)) -> 陳滿足 | F101: 5313 | G101: =IF(F101="","",VLOOKUP(F101,[1]名單!$A$1:$Z$65536,4,0)) -> 九芎 | H101: =IF(F101="","",VLOOKUP(F101,[1]名單!$A$1:$Z$65536,2,0)) -> 吳慧娟 | I101: 5322 | J101: =IF(I101="","",VLOOKUP(I101,[1]名單!$A$1:$Z$65536,4,0)) -> 民生 | K101: =IF(I101="","",VLOOKUP(I101,[1]名單!$A$1:$Z$65536,2,0)) -> 陳月蘭 | L101: 5331 | M101: =IF(L101="","",VLOOKUP(L101,[1]名單!$A$1:$Z$65536,4,0)) -> 信義 | N101: =IF(L101="","",VLOOKUP(L101,[1]名單!$A$1:$Z$65536,2,0)) -> 傅玲容
A102: B13 | B102: 0.38333333 | C102: 5305 | D102: =IF(C102="","",VLOOKUP(C102,[1]名單!$A$1:$Z$65536,4,0)) -> 溝壩 | E102: =IF(C102="","",VLOOKUP(C102,[1]名單!$A$1:$Z$65536,2,0)) -> 黃小華 | F102: 5314 | G102: =IF(F102="","",VLOOKUP(F102,[1]名單!$A$1:$Z$65536,4,0)) -> 九芎 | H102: =IF(F102="","",VLOOKUP(F102,[1]名單!$A$1:$Z$65536,2,0)) -> 林宜蓁 | I102: 5325 | J102: =IF(I102="","",VLOOKUP(I102,[1]名單!$A$1:$Z$65536,4,0)) -> 僑真 | K102: =IF(I102="","",VLOOKUP(I102,[1]名單!$A$1:$Z$65536,2,0)) -> 張嘉卿 | L102: 5332 | M102: =IF(L102="","",VLOOKUP(L102,[1]名單!$A$1:$Z$65536,4,0)) -> 信義 | N102: =IF(L102="","",VLOOKUP(L102,[1]名單!$A$1:$Z$65536,2,0)) -> 周青樺
A103: B14 | B103: 0.3875 | C103: 5306 | D103: =IF(C103="","",VLOOKUP(C103,[1]名單!$A$1:$Z$65536,4,0)) -> 溝壩 | E103: =IF(C103="","",VLOOKUP(C103,[1]名單!$A$1:$Z$65536,2,0)) -> 黃玉雯 | F103: 5315 | G103: =IF(F103="","",VLOOKUP(F103,[1]名單!$A$1:$Z$65536,4,0)) -> 九芎 | H103: =IF(F103="","",VLOOKUP(F103,[1]名單!$A$1:$Z$65536,2,0)) -> 林怡君 | I103: 5326 | J103: =IF(I103="","",VLOOKUP(I103,[1]名單!$A$1:$Z$65536,4,0)) -> 僑真 | K103: =IF(I103="","",VLOOKUP(I103,[1]名單!$A$1:$Z$65536,2,0)) -> 李宗鈴 | L103: 5333 | M103: =IF(L103="","",VLOOKUP(L103,[1]名單!$A$1:$Z$65536,4,0)) -> 信義 | N103: =IF(L103="","",VLOOKUP(L103,[1]名單!$A$1:$Z$65536,2,0)) -> 林佳蓉
A104: B15 | B104: 0.39166667 | C104: 5307 | D104: =IF(C104="","",VLOOKUP(C104,[1]名單!$A$1:$Z$65536,4,0)) -> 重興 | E104: =IF(C104="","",VLOOKUP(C104,[1]名單!$A$1:$Z$65536,2,0)) -> 張嘉容 | F104: 5316 | G104: =IF(F104="","",VLOOKUP(F104,[1]名單!$A$1:$Z$65536,4,0)) -> 九芎 | H104: =IF(F104="","",VLOOKUP(F104,[1]名單!$A$1:$Z$65536,2,0)) -> 江幸容 | I104: 5327 | J104: =IF(I104="","",VLOOKUP(I104,[1]名單!$A$1:$Z$65536,4,0)) -> 僑真 | K104: =IF(I104="","",VLOOKUP(I104,[1]名單!$A$1:$Z$65536,2,0)) -> 葉望蘭 | L104: 5334 | M104: =IF(L104="","",VLOOKUP(L104,[1]名單!$A$1:$Z$65536,4,0)) -> 信義 | N104: =IF(L104="","",VLOOKUP(L104,[1]名單!$A$1:$Z$65536,2,0)) -> 郭淑娟
A105: B16 | B105: 0.39583333 | C105: 5308 | D105: =IF(C105="","",VLOOKUP(C105,[1]名單!$A$1:$Z$65536,4,0)) -> 重興 | E105: =IF(C105="","",VLOOKUP(C105,[1]名單!$A$1:$Z$65536,2,0)) -> 張嘉麟 | F105: 5317 | G105: =IF(F105="","",VLOOKUP(F105,[1]名單!$A$1:$Z$65536,4,0)) -> 九芎 | H105: =IF(F105="","",VLOOKUP(F105,[1]名單!$A$1:$Z$65536,2,0)) -> 沈琪梅 | I105: 5335 | J105: =IF(I105="","",VLOOKUP(I105,[1]名單!$A$1:$Z$65536,4,0)) -> 信義 | K105: =IF(I105="","",VLOOKUP(I105,[1]名單!$A$1:$Z$65536,2,0)) -> 陳靜儀 | M105: =IF(L105="","",VLOOKUP(L105,[1]名單!$A$1:$Z$65536,4,0)) | N105: =IF(L105="","",VLOOKUP(L105,[1]名單!$A$1:$Z$65536,2,0))
A106: B17 | B106: 0.4 | C106: 5309 | D106: =IF(C106="","",VLOOKUP(C106,[1]名單!$A$1:$Z$65536,4,0)) -> 重興 | E106: =IF(C106="","",VLOOKUP(C106,[1]名單!$A$1:$Z$65536,2,0)) -> 張嫈敏 | F106: 5318 | G106: =IF(F106="","",VLOOKUP(F106,[1]名單!$A$1:$Z$65536,4,0)) -> 九芎 | H106: =IF(F106="","",VLOOKUP(F106,[1]名單!$A$1:$Z$65536,2,0)) -> 謝莉文 | I106: 5336 | J106: =IF(I106="","",VLOOKUP(I106,[1]名單!$A$1:$Z$65536,4,0)) -> 信義 | K106: =IF(I106="","",VLOOKUP(I106,[1]名單!$A$1:$Z$65536,2,0)) -> 魏美粧 | M106: =IF(L106="","",VLOOKUP(L106,[1]名單!$A$1:$Z$65536,4,0)) | N106: =IF(L106="","",VLOOKUP(L106,[1]名單!$A$1:$Z$65536,2,0))
B107: 個人決賽 | P107: 裁判
A108: B18 | B108: 0.45833333 | C108: 7019 | D108: =VLOOKUP(C108,[1]組別!$B$1:$AK$65536,2,0) -> 社男12 | F108: 7020 | G108: =VLOOKUP(F108,[1]組別!$B$1:$AK$65536,2,0) -> 社男11 | I108: 7021 | J108: =VLOOKUP(I108,[1]組別!$B$1:$AK$65536,2,0) -> 社男10 | L108: 7022 | M108: =VLOOKUP(L108,[1]組別!$B$1:$AK$65536,2,0) -> 社男9
A109: B19 | B109: 0.4625 | C109: 7023 | D109: =VLOOKUP(C109,[1]組別!$B$1:$AK$65536,2,0) -> 社男8 | F109: 7024 | G109: =VLOOKUP(F109,[1]組別!$B$1:$AK$65536,2,0) -> 社男7 | I109: 7025 | J109: =VLOOKUP(I109,[1]組別!$B$1:$AK$65536,2,0) -> 社男6 | L109: 7026 | M109: =VLOOKUP(L109,[1]組別!$B$1:$AK$65536,2,0) -> 社男5
A110: B20 | B110: 0.46666667 | C110: 7027 | D110: =VLOOKUP(C110,[1]組別!$B$1:$AK$65536,2,0) -> 社男4 | F110: 7028 | G110: =VLOOKUP(F110,[1]組別!$B$1:$AK$65536,2,0) -> 社男3 | I110: 7029 | J110: =VLOOKUP(I110,[1]組別!$B$1:$AK$65536,2,0) -> 社男2 | L110: 7030 | M110: =VLOOKUP(L110,[1]組別!$B$1:$AK$65536,2,0) -> 社男1
A111: B21 | B111: 0.47083333 | C111: 7004 | D111: =VLOOKUP(C111,[1]組別!$B$1:$AK$65536,2,0) -> 長青男12 | F111: 7005 | G111: =VLOOKUP(F111,[1]組別!$B$1:$AK$65536,2,0) -> 長青男11 | I111: 7006 | J111: =VLOOKUP(I111,[1]組別!$B$1:$AK$65536,2,0) -> 長青男10 | L111: 7007 | M111: =VLOOKUP(L111,[1]組別!$B$1:$AK$65536,2,0) -> 長青男9
A112: B22 | B112: 0.475 | C112: 7008 | D112: =VLOOKUP(C112,[1]組別!$B$1:$AK$65536,2,0) -> 長青男8 | F112: 7009 | G112: =VLOOKUP(F112,[1]組別!$B$1:$AK$65536,2,0) -> 長青男7 | I112: 7010 | J112: =VLOOKUP(I112,[1]組別!$B$1:$AK$65536,2,0) -> 長青男6 | L112: 7011 | M112: =VLOOKUP(L112,[1]組別!$B$1:$AK$65536,2,0) -> 長青男5
A113: B23 | B113: 0.47916667 | C113: 7012 | D113: =VLOOKUP(C113,[1]組別!$B$1:$AK$65536,2,0) -> 長青男4 | F113: 7013 | G113: =VLOOKUP(F113,[1]組別!$B$1:$AK$65536,2,0) -> 長青男3 | I113: 7014 | J113: =VLOOKUP(I113,[1]組別!$B$1:$AK$65536,2,0) -> 長青男2 | L113: 7015 | M113: =VLOOKUP(L113,[1]組別!$B$1:$AK$65536,2,0) -> 長青男1
A114: B24 | B114: 0.48333333 | C114: 7034 | D114: =VLOOKUP(C114,[1]組別!$B$1:$AK$65536,2,0) -> 教男12 | F114: 7035 | G114: =VLOOKUP(F114,[1]組別!$B$1:$AK$65536,2,0) -> 教男11 | I114: 7036 | J114: =VLOOKUP(I114,[1]組別!$B$1:$AK$65536,2,0) -> 教男10 | L114: 7037 | M114: =VLOOKUP(L114,[1]組別!$B$1:$AK$65536,2,0) -> 教男9
A115: B25 | B115: 0.4875 | C115: 7038 | D115: =VLOOKUP(C115,[1]組別!$B$1:$AK$65536,2,0) -> 教男8 | F115: 7039 | G115: =VLOOKUP(F115,[1]組別!$B$1:$AK$65536,2,0) -> 教男7 | I115: 7040 | J115: =VLOOKUP(I115,[1]組別!$B$1:$AK$65536,2,0) -> 教男6 | L115: 7041 | M115: =VLOOKUP(L115,[1]組別!$B$1:$AK$65536,2,0) -> 教男5
A116: B26 | B116: 0.49166667 | C116: 7042 | D116: =VLOOKUP(C116,[1]組別!$B$1:$AK$65536,2,0) -> 教男4 | F116: 7043 | G116: =VLOOKUP(F116,[1]組別!$B$1:$AK$65536,2,0) -> 教男3 | I116: 7044 | J116: =VLOOKUP(I116,[1]組別!$B$1:$AK$65536,2,0) -> 教男2 | L116: 7045 | M116: =VLOOKUP(L116,[1]組別!$B$1:$AK$65536,2,0) -> 教男1
