Workbook

Sheet 賽程表1
A1: 請注意本次比賽地點改在林內鄉義峰高中 請不要跑錯地方了
A2: 104年春季縣長盃木球賽賽程表
A3: 日 期 | C3: 104年4月16日（星期四）A場地
A4: 場次 | B4: 時間 | C4: 選 手 名 單
A5: 4 | B5: 組別 | D5: 機關首長組 | P5: 裁判
A6: A1 | B6: 0.33333333 | C6: 1001 | D6: =IF(C6="","",VLOOKUP(C6,[1]名單!$A$1:$Z$65536,4,0)) -> 校長 | E6: =IF(C6="","",VLOOKUP(C6,[1]名單!$A$1:$Z$65536,2,0)) -> 黃育珍 | F6: 1002 | G6: =IF(F6="","",VLOOKUP(F6,[1]名單!$A$1:$Z$65536,4,0)) -> 校長 | H6: =IF(F6="","",VLOOKUP(F6,[1]名單!$A$1:$Z$65536,2,0)) -> 陳錫欽 | I6: 1003 | J6: =IF(I6="","",VLOOKUP(I6,[1]名單!$A$1:$Z$65536,4,0)) -> 校長 | K6: =IF(I6="","",VLOOKUP(I6,[1]名單!$A$1:$Z$65536,2,0)) -> 許坤真 | L6: 1005 | M6: =IF(L6="","",VLOOKUP(L6,[1]名單!$A$1:$Z$65536,4,0)) -> 校長 | N6: =IF(L6="","",VLOOKUP(L6,[1]名單!$A$1:$Z$65536,2,0)) -> 劉俊委 | P6: =IF(O6="","",VLOOKUP(O6,[1]名單!$A$1:$Z$65536,2,0))
A7: A2 | B7: 0.3375 | C7: 1004 | D7: =IF(C7="","",VLOOKUP(C7,[1]名單!$A$1:$Z$65536,4,0)) -> 校長 | E7: =IF(C7="","",VLOOKUP(C7,[1]名單!$A$1:$Z$65536,2,0)) -> 鍾進益 | F7: 1006 | G7: =IF(F7="","",VLOOKUP(F7,[1]名單!$A$1:$Z$65536,4,0)) -> 校長 | H7: =IF(F7="","",VLOOKUP(F7,[1]名單!$A$1:$Z$65536,2,0)) -> 廖建盛 | I7: 1007 | J7: =IF(I7="","",VLOOKUP(I7,[1]名單!$A$1:$Z$65536,4,0)) -> 校長 | K7: =IF(I7="","",VLOOKUP(I7,[1]名單!$A$1:$Z$65536,2,0)) -> 蘇清泉 | M7: =IF(L7="","",VLOOKUP(L7,[1]名單!$A$1:$Z$65536,4,0)) | N7: =IF(L7="","",VLOOKUP(L7,[1]名單!$A$1:$Z$65536,2,0)) | P7: =IF(O7="","",VLOOKUP(O7,[1]名單!$A$1:$Z$65536,2,0))
A8: 7 | B8: 組別 | D8: =VLOOKUP(A8,[1]組別!$A$1:$AK$65536,2,0) -> 高中男子組 | P8: 裁判
A9: A3 | B9: 0.34166667 | C9: 1401 | D9: =IF(C9="","",VLOOKUP(C9,[1]名單!$A$1:$Z$65536,4,0)) -> 義峰B | E9: =IF(C9="","",VLOOKUP(C9,[1]名單!$A$1:$Z$65536,2,0)) -> 李懿修 | F9: 1410 | G9: =IF(F9="","",VLOOKUP(F9,[1]名單!$A$1:$Z$65536,4,0)) -> 虎尾A | H9: =IF(F9="","",VLOOKUP(F9,[1]名單!$A$1:$Z$65536,2,0)) -> 張仁豪 | I9: 1423 | J9: =IF(I9="","",VLOOKUP(I9,[1]名單!$A$1:$Z$65536,4,0)) -> 土庫 | K9: =IF(I9="","",VLOOKUP(I9,[1]名單!$A$1:$Z$65536,2,0)) -> 陳凱鶻 | L9: 1443 | M9: =IF(L9="","",VLOOKUP(L9,[1]名單!$A$1:$Z$65536,4,0)) -> 土庫B | N9: =IF(L9="","",VLOOKUP(L9,[1]名單!$A$1:$Z$65536,2,0)) -> 鐘仁傳 | P9: =IF(O9="","",VLOOKUP(O9,[1]名單!$A$1:$Z$65536,2,0))
A10: A4 | B10: 0.34583333 | C10: 1402 | D10: =IF(C10="","",VLOOKUP(C10,[1]名單!$A$1:$Z$65536,4,0)) -> 義峰B | E10: =IF(C10="","",VLOOKUP(C10,[1]名單!$A$1:$Z$65536,2,0)) -> 沈育全 | F10: 1413 | G10: =IF(F10="","",VLOOKUP(F10,[1]名單!$A$1:$Z$65536,4,0)) -> 斗六 | H10: =IF(F10="","",VLOOKUP(F10,[1]名單!$A$1:$Z$65536,2,0)) -> 吳承恩 | I10: 1424 | J10: =IF(I10="","",VLOOKUP(I10,[1]名單!$A$1:$Z$65536,4,0)) -> 土庫 | K10: =IF(I10="","",VLOOKUP(I10,[1]名單!$A$1:$Z$65536,2,0)) -> 黃國彥 | L10: 1428 | M10: =IF(L10="","",VLOOKUP(L10,[1]名單!$A$1:$Z$65536,4,0)) -> 虎尾B | N10: =IF(L10="","",VLOOKUP(L10,[1]名單!$A$1:$Z$65536,2,0)) -> 程建峻 | P10: =IF(O10="","",VLOOKUP(O10,[1]名單!$A$1:$Z$65536,2,0))
A11: A5 | B11: 0.35 | C11: 1403 | D11: =IF(C11="","",VLOOKUP(C11,[1]名單!$A$1:$Z$65536,4,0)) -> 義峰B | E11: =IF(C11="","",VLOOKUP(C11,[1]名單!$A$1:$Z$65536,2,0)) -> 羅旭泓 | F11: 1414 | G11: =IF(F11="","",VLOOKUP(F11,[1]名單!$A$1:$Z$65536,4,0)) -> 斗六 | H11: =IF(F11="","",VLOOKUP(F11,[1]名單!$A$1:$Z$65536,2,0)) -> 張仕煦 | I11: 1425 | J11: =IF(I11="","",VLOOKUP(I11,[1]名單!$A$1:$Z$65536,4,0)) -> 虎尾B | K11: =IF(I11="","",VLOOKUP(I11,[1]名單!$A$1:$Z$65536,2,0)) -> 賴哲樟 | L11: 1438 | M11: =IF(L11="","",VLOOKUP(L11,[1]名單!$A$1:$Z$65536,4,0)) -> 義峰A | N11: =IF(L11="","",VLOOKUP(L11,[1]名單!$A$1:$Z$65536,2,0)) -> 張茗豐 | P11: =IF(O11="","",VLOOKUP(O11,[1]名單!$A$1:$Z$65536,2,0))
A12: A6 | B12: 0.35416667 | C12: 1404 | D12: =IF(C12="","",VLOOKUP(C12,[1]名單!$A$1:$Z$65536,4,0)) -> 義峰B | E12: =IF(C12="","",VLOOKUP(C12,[1]名單!$A$1:$Z$65536,2,0)) -> 蔡博鈞 | F12: 1415 | G12: =IF(F12="","",VLOOKUP(F12,[1]名單!$A$1:$Z$65536,4,0)) -> 斗六 | H12: =IF(F12="","",VLOOKUP(F12,[1]名單!$A$1:$Z$65536,2,0)) -> 張政義 | I12: 1426 | J12: =IF(I12="","",VLOOKUP(I12,[1]名單!$A$1:$Z$65536,4,0)) -> 虎尾B | K12: =IF(I12="","",VLOOKUP(I12,[1]名單!$A$1:$Z$65536,2,0)) -> 連威翔 | L12: 1439 | M12: =IF(L12="","",VLOOKUP(L12,[1]名單!$A$1:$Z$65536,4,0)) -> 義峰A | N12: =IF(L12="","",VLOOKUP(L12,[1]名單!$A$1:$Z$65536,2,0)) -> 蔡育愷 | P12: =IF(O12="","",VLOOKUP(O12,[1]名單!$A$1:$Z$65536,2,0))
A13: A7 | B13: 0.35833333 | C13: 1405 | D13: =IF(C13="","",VLOOKUP(C13,[1]名單!$A$1:$Z$65536,4,0)) -> 義峰B | E13: =IF(C13="","",VLOOKUP(C13,[1]名單!$A$1:$Z$65536,2,0)) -> 蔡志鋐 | F13: 1416 | G13: =IF(F13="","",VLOOKUP(F13,[1]名單!$A$1:$Z$65536,4,0)) -> 斗六 | H13: =IF(F13="","",VLOOKUP(F13,[1]名單!$A$1:$Z$65536,2,0)) -> 高瑞駿 | I13: 1427 | J13: =IF(I13="","",VLOOKUP(I13,[1]名單!$A$1:$Z$65536,4,0)) -> 虎尾B | K13: =IF(I13="","",VLOOKUP(I13,[1]名單!$A$1:$Z$65536,2,0)) -> 程獻億 | L13: 1440 | M13: =IF(L13="","",VLOOKUP(L13,[1]名單!$A$1:$Z$65536,4,0)) -> 義峰A | N13: =IF(L13="","",VLOOKUP(L13,[1]名單!$A$1:$Z$65536,2,0)) -> 陳有朋 | P13: =IF(O13="","",VLOOKUP(O13,[1]名單!$A$1:$Z$65536,2,0))
A14: A8 | B14: 0.3625 | C14: 1406 | D14: =IF(C14="","",VLOOKUP(C14,[1]名單!$A$1:$Z$65536,4,0)) -> 義峰B | E14: =IF(C14="","",VLOOKUP(C14,[1]名單!$A$1:$Z$65536,2,0)) -> 賴育源 | F14: 1419 | G14: =IF(F14="","",VLOOKUP(F14,[1]名單!$A$1:$Z$65536,4,0)) -> 土庫 | H14: =IF(F14="","",VLOOKUP(F14,[1]名單!$A$1:$Z$65536,2,0)) -> 李瑞朋 | I14: 1434 | J14: =IF(I14="","",VLOOKUP(I14,[1]名單!$A$1:$Z$65536,4,0)) -> 大成 | K14: =IF(I14="","",VLOOKUP(I14,[1]名單!$A$1:$Z$65536,2,0)) -> 賴宏誠 | L14: 1441 | M14: =IF(L14="","",VLOOKUP(L14,[1]名單!$A$1:$Z$65536,4,0)) -> 義峰A | N14: =IF(L14="","",VLOOKUP(L14,[1]名單!$A$1:$Z$65536,2,0)) -> 陳韋佑
A15: A9 | B15: 0.36666667 | C15: 1407 | D15: =IF(C15="","",VLOOKUP(C15,[1]名單!$A$1:$Z$65536,4,0)) -> 虎尾A | E15: =IF(C15="","",VLOOKUP(C15,[1]名單!$A$1:$Z$65536,2,0)) -> 張修誠 | F15: 1420 | G15: =IF(F15="","",VLOOKUP(F15,[1]名單!$A$1:$Z$65536,4,0)) -> 土庫 | H15: =IF(F15="","",VLOOKUP(F15,[1]名單!$A$1:$Z$65536,2,0)) -> 林瑋宸 | I15: 1431 | J15: =IF(I15="","",VLOOKUP(I15,[1]名單!$A$1:$Z$65536,4,0)) -> 大成 | K15: =IF(I15="","",VLOOKUP(I15,[1]名單!$A$1:$Z$65536,2,0)) -> 張嘉興 | L15: 1442 | M15: =IF(L15="","",VLOOKUP(L15,[1]名單!$A$1:$Z$65536,4,0)) -> 義峰A | N15: =IF(L15="","",VLOOKUP(L15,[1]名單!$A$1:$Z$65536,2,0)) -> 黃建維
A16: A10 | B16: 0.37083333 | C16: 1408 | D16: =IF(C16="","",VLOOKUP(C16,[1]名單!$A$1:$Z$65536,4,0)) -> 虎尾A | E16: =IF(C16="","",VLOOKUP(C16,[1]名單!$A$1:$Z$65536,2,0)) -> 林奉禾 | F16: 1421 | G16: =IF(F16="","",VLOOKUP(F16,[1]名單!$A$1:$Z$65536,4,0)) -> 土庫 | H16: =IF(F16="","",VLOOKUP(F16,[1]名單!$A$1:$Z$65536,2,0)) -> 蔡翔霖 | I16: 1432 | J16: =IF(I16="","",VLOOKUP(I16,[1]名單!$A$1:$Z$65536,4,0)) -> 大成 | K16: =IF(I16="","",VLOOKUP(I16,[1]名單!$A$1:$Z$65536,2,0)) -> 林煌育 | L16: 1437 | M16: =IF(L16="","",VLOOKUP(L16,[1]名單!$A$1:$Z$65536,4,0)) -> 義峰A | N16: =IF(L16="","",VLOOKUP(L16,[1]名單!$A$1:$Z$65536,2,0)) -> 吳思源
A17: A11 | B17: 0.375 | C17: 1409 | D17: =IF(C17="","",VLOOKUP(C17,[1]名單!$A$1:$Z$65536,4,0)) -> 虎尾A | E17: =IF(C17="","",VLOOKUP(C17,[1]名單!$A$1:$Z$65536,2,0)) -> 王詩傑 | F17: 1422 | G17: =IF(F17="","",VLOOKUP(F17,[1]名單!$A$1:$Z$65536,4,0)) -> 土庫 | H17: =IF(F17="","",VLOOKUP(F17,[1]名單!$A$1:$Z$65536,2,0)) -> 謝勇隆 | I17: 1433 | J17: =IF(I17="","",VLOOKUP(I17,[1]名單!$A$1:$Z$65536,4,0)) -> 大成 | K17: =IF(I17="","",VLOOKUP(I17,[1]名單!$A$1:$Z$65536,2,0)) -> 賴奕成 | L17: 1449 | M17: =IF(L17="","",VLOOKUP(L17,[1]名單!$A$1:$Z$65536,4,0)) -> 義峰C | N17: =IF(L17="","",VLOOKUP(L17,[1]名單!$A$1:$Z$65536,2,0)) -> 廖郁善
A18: 13 | B18: 組別 | D18: =VLOOKUP(A18,[1]組別!$A$1:$AK$65536,2,0) -> 國小五年級男童組 | P18: 裁判
A19: A12 | B19: 0.37916667 | C19: 1819 | D19: =IF(C19="","",VLOOKUP(C19,[1]名單!$A$1:$Z$65536,4,0)) -> 九芎 | E19: =IF(C19="","",VLOOKUP(C19,[1]名單!$A$1:$Z$65536,2,0)) -> 吳承璋 | F19: 1825 | G19: =IF(F19="","",VLOOKUP(F19,[1]名單!$A$1:$Z$65536,4,0)) -> 大東 | H19: =IF(F19="","",VLOOKUP(F19,[1]名單!$A$1:$Z$65536,2,0)) -> 劉昆憲 | I19: 1837 | J19: =IF(I19="","",VLOOKUP(I19,[1]名單!$A$1:$Z$65536,4,0)) -> 僑真 | K19: =IF(I19="","",VLOOKUP(I19,[1]名單!$A$1:$Z$65536,2,0)) -> 何柏輊 | L19: 1861 | M19: =IF(L19="","",VLOOKUP(L19,[1]名單!$A$1:$Z$65536,4,0)) -> 大同 | N19: =IF(L19="","",VLOOKUP(L19,[1]名單!$A$1:$Z$65536,2,0)) -> 廖昭貴 | P19: =IF(O19="","",VLOOKUP(O19,[1]名單!$A$1:$Z$65536,2,0))
A20: A13 | B20: 0.38333333 | C20: 1820 | D20: =IF(C20="","",VLOOKUP(C20,[1]名單!$A$1:$Z$65536,4,0)) -> 九芎 | E20: =IF(C20="","",VLOOKUP(C20,[1]名單!$A$1:$Z$65536,2,0)) -> 林衍汎 | F20: 1826 | G20: =IF(F20="","",VLOOKUP(F20,[1]名單!$A$1:$Z$65536,4,0)) -> 大東 | H20: =IF(F20="","",VLOOKUP(F20,[1]名單!$A$1:$Z$65536,2,0)) -> 吳柏昌 | I20: 1838 | J20: =IF(I20="","",VLOOKUP(I20,[1]名單!$A$1:$Z$65536,4,0)) -> 僑真 | K20: =IF(I20="","",VLOOKUP(I20,[1]名單!$A$1:$Z$65536,2,0)) -> 張家維 | L20: 1862 | M20: =IF(L20="","",VLOOKUP(L20,[1]名單!$A$1:$Z$65536,4,0)) -> 大同 | N20: =IF(L20="","",VLOOKUP(L20,[1]名單!$A$1:$Z$65536,2,0)) -> 楊健弘 | P20: =IF(O20="","",VLOOKUP(O20,[1]名單!$A$1:$Z$65536,2,0))
A21: A14 | B21: 0.3875 | C21: 1821 | D21: =IF(C21="","",VLOOKUP(C21,[1]名單!$A$1:$Z$65536,4,0)) -> 九芎 | E21: =IF(C21="","",VLOOKUP(C21,[1]名單!$A$1:$Z$65536,2,0)) -> 蔡佳宏 | F21: 1827 | G21: =IF(F21="","",VLOOKUP(F21,[1]名單!$A$1:$Z$65536,4,0)) -> 大東 | H21: =IF(F21="","",VLOOKUP(F21,[1]名單!$A$1:$Z$65536,2,0)) -> 張益維 | I21: 1839 | J21: =IF(I21="","",VLOOKUP(I21,[1]名單!$A$1:$Z$65536,4,0)) -> 僑真 | K21: =IF(I21="","",VLOOKUP(I21,[1]名單!$A$1:$Z$65536,2,0)) -> 林佳賢 | L21: 1863 | M21: =IF(L21="","",VLOOKUP(L21,[1]名單!$A$1:$Z$65536,4,0)) -> 大同 | N21: =IF(L21="","",VLOOKUP(L21,[1]名單!$A$1:$Z$65536,2,0)) -> 楊敦勛 | P21: =IF(O21="","",VLOOKUP(O21,[1]名單!$A$1:$Z$65536,2,0))
A22: A15 | B22: 0.39166667 | C22: 1822 | D22: =IF(C22="","",VLOOKUP(C22,[1]名單!$A$1:$Z$65536,4,0)) -> 九芎 | E22: =IF(C22="","",VLOOKUP(C22,[1]名單!$A$1:$Z$65536,2,0)) -> 蔡承哲 | F22: 1828 | G22: =IF(F22="","",VLOOKUP(F22,[1]名單!$A$1:$Z$65536,4,0)) -> 大東 | H22: =IF(F22="","",VLOOKUP(F22,[1]名單!$A$1:$Z$65536,2,0)) -> 沈庭毅 | I22: 1840 | J22: =IF(I22="","",VLOOKUP(I22,[1]名單!$A$1:$Z$65536,4,0)) -> 僑真 | K22: =IF(I22="","",VLOOKUP(I22,[1]名單!$A$1:$Z$65536,2,0)) -> 蕭傑宸 | L22: 1864 | M22: =IF(L22="","",VLOOKUP(L22,[1]名單!$A$1:$Z$65536,4,0)) -> 大同 | N22: =IF(L22="","",VLOOKUP(L22,[1]名單!$A$1:$Z$65536,2,0)) -> 鄭登薰 | P22: =IF(O22="","",VLOOKUP(O22,[1]名單!$A$1:$Z$65536,2,0))
A23: A16 | B23: 0.39583333 | C23: 1823 | D23: =IF(C23="","",VLOOKUP(C23,[1]名單!$A$1:$Z$65536,4,0)) -> 九芎 | E23: =IF(C23="","",VLOOKUP(C23,[1]名單!$A$1:$Z$65536,2,0)) -> 詹評順 | F23: 1829 | G23: =IF(F23="","",VLOOKUP(F23,[1]名單!$A$1:$Z$65536,4,0)) -> 大東 | H23: =IF(F23="","",VLOOKUP(F23,[1]名單!$A$1:$Z$65536,2,0)) -> 陳竑沐 | I23: 1841 | J23: =IF(I23="","",VLOOKUP(I23,[1]名單!$A$1:$Z$65536,4,0)) -> 僑真 | K23: =IF(I23="","",VLOOKUP(I23,[1]名單!$A$1:$Z$65536,2,0)) -> 陳翔宇 | L23: 1865 | M23: =IF(L23="","",VLOOKUP(L23,[1]名單!$A$1:$Z$65536,4,0)) -> 大同 | N23: =IF(L23="","",VLOOKUP(L23,[1]名單!$A$1:$Z$65536,2,0)) -> 鍾元耀 | P23: =IF(O23="","",VLOOKUP(O23,[1]名單!$A$1:$Z$65536,2,0))
A24: A17 | B24: 0.4 | C24: 1824 | D24: =IF(C24="","",VLOOKUP(C24,[1]名單!$A$1:$Z$65536,4,0)) -> 九芎 | E24: =IF(C24="","",VLOOKUP(C24,[1]名單!$A$1:$Z$65536,2,0)) -> 鄭子偉 | F24: 1830 | G24: =IF(F24="","",VLOOKUP(F24,[1]名單!$A$1:$Z$65536,4,0)) -> 大東 | H24: =IF(F24="","",VLOOKUP(F24,[1]名單!$A$1:$Z$65536,2,0)) -> 陳義雄 | I24: 1847 | J24: =IF(I24="","",VLOOKUP(I24,[1]名單!$A$1:$Z$65536,4,0)) -> 仁和 | K24: =IF(I24="","",VLOOKUP(I24,[1]名單!$A$1:$Z$65536,2,0)) -> 陳炳璋 | L24: 1872 | M24: =IF(L24="","",VLOOKUP(L24,[1]名單!$A$1:$Z$65536,4,0)) -> 中和 | N24: =IF(L24="","",VLOOKUP(L24,[1]名單!$A$1:$Z$65536,2,0)) -> 鄭浚瑋 | P24: =IF(O24="","",VLOOKUP(O24,[1]名單!$A$1:$Z$65536,2,0))
A25: A18 | B25: 0.40416667 | C25: 1807 | D25: =IF(C25="","",VLOOKUP(C25,[1]名單!$A$1:$Z$65536,4,0)) -> 林內 | E25: =IF(C25="","",VLOOKUP(C25,[1]名單!$A$1:$Z$65536,2,0)) -> 吳棋宏 | F25: 1801 | G25: =IF(F25="","",VLOOKUP(F25,[1]名單!$A$1:$Z$65536,4,0)) -> 大東B | H25: =IF(F25="","",VLOOKUP(F25,[1]名單!$A$1:$Z$65536,2,0)) -> 李富皓 | I25: 1843 | J25: =IF(I25="","",VLOOKUP(I25,[1]名單!$A$1:$Z$65536,4,0)) -> 仁和 | K25: =IF(I25="","",VLOOKUP(I25,[1]名單!$A$1:$Z$65536,2,0)) -> 周昆宏 | L25: 1867 | M25: =IF(L25="","",VLOOKUP(L25,[1]名單!$A$1:$Z$65536,4,0)) -> 中和 | N25: =IF(L25="","",VLOOKUP(L25,[1]名單!$A$1:$Z$65536,2,0)) -> 吳享瑋 | P25: =IF(O25="","",VLOOKUP(O25,[1]名單!$A$1:$Z$65536,2,0))
A26: A19 | B26: 0.40833333 | C26: 1808 | D26: =IF(C26="","",VLOOKUP(C26,[1]名單!$A$1:$Z$65536,4,0)) -> 林內 | E26: =IF(C26="","",VLOOKUP(C26,[1]名單!$A$1:$Z$65536,2,0)) -> 張克誠 | F26: 1802 | G26: =IF(F26="","",VLOOKUP(F26,[1]名單!$A$1:$Z$65536,4,0)) -> 大東B | H26: =IF(F26="","",VLOOKUP(F26,[1]名單!$A$1:$Z$65536,2,0)) -> 陳譽升 | I26: 1844 | J26: =IF(I26="","",VLOOKUP(I26,[1]名單!$A$1:$Z$65536,4,0)) -> 仁和 | K26: =IF(I26="","",VLOOKUP(I26,[1]名單!$A$1:$Z$65536,2,0)) -> 張嘉升 | L26: 1868 | M26: =IF(L26="","",VLOOKUP(L26,[1]名單!$A$1:$Z$65536,4,0)) -> 中和 | N26: =IF(L26="","",VLOOKUP(L26,[1]名單!$A$1:$Z$65536,2,0)) -> 周家幼 | P26: =IF(O26="","",VLOOKUP(O26,[1]名單!$A$1:$Z$65536,2,0))
A27: A20 | B27: 0.4125 | C27: 1809 | D27: =IF(C27="","",VLOOKUP(C27,[1]名單!$A$1:$Z$65536,4,0)) -> 林內 | E27: =IF(C27="","",VLOOKUP(C27,[1]名單!$A$1:$Z$65536,2,0)) -> 李柏勳 | F27: 1831 | G27: =IF(F27="","",VLOOKUP(F27,[1]名單!$A$1:$Z$65536,4,0)) -> 重光 | H27: =IF(F27="","",VLOOKUP(F27,[1]名單!$A$1:$Z$65536,2,0)) -> 翁聖德 | I27: 1845 | J27: =IF(I27="","",VLOOKUP(I27,[1]名單!$A$1:$Z$65536,4,0)) -> 仁和 | K27: =IF(I27="","",VLOOKUP(I27,[1]名單!$A$1:$Z$65536,2,0)) -> 張永諭 | L27: 1869 | M27: =IF(L27="","",VLOOKUP(L27,[1]名單!$A$1:$Z$65536,4,0)) -> 中和 | N27: =IF(L27="","",VLOOKUP(L27,[1]名單!$A$1:$Z$65536,2,0)) -> 廖佑哲 | P27: =IF(O27="","",VLOOKUP(O27,[1]名單!$A$1:$Z$65536,2,0))
A28: A21 | B28: 0.41666667 | C28: 1810 | D28: =IF(C28="","",VLOOKUP(C28,[1]名單!$A$1:$Z$65536,4,0)) -> 林內 | E28: =IF(C28="","",VLOOKUP(C28,[1]名單!$A$1:$Z$65536,2,0)) -> 蔡仕昌 | F28: 1832 | G28: =IF(F28="","",VLOOKUP(F28,[1]名單!$A$1:$Z$65536,4,0)) -> 重光 | H28: =IF(F28="","",VLOOKUP(F28,[1]名單!$A$1:$Z$65536,2,0)) -> 葉翔偉 | I28: 1846 | J28: =IF(I28="","",VLOOKUP(I28,[1]名單!$A$1:$Z$65536,4,0)) -> 仁和 | K28: =IF(I28="","",VLOOKUP(I28,[1]名單!$A$1:$Z$65536,2,0)) -> 李宥樑 | L28: 1870 | M28: =IF(L28="","",VLOOKUP(L28,[1]名單!$A$1:$Z$65536,4,0)) -> 中和 | N28: =IF(L28="","",VLOOKUP(L28,[1]名單!$A$1:$Z$65536,2,0)) -> 張翔竤 | P28: =IF(O28="","",VLOOKUP(O28,[1]名單!$A$1:$Z$65536,2,0))
A29: A22 | B29: 0.42083333 | C29: 1811 | D29: =IF(C29="","",VLOOKUP(C29,[1]名單!$A$1:$Z$65536,4,0)) -> 林內 | E29: =IF(C29="","",VLOOKUP(C29,[1]名單!$A$1:$Z$65536,2,0)) -> 蘇鈺傑 | F29: 1833 | G29: =IF(F29="","",VLOOKUP(F29,[1]名單!$A$1:$Z$65536,4,0)) -> 重光 | H29: =IF(F29="","",VLOOKUP(F29,[1]名單!$A$1:$Z$65536,2,0)) -> 陳建宏 | I29: 1855 | J29: =IF(I29="","",VLOOKUP(I29,[1]名單!$A$1:$Z$65536,4,0)) -> 宏崙 | K29: =IF(I29="","",VLOOKUP(I29,[1]名單!$A$1:$Z$65536,2,0)) -> 吳書睿 | L29: 1871 | M29: =IF(L29="","",VLOOKUP(L29,[1]名單!$A$1:$Z$65536,4,0)) -> 中和 | N29: =IF(L29="","",VLOOKUP(L29,[1]名單!$A$1:$Z$65536,2,0)) -> 林琨閔 | P29: =IF(O29="","",VLOOKUP(O29,[1]名單!$A$1:$Z$65536,2,0))
A30: A23 | B30: 0.425 | C30: 1812 | D30: =IF(C30="","",VLOOKUP(C30,[1]名單!$A$1:$Z$65536,4,0)) -> 林內 | E30: =IF(C30="","",VLOOKUP(C30,[1]名單!$A$1:$Z$65536,2,0)) -> 鄭宇佑 | F30: 1834 | G30: =IF(F30="","",VLOOKUP(F30,[1]名單!$A$1:$Z$65536,4,0)) -> 重光 | H30: =IF(F30="","",VLOOKUP(F30,[1]名單!$A$1:$Z$65536,2,0)) -> 陳振庭 | I30: 1856 | J30: =IF(I30="","",VLOOKUP(I30,[1]名單!$A$1:$Z$65536,4,0)) -> 宏崙 | K30: =IF(I30="","",VLOOKUP(I30,[1]名單!$A$1:$Z$65536,2,0)) -> 吳鑑修 | L30: 1877 | M30: =IF(L30="","",VLOOKUP(L30,[1]名單!$A$1:$Z$65536,4,0)) -> 三和 | N30: =IF(L30="","",VLOOKUP(L30,[1]名單!$A$1:$Z$65536,2,0)) -> 廖澤閎
A31: A24 | B31: 0.42916667 | C31: 1813 | D31: =IF(C31="","",VLOOKUP(C31,[1]名單!$A$1:$Z$65536,4,0)) -> 重興 | E31: =IF(C31="","",VLOOKUP(C31,[1]名單!$A$1:$Z$65536,2,0)) -> 廖偉傑 | F31: 1835 | G31: =IF(F31="","",VLOOKUP(F31,[1]名單!$A$1:$Z$65536,4,0)) -> 重光 | H31: =IF(F31="","",VLOOKUP(F31,[1]名單!$A$1:$Z$65536,2,0)) -> 陳致遠 | I31: 1903 | J31: =IF(I31="","",VLOOKUP(I31,[1]名單!$A$1:$Z$65536,4,0)) -> 中和 | K31: =IF(I31="","",VLOOKUP(I31,[1]名單!$A$1:$Z$65536,2,0)) -> 林樽煜 | L31: 1873 | M31: =IF(L31="","",VLOOKUP(L31,[1]名單!$A$1:$Z$65536,4,0)) -> 三和 | N31: =IF(L31="","",VLOOKUP(L31,[1]名單!$A$1:$Z$65536,2,0)) -> 廖厚竣
A32: A25 | B32: 0.43333333 | C32: 1814 | D32: =IF(C32="","",VLOOKUP(C32,[1]名單!$A$1:$Z$65536,4,0)) -> 重興 | E32: =IF(C32="","",VLOOKUP(C32,[1]名單!$A$1:$Z$65536,2,0)) -> 張宇霖 | F32: 1836 | G32: =IF(F32="","",VLOOKUP(F32,[1]名單!$A$1:$Z$65536,4,0)) -> 重光 | H32: =IF(F32="","",VLOOKUP(F32,[1]名單!$A$1:$Z$65536,2,0)) -> 黃致盛 | I32: 1858 | J32: =IF(I32="","",VLOOKUP(I32,[1]名單!$A$1:$Z$65536,4,0)) -> 宏崙 | K32: =IF(I32="","",VLOOKUP(I32,[1]名單!$A$1:$Z$65536,2,0)) -> 林茂益 | L32: 1874 | M32: =IF(L32="","",VLOOKUP(L32,[1]名單!$A$1:$Z$65536,4,0)) -> 三和 | N32: =IF(L32="","",VLOOKUP(L32,[1]名單!$A$1:$Z$65536,2,0)) -> 廖思博
A33: A26 | B33: 0.4375 | C33: 1815 | D33: =IF(C33="","",VLOOKUP(C33,[1]名單!$A$1:$Z$65536,4,0)) -> 重興 | E33: =IF(C33="","",VLOOKUP(C33,[1]名單!$A$1:$Z$65536,2,0)) -> 張守鎮 | F33: 1849 | G33: =IF(F33="","",VLOOKUP(F33,[1]名單!$A$1:$Z$65536,4,0)) -> 聯美 | H33: =IF(F33="","",VLOOKUP(F33,[1]名單!$A$1:$Z$65536,2,0)) -> 林宗慶 | I33: 1859 | J33: =IF(I33="","",VLOOKUP(I33,[1]名單!$A$1:$Z$65536,4,0)) -> 宏崙 | K33: =IF(I33="","",VLOOKUP(I33,[1]名單!$A$1:$Z$65536,2,0)) -> 陳彥廷 | L33: 1875 | M33: =IF(L33="","",VLOOKUP(L33,[1]名單!$A$1:$Z$65536,4,0)) -> 三和 | N33: =IF(L33="","",VLOOKUP(L33,[1]名單!$A$1:$Z$65536,2,0)) -> 廖奕誠
A34: A27 | B34: 0.44166667 | C34: 1816 | D34: =IF(C34="","",VLOOKUP(C34,[1]名單!$A$1:$Z$65536,4,0)) -> 重興 | E34: =IF(C34="","",VLOOKUP(C34,[1]名單!$A$1:$Z$65536,2,0)) -> 張正煜 | F34: 1850 | G34: =IF(F34="","",VLOOKUP(F34,[1]名單!$A$1:$Z$65536,4,0)) -> 聯美 | H34: =IF(F34="","",VLOOKUP(F34,[1]名單!$A$1:$Z$65536,2,0)) -> 許俊翔 | I34: 1860 | J34: =IF(I34="","",VLOOKUP(I34,[1]名單!$A$1:$Z$65536,4,0)) -> 宏崙 | K34: =IF(I34="","",VLOOKUP(I34,[1]名單!$A$1:$Z$65536,2,0)) -> 黃品豪 | L34: 1876 | M34: =IF(L34="","",VLOOKUP(L34,[1]名單!$A$1:$Z$65536,4,0)) -> 三和 | N34: =IF(L34="","",VLOOKUP(L34,[1]名單!$A$1:$Z$65536,2,0)) -> 廖振緯
A35: A28 | B35: 0.44583333 | C35: 1817 | D35: =IF(C35="","",VLOOKUP(C35,[1]名單!$A$1:$Z$65536,4,0)) -> 重興 | E35: =IF(C35="","",VLOOKUP(C35,[1]名單!$A$1:$Z$65536,2,0)) -> 鄭景旻 | F35: 1851 | G35: =IF(F35="","",VLOOKUP(F35,[1]名單!$A$1:$Z$65536,4,0)) -> 聯美 | H35: =IF(F35="","",VLOOKUP(F35,[1]名單!$A$1:$Z$65536,2,0)) -> 顏佑城 | I35: 1879 | J35: =IF(I35="","",VLOOKUP(I35,[1]名單!$A$1:$Z$65536,4,0)) -> 信義 | K35: =IF(I35="","",VLOOKUP(I35,[1]名單!$A$1:$Z$65536,2,0)) -> 吳哲穎 | L35: 1885 | M35: =IF(L35="","",VLOOKUP(L35,[1]名單!$A$1:$Z$65536,4,0)) -> 大屯 | N35: =IF(L35="","",VLOOKUP(L35,[1]名單!$A$1:$Z$65536,2,0)) -> 王淳毅
A36: A29 | B36: 0.45 | C36: 1818 | D36: =IF(C36="","",VLOOKUP(C36,[1]名單!$A$1:$Z$65536,4,0)) -> 重興 | E36: =IF(C36="","",VLOOKUP(C36,[1]名單!$A$1:$Z$65536,2,0)) -> 陳聖毅 | F36: 1886 | G36: =IF(F36="","",VLOOKUP(F36,[1]名單!$A$1:$Z$65536,4,0)) -> 大屯 | H36: =IF(F36="","",VLOOKUP(F36,[1]名單!$A$1:$Z$65536,2,0)) -> 王學鈞 | I36: 1880 | J36: =IF(I36="","",VLOOKUP(I36,[1]名單!$A$1:$Z$65536,4,0)) -> 信義 | K36: =IF(I36="","",VLOOKUP(I36,[1]名單!$A$1:$Z$65536,2,0)) -> 吳宜達 | M36: =IF(L36="","",VLOOKUP(L36,[1]名單!$A$1:$Z$65536,4,0)) | N36: =IF(L36="","",VLOOKUP(L36,[1]名單!$A$1:$Z$65536,2,0))
A37: A30 | B37: 0.45416667 | C37: 1891 | D37: =IF(C37="","",VLOOKUP(C37,[1]名單!$A$1:$Z$65536,4,0)) -> 華山 | E37: =IF(C37="","",VLOOKUP(C37,[1]名單!$A$1:$Z$65536,2,0)) -> 沈楷翔 | F37: 1897 | G37: =IF(F37="","",VLOOKUP(F37,[1]名單!$A$1:$Z$65536,4,0)) -> 宏崙B | H37: =IF(F37="","",VLOOKUP(F37,[1]名單!$A$1:$Z$65536,2,0)) -> 吳威佐 | I37: 1881 | J37: =IF(I37="","",VLOOKUP(I37,[1]名單!$A$1:$Z$65536,4,0)) -> 信義 | K37: =IF(I37="","",VLOOKUP(I37,[1]名單!$A$1:$Z$65536,2,0)) -> 李武竣 | L37: 1887 | M37: =IF(L37="","",VLOOKUP(L37,[1]名單!$A$1:$Z$65536,4,0)) -> 大屯 | N37: =IF(L37="","",VLOOKUP(L37,[1]名單!$A$1:$Z$65536,2,0)) -> 王政茗
A38: A31 | B38: 0.45833333 | C38: 1852 | D38: =IF(C38="","",VLOOKUP(C38,[1]名單!$A$1:$Z$65536,4,0)) -> 聯美 | E38: =IF(C38="","",VLOOKUP(C38,[1]名單!$A$1:$Z$65536,2,0)) -> 黃柏豪 | F38: 1898 | G38: =IF(F38="","",VLOOKUP(F38,[1]名單!$A$1:$Z$65536,4,0)) -> 宏崙B | H38: =IF(F38="","",VLOOKUP(F38,[1]名單!$A$1:$Z$65536,2,0)) -> 陳鈞豊 | I38: 1882 | J38: =IF(I38="","",VLOOKUP(I38,[1]名單!$A$1:$Z$65536,4,0)) -> 信義 | K38: =IF(I38="","",VLOOKUP(I38,[1]名單!$A$1:$Z$65536,2,0)) -> 林春木 | L38: 1888 | M38: =IF(L38="","",VLOOKUP(L38,[1]名單!$A$1:$Z$65536,4,0)) -> 大屯 | N38: =IF(L38="","",VLOOKUP(L38,[1]名單!$A$1:$Z$65536,2,0)) -> 王柏皓
A39: A32 | B39: 0.4625 | C39: 1889 | D39: =IF(C39="","",VLOOKUP(C39,[1]名單!$A$1:$Z$65536,4,0)) -> 大屯 | E39: =IF(C39="","",VLOOKUP(C39,[1]名單!$A$1:$Z$65536,2,0)) -> 陳膺安 | F39: 1857 | G39: =IF(F39="","",VLOOKUP(F39,[1]名單!$A$1:$Z$65536,4,0)) -> 宏崙 | H39: =IF(F39="","",VLOOKUP(F39,[1]名單!$A$1:$Z$65536,2,0)) -> 李化均 | I39: 1883 | J39: =IF(I39="","",VLOOKUP(I39,[1]名單!$A$1:$Z$65536,4,0)) -> 信義 | K39: =IF(I39="","",VLOOKUP(I39,[1]名單!$A$1:$Z$65536,2,0)) -> 蔡新發 | M39: =IF(L39="","",VLOOKUP(L39,[1]名單!$A$1:$Z$65536,4,0)) | N39: =IF(L39="","",VLOOKUP(L39,[1]名單!$A$1:$Z$65536,2,0))
A40: 15 | B40: 組別 | D40: =VLOOKUP(A40,[1]組別!$A$1:$AK$65536,2,0) -> 國小四年級男童組 | P40: 裁判
...

Sheet 賽程表2
A1: 請注意本次比賽地點改在林內鄉義峰高中 請不要跑錯地方了
A2: 104年春季縣長盃木球賽賽程表
A3: 日 期 | C3: 104年4月17日（星期五）A場地
A4: 場次 | B4: 時間 | C4: 選 手 名 單
A5: 9 | B5: 組別 | D5: =VLOOKUP(A5,[1]組別!$A$1:$AK$65536,2,0) -> 國中男子組 | P5: 裁判
A6: A1 | B6: 0.33333333 | C6: 2001 | D6: =IF(C6="","",VLOOKUP(C6,[1]名單!$A$1:$Z$65536,4,0)) -> 大埤B | E6: =IF(C6="","",VLOOKUP(C6,[1]名單!$A$1:$Z$65536,2,0)) -> 吳信願 | F6: 2025 | G6: =IF(F6="","",VLOOKUP(F6,[1]名單!$A$1:$Z$65536,4,0)) -> 林內B | H6: =IF(F6="","",VLOOKUP(F6,[1]名單!$A$1:$Z$65536,2,0)) -> 丁翊軒 | I6: 2049 | J6: =IF(I6="","",VLOOKUP(I6,[1]名單!$A$1:$Z$65536,4,0)) -> 東和A | K6: =IF(I6="","",VLOOKUP(I6,[1]名單!$A$1:$Z$65536,2,0)) -> 林哲宇 | L6: 2073 | M6: =IF(L6="","",VLOOKUP(L6,[1]名單!$A$1:$Z$65536,4,0)) -> 淵明A | N6: =IF(L6="","",VLOOKUP(L6,[1]名單!$A$1:$Z$65536,2,0)) -> 張宏毅 | P6: =IF(O6="","",VLOOKUP(O6,[1]名單!$A$1:$Z$65536,2,0))
A7: A2 | B7: 0.3375 | C7: 2002 | D7: =IF(C7="","",VLOOKUP(C7,[1]名單!$A$1:$Z$65536,4,0)) -> 大埤B | E7: =IF(C7="","",VLOOKUP(C7,[1]名單!$A$1:$Z$65536,2,0)) -> 張珈銘 | F7: 2026 | G7: =IF(F7="","",VLOOKUP(F7,[1]名單!$A$1:$Z$65536,4,0)) -> 林內B | H7: =IF(F7="","",VLOOKUP(F7,[1]名單!$A$1:$Z$65536,2,0)) -> 李承翰 | I7: 2050 | J7: =IF(I7="","",VLOOKUP(I7,[1]名單!$A$1:$Z$65536,4,0)) -> 東和A | K7: =IF(I7="","",VLOOKUP(I7,[1]名單!$A$1:$Z$65536,2,0)) -> 林澤浤 | L7: 2074 | M7: =IF(L7="","",VLOOKUP(L7,[1]名單!$A$1:$Z$65536,4,0)) -> 淵明A | N7: =IF(L7="","",VLOOKUP(L7,[1]名單!$A$1:$Z$65536,2,0)) -> 張景評 | P7: =IF(O7="","",VLOOKUP(O7,[1]名單!$A$1:$Z$65536,2,0))
A8: A3 | B8: 0.34166667 | C8: 2003 | D8: =IF(C8="","",VLOOKUP(C8,[1]名單!$A$1:$Z$65536,4,0)) -> 大埤B | E8: =IF(C8="","",VLOOKUP(C8,[1]名單!$A$1:$Z$65536,2,0)) -> 徐宥為 | F8: 2027 | G8: =IF(F8="","",VLOOKUP(F8,[1]名單!$A$1:$Z$65536,4,0)) -> 林內B | H8: =IF(F8="","",VLOOKUP(F8,[1]名單!$A$1:$Z$65536,2,0)) -> 林松儒 | I8: 2051 | J8: =IF(I8="","",VLOOKUP(I8,[1]名單!$A$1:$Z$65536,4,0)) -> 東和A | K8: =IF(I8="","",VLOOKUP(I8,[1]名單!$A$1:$Z$65536,2,0)) -> 陳宏瑋 | L8: 2075 | M8: =IF(L8="","",VLOOKUP(L8,[1]名單!$A$1:$Z$65536,4,0)) -> 淵明A | N8: =IF(L8="","",VLOOKUP(L8,[1]名單!$A$1:$Z$65536,2,0)) -> 張智揚 | P8: =IF(O8="","",VLOOKUP(O8,[1]名單!$A$1:$Z$65536,2,0))
A9: A4 | B9: 0.34583333 | C9: 2004 | D9: =IF(C9="","",VLOOKUP(C9,[1]名單!$A$1:$Z$65536,4,0)) -> 大埤B | E9: =IF(C9="","",VLOOKUP(C9,[1]名單!$A$1:$Z$65536,2,0)) -> 蔡世偉 | F9: 2028 | G9: =IF(F9="","",VLOOKUP(F9,[1]名單!$A$1:$Z$65536,4,0)) -> 林內B | H9: =IF(F9="","",VLOOKUP(F9,[1]名單!$A$1:$Z$65536,2,0)) -> 莊吉峯 | I9: 2052 | J9: =IF(I9="","",VLOOKUP(I9,[1]名單!$A$1:$Z$65536,4,0)) -> 東和A | K9: =IF(I9="","",VLOOKUP(I9,[1]名單!$A$1:$Z$65536,2,0)) -> 陳書晟 | L9: 2076 | M9: =IF(L9="","",VLOOKUP(L9,[1]名單!$A$1:$Z$65536,4,0)) -> 淵明A | N9: =IF(L9="","",VLOOKUP(L9,[1]名單!$A$1:$Z$65536,2,0)) -> 蘇郁翔 | P9: =IF(O9="","",VLOOKUP(O9,[1]名單!$A$1:$Z$65536,2,0))
A10: A5 | B10: 0.35 | C10: 2005 | D10: =IF(C10="","",VLOOKUP(C10,[1]名單!$A$1:$Z$65536,4,0)) -> 大埤B | E10: =IF(C10="","",VLOOKUP(C10,[1]名單!$A$1:$Z$65536,2,0)) -> 蕭文德 | F10: 2029 | G10: =IF(F10="","",VLOOKUP(F10,[1]名單!$A$1:$Z$65536,4,0)) -> 林內B | H10: =IF(F10="","",VLOOKUP(F10,[1]名單!$A$1:$Z$65536,2,0)) -> 賴以恩 | I10: 2053 | J10: =IF(I10="","",VLOOKUP(I10,[1]名單!$A$1:$Z$65536,4,0)) -> 東和A | K10: =IF(I10="","",VLOOKUP(I10,[1]名單!$A$1:$Z$65536,2,0)) -> 高博揚 | L10: 2077 | M10: =IF(L10="","",VLOOKUP(L10,[1]名單!$A$1:$Z$65536,4,0)) -> 淵明A | N10: =IF(L10="","",VLOOKUP(L10,[1]名單!$A$1:$Z$65536,2,0)) -> 鄭念宗 | P10: =IF(O10="","",VLOOKUP(O10,[1]名單!$A$1:$Z$65536,2,0))
A11: A6 | B11: 0.35416667 | C11: 2006 | D11: =IF(C11="","",VLOOKUP(C11,[1]名單!$A$1:$Z$65536,4,0)) -> 大埤B | E11: =IF(C11="","",VLOOKUP(C11,[1]名單!$A$1:$Z$65536,2,0)) -> 魏永安 | F11: 2030 | G11: =IF(F11="","",VLOOKUP(F11,[1]名單!$A$1:$Z$65536,4,0)) -> 林內B | H11: =IF(F11="","",VLOOKUP(F11,[1]名單!$A$1:$Z$65536,2,0)) -> 黃義墀 | I11: 2054 | J11: =IF(I11="","",VLOOKUP(I11,[1]名單!$A$1:$Z$65536,4,0)) -> 東和A | K11: =IF(I11="","",VLOOKUP(I11,[1]名單!$A$1:$Z$65536,2,0)) -> 高福隆 | L11: 2078 | M11: =IF(L11="","",VLOOKUP(L11,[1]名單!$A$1:$Z$65536,4,0)) -> 淵明A | N11: =IF(L11="","",VLOOKUP(L11,[1]名單!$A$1:$Z$65536,2,0)) -> 黃裕綸 | P11: =IF(O11="","",VLOOKUP(O11,[1]名單!$A$1:$Z$65536,2,0))
A12: A7 | B12: 0.35833333 | C12: 2007 | D12: =IF(C12="","",VLOOKUP(C12,[1]名單!$A$1:$Z$65536,4,0)) -> 東和B | E12: =IF(C12="","",VLOOKUP(C12,[1]名單!$A$1:$Z$65536,2,0)) -> 周佳毅 | F12: 2031 | G12: =IF(F12="","",VLOOKUP(F12,[1]名單!$A$1:$Z$65536,4,0)) -> 東明 | H12: =IF(F12="","",VLOOKUP(F12,[1]名單!$A$1:$Z$65536,2,0)) -> 劉政佑 | I12: 2055 | J12: =IF(I12="","",VLOOKUP(I12,[1]名單!$A$1:$Z$65536,4,0)) -> 馬光A | K12: =IF(I12="","",VLOOKUP(I12,[1]名單!$A$1:$Z$65536,2,0)) -> 吳政翰 | L12: 2109 | M12: =IF(L12="","",VLOOKUP(L12,[1]名單!$A$1:$Z$65536,4,0)) -> 淵明B | N12: =IF(L12="","",VLOOKUP(L12,[1]名單!$A$1:$Z$65536,2,0)) -> 林易信 | P12: =IF(O12="","",VLOOKUP(O12,[1]名單!$A$1:$Z$65536,2,0))
A13: A8 | B13: 0.3625 | C13: 2008 | D13: =IF(C13="","",VLOOKUP(C13,[1]名單!$A$1:$Z$65536,4,0)) -> 東和B | E13: =IF(C13="","",VLOOKUP(C13,[1]名單!$A$1:$Z$65536,2,0)) -> 張朝評 | F13: 2032 | G13: =IF(F13="","",VLOOKUP(F13,[1]名單!$A$1:$Z$65536,4,0)) -> 東明 | H13: =IF(F13="","",VLOOKUP(F13,[1]名單!$A$1:$Z$65536,2,0)) -> 張峻維 | I13: 2056 | J13: =IF(I13="","",VLOOKUP(I13,[1]名單!$A$1:$Z$65536,4,0)) -> 馬光A | K13: =IF(I13="","",VLOOKUP(I13,[1]名單!$A$1:$Z$65536,2,0)) -> 吳瑞文 | L13: 2110 | M13: =IF(L13="","",VLOOKUP(L13,[1]名單!$A$1:$Z$65536,4,0)) -> 淵明B | N13: =IF(L13="","",VLOOKUP(L13,[1]名單!$A$1:$Z$65536,2,0)) -> 蘇弘展 | P13: =IF(O13="","",VLOOKUP(O13,[1]名單!$A$1:$Z$65536,2,0))
A14: A9 | B14: 0.36666667 | C14: 2009 | D14: =IF(C14="","",VLOOKUP(C14,[1]名單!$A$1:$Z$65536,4,0)) -> 東和B | E14: =IF(C14="","",VLOOKUP(C14,[1]名單!$A$1:$Z$65536,2,0)) -> 戴靖霖 | F14: 2033 | G14: =IF(F14="","",VLOOKUP(F14,[1]名單!$A$1:$Z$65536,4,0)) -> 東明 | H14: =IF(F14="","",VLOOKUP(F14,[1]名單!$A$1:$Z$65536,2,0)) -> 朱高明 | I14: 2057 | J14: =IF(I14="","",VLOOKUP(I14,[1]名單!$A$1:$Z$65536,4,0)) -> 馬光A | K14: =IF(I14="","",VLOOKUP(I14,[1]名單!$A$1:$Z$65536,2,0)) -> 林承意 | L14: 2111 | M14: =IF(L14="","",VLOOKUP(L14,[1]名單!$A$1:$Z$65536,4,0)) -> 淵明B | N14: =IF(L14="","",VLOOKUP(L14,[1]名單!$A$1:$Z$65536,2,0)) -> 鄭智勝 | P14: =IF(O14="","",VLOOKUP(O14,[1]名單!$A$1:$Z$65536,2,0))
A15: A10 | B15: 0.37083333 | C15: 2010 | D15: =IF(C15="","",VLOOKUP(C15,[1]名單!$A$1:$Z$65536,4,0)) -> 東和B | E15: =IF(C15="","",VLOOKUP(C15,[1]名單!$A$1:$Z$65536,2,0)) -> 鐘明璋 | F15: 2034 | G15: =IF(F15="","",VLOOKUP(F15,[1]名單!$A$1:$Z$65536,4,0)) -> 東明 | H15: =IF(F15="","",VLOOKUP(F15,[1]名單!$A$1:$Z$65536,2,0)) -> 陳靖羽 | I15: 2058 | J15: =IF(I15="","",VLOOKUP(I15,[1]名單!$A$1:$Z$65536,4,0)) -> 馬光A | K15: =IF(I15="","",VLOOKUP(I15,[1]名單!$A$1:$Z$65536,2,0)) -> 陳秉宏 | L15: 2103 | M15: =IF(L15="","",VLOOKUP(L15,[1]名單!$A$1:$Z$65536,4,0)) -> 林內D | N15: =IF(L15="","",VLOOKUP(L15,[1]名單!$A$1:$Z$65536,2,0)) -> 蔡柏慶 | P15: =IF(O15="","",VLOOKUP(O15,[1]名單!$A$1:$Z$65536,2,0))
A16: A11 | B16: 0.375 | C16: 2011 | D16: =IF(C16="","",VLOOKUP(C16,[1]名單!$A$1:$Z$65536,4,0)) -> 東和B | E16: =IF(C16="","",VLOOKUP(C16,[1]名單!$A$1:$Z$65536,2,0)) -> 陳垣亘 | F16: 2037 | G16: =IF(F16="","",VLOOKUP(F16,[1]名單!$A$1:$Z$65536,4,0)) -> 大埤A | H16: =IF(F16="","",VLOOKUP(F16,[1]名單!$A$1:$Z$65536,2,0)) -> 劉哲嘉 | I16: 2059 | J16: =IF(I16="","",VLOOKUP(I16,[1]名單!$A$1:$Z$65536,4,0)) -> 馬光A | K16: =IF(I16="","",VLOOKUP(I16,[1]名單!$A$1:$Z$65536,2,0)) -> 黃偉傑 | L16: 2104 | M16: =IF(L16="","",VLOOKUP(L16,[1]名單!$A$1:$Z$65536,4,0)) -> 林內D | N16: =IF(L16="","",VLOOKUP(L16,[1]名單!$A$1:$Z$65536,2,0)) -> 陳俊逸 | P16: =IF(O16="","",VLOOKUP(O16,[1]名單!$A$1:$Z$65536,2,0))
A17: A12 | B17: 0.37916667 | C17: 2012 | D17: =IF(C17="","",VLOOKUP(C17,[1]名單!$A$1:$Z$65536,4,0)) -> 東和B | E17: =IF(C17="","",VLOOKUP(C17,[1]名單!$A$1:$Z$65536,2,0)) -> 高民峻 | F17: 2038 | G17: =IF(F17="","",VLOOKUP(F17,[1]名單!$A$1:$Z$65536,4,0)) -> 大埤A | H17: =IF(F17="","",VLOOKUP(F17,[1]名單!$A$1:$Z$65536,2,0)) -> 劉志威 | I17: 2060 | J17: =IF(I17="","",VLOOKUP(I17,[1]名單!$A$1:$Z$65536,4,0)) -> 馬光A | K17: =IF(I17="","",VLOOKUP(I17,[1]名單!$A$1:$Z$65536,2,0)) -> 黃元龍 | L17: 2105 | M17: =IF(L17="","",VLOOKUP(L17,[1]名單!$A$1:$Z$65536,4,0)) -> 林內D | N17: =IF(L17="","",VLOOKUP(L17,[1]名單!$A$1:$Z$65536,2,0)) -> 陳樞樺 | P17: =IF(O17="","",VLOOKUP(O17,[1]名單!$A$1:$Z$65536,2,0))
... A24: A19 | B24: 0.40833333 | C24: 2020 | D24: =IF(C24="","",VLOOKUP(C24,[1]名單!$A$1:$Z$65536,4,0)) -> 石榴B | E24: =IF(C24="","",VLOOKUP(C24,[1]名單!$A$1:$Z$65536,2,0)) -> 李元倉 | F24: 2045 | G24: =IF(F24="","",VLOOKUP(F24,[1]名單!$A$1:$Z$65536,4,0)) -> 元長 | H24: =IF(F24="","",VLOOKUP(F24,[1]名單!$A$1:$Z$65536,2,0)) -> 李化郁 | I24: 2067 | J24: =IF(I24="","",VLOOKUP(I24,[1]名單!$A$1:$Z$65536,4,0)) -> 林內A | K24: =IF(I24="","",VLOOKUP(I24,[1]名單!$A$1:$Z$65536,2,0)) -> 張介皇 | L24: 2085 | M24: =IF(L24="","",VLOOKUP(L24,[1]名單!$A$1:$Z$65536,4,0)) -> 口湖 | N24: =IF(L24="","",VLOOKUP(L24,[1]名單!$A$1:$Z$65536,2,0)) -> 呂松穎 | P24: =IF(O24="","",VLOOKUP(O24,[1]名單!$A$1:$Z$65536,2,0))
A25: A20 | B25: 0.4125 | C25: 2021 | D25: =IF(C25="","",VLOOKUP(C25,[1]名單!$A$1:$Z$65536,4,0)) -> 石榴B | E25: =IF(C25="","",VLOOKUP(C25,[1]名單!$A$1:$Z$65536,2,0)) -> 楊詠宏 | F25: 2046 | G25: =IF(F25="","",VLOOKUP(F25,[1]名單!$A$1:$Z$65536,4,0)) -> 元長 | H25: =IF(F25="","",VLOOKUP(F25,[1]名單!$A$1:$Z$65536,2,0)) -> 李星緯 | I25: 2068 | J25: =IF(I25="","",VLOOKUP(I25,[1]名單!$A$1:$Z$65536,4,0)) -> 林內A | K25: =IF(I25="","",VLOOKUP(I25,[1]名單!$A$1:$Z$65536,2,0)) -> 張富豪 | L25: 2086 | M25: =IF(L25="","",VLOOKUP(L25,[1]名單!$A$1:$Z$65536,4,0)) -> 口湖 | N25: =IF(L25="","",VLOOKUP(L25,[1]名單!$A$1:$Z$65536,2,0)) -> 曾紹群
A26: A21 | B26: 0.41666667 | C26: 2022 | D26: =IF(C26="","",VLOOKUP(C26,[1]名單!$A$1:$Z$65536,4,0)) -> 石榴B | E26: =IF(C26="","",VLOOKUP(C26,[1]名單!$A$1:$Z$65536,2,0)) -> 蔡駿忠 | F26: 2047 | G26: =IF(F26="","",VLOOKUP(F26,[1]名單!$A$1:$Z$65536,4,0)) -> 元長 | H26: =IF(F26="","",VLOOKUP(F26,[1]名單!$A$1:$Z$65536,2,0)) -> 林榮盛 | I26: 2069 | J26: =IF(I26="","",VLOOKUP(I26,[1]名單!$A$1:$Z$65536,4,0)) -> 林內A | K26: =IF(I26="","",VLOOKUP(I26,[1]名單!$A$1:$Z$65536,2,0)) -> 林季磊 | L26: 2087 | M26: =IF(L26="","",VLOOKUP(L26,[1]名單!$A$1:$Z$65536,4,0)) -> 口湖 | N26: =IF(L26="","",VLOOKUP(L26,[1]名單!$A$1:$Z$65536,2,0)) -> 林俊吉
A27: A22 | B27: 0.42083333 | C27: 2023 | D27: =IF(C27="","",VLOOKUP(C27,[1]名單!$A$1:$Z$65536,4,0)) -> 石榴B | E27: =IF(C27="","",VLOOKUP(C27,[1]名單!$A$1:$Z$65536,2,0)) -> 詹泓穎 | F27: 2048 | G27: =IF(F27="","",VLOOKUP(F27,[1]名單!$A$1:$Z$65536,4,0)) -> 元長 | H27: =IF(F27="","",VLOOKUP(F27,[1]名單!$A$1:$Z$65536,2,0)) -> 蔡俊龍 | I27: 2070 | J27: =IF(I27="","",VLOOKUP(I27,[1]名單!$A$1:$Z$65536,4,0)) -> 林內A | K27: =IF(I27="","",VLOOKUP(I27,[1]名單!$A$1:$Z$65536,2,0)) -> 林晉融 | M27: =IF(L27="","",VLOOKUP(L27,[1]名單!$A$1:$Z$65536,4,0)) | N27: =IF(L27="","",VLOOKUP(L27,[1]名單!$A$1:$Z$65536,2,0))
A28: 11 | B28: 組別 | D28: =VLOOKUP(A28,[1]組別!$A$1:$AK$65536,2,0) -> 國小六年級男童組 | P28: 裁判
A29: A23 | B29: 0.425 | C29: 1601 | D29: =IF(C29="","",VLOOKUP(C29,[1]名單!$A$1:$Z$65536,4,0)) -> 石榴B | E29: =IF(C29="","",VLOOKUP(C29,[1]名單!$A$1:$Z$65536,2,0)) -> 余泊恩 | F29: 1607 | G29: =IF(F29="","",VLOOKUP(F29,[1]名單!$A$1:$Z$65536,4,0)) -> 溝壩 | H29: =IF(F29="","",VLOOKUP(F29,[1]名單!$A$1:$Z$65536,2,0)) -> 劉哲維 | I29: 1619 | J29: =IF(I29="","",VLOOKUP(I29,[1]名單!$A$1:$Z$65536,4,0)) -> 林內 | K29: =IF(I29="","",VLOOKUP(I29,[1]名單!$A$1:$Z$65536,2,0)) -> 張凱翔 | L29: 1625 | M29: =IF(L29="","",VLOOKUP(L29,[1]名單!$A$1:$Z$65536,4,0)) -> 重興 | N29: =IF(L29="","",VLOOKUP(L29,[1]名單!$A$1:$Z$65536,2,0)) -> 吳致緯 | P29: =IF(O29="","",VLOOKUP(O29,[1]名單!$A$1:$Z$65536,2,0))
A30: A24 | B30: 0.42916667 | C30: 1602 | D30: =IF(C30="","",VLOOKUP(C30,[1]名單!$A$1:$Z$65536,4,0)) -> 石榴B | E30: =IF(C30="","",VLOOKUP(C30,[1]名單!$A$1:$Z$65536,2,0)) -> 張宸豪 | F30: 1608 | G30: =IF(F30="","",VLOOKUP(F30,[1]名單!$A$1:$Z$65536,4,0)) -> 溝壩 | H30: =IF(F30="","",VLOOKUP(F30,[1]名單!$A$1:$Z$65536,2,0)) -> 周紹霆 | I30: 1620 | J30: =IF(I30="","",VLOOKUP(I30,[1]名單!$A$1:$Z$65536,4,0)) -> 林內 | K30: =IF(I30="","",VLOOKUP(I30,[1]名單!$A$1:$Z$65536,2,0)) -> 張哲愿 | L30: 1626 | M30: =IF(L30="","",VLOOKUP(L30,[1]名單!$A$1:$Z$65536,4,0)) -> 重興 | N30: =IF(L30="","",VLOOKUP(L30,[1]名單!$A$1:$Z$65536,2,0)) -> 張錦祥 | P30: =IF(O30="","",VLOOKUP(O30,[1]名單!$A$1:$Z$65536,2,0))
A31: A25 | B31: 0.43333333 | C31: 1603 | D31: =IF(C31="","",VLOOKUP(C31,[1]名單!$A$1:$Z$65536,4,0)) -> 石榴B | E31: =IF(C31="","",VLOOKUP(C31,[1]名單!$A$1:$Z$65536,2,0)) -> 張慶元 | F31: 1609 | G31: =IF(F31="","",VLOOKUP(F31,[1]名單!$A$1:$Z$65536,4,0)) -> 溝壩 | H31: =IF(F31="","",VLOOKUP(F31,[1]名單!$A$1:$Z$65536,2,0)) -> 張凱閔 | I31: 1621 | J31: =IF(I31="","",VLOOKUP(I31,[1]名單!$A$1:$Z$65536,4,0)) -> 林內 | K31: =IF(I31="","",VLOOKUP(I31,[1]名單!$A$1:$Z$65536,2,0)) -> 張誠哲 | L31: 1627 | M31: =IF(L31="","",VLOOKUP(L31,[1]名單!$A$1:$Z$65536,4,0)) -> 重興 | N31: =IF(L31="","",VLOOKUP(L31,[1]名單!$A$1:$Z$65536,2,0)) -> 戴育宸 | P31: =IF(O31="","",VLOOKUP(O31,[1]名單!$A$1:$Z$65536,2,0))
A32: A26 | B32: 0.4375 | C32: 1604 | D32: =IF(C32="","",VLOOKUP(C32,[1]名單!$A$1:$Z$65536,4,0)) -> 石榴B | E32: =IF(C32="","",VLOOKUP(C32,[1]名單!$A$1:$Z$65536,2,0)) -> 張永豪 | F32: 1610 | G32: =IF(F32="","",VLOOKUP(F32,[1]名單!$A$1:$Z$65536,4,0)) -> 溝壩 | H32: =IF(F32="","",VLOOKUP(F32,[1]名單!$A$1:$Z$65536,2,0)) -> 林國智 | I32: 1622 | J32: =IF(I32="","",VLOOKUP(I32,[1]名單!$A$1:$Z$65536,4,0)) -> 林內 | K32: =IF(I32="","",VLOOKUP(I32,[1]名單!$A$1:$Z$65536,2,0)) -> 林新佑 | L32: 1628 | M32: =IF(L32="","",VLOOKUP(L32,[1]名單!$A$1:$Z$65536,4,0)) -> 重興 | N32: =IF(L32="","",VLOOKUP(L32,[1]名單!$A$1:$Z$65536,2,0)) -> 戴辰旭 | P32: =IF(O32="","",VLOOKUP(O32,[1]名單!$A$1:$Z$65536,2,0))
A33: A27 | B33: 0.44166667 | C33: 1605 | D33: =IF(C33="","",VLOOKUP(C33,[1]名單!$A$1:$Z$65536,4,0)) -> 石榴B | E33: =IF(C33="","",VLOOKUP(C33,[1]名單!$A$1:$Z$65536,2,0)) -> 林達崙 | F33: 1631 | G33: =IF(F33="","",VLOOKUP(F33,[1]名單!$A$1:$Z$65536,4,0)) -> 九芎 | H33: =IF(F33="","",VLOOKUP(F33,[1]名單!$A$1:$Z$65536,2,0)) -> 張晉愷 | I33: 1623 | J33: =IF(I33="","",VLOOKUP(I33,[1]名單!$A$1:$Z$65536,4,0)) -> 林內 | K33: =IF(I33="","",VLOOKUP(I33,[1]名單!$A$1:$Z$65536,2,0)) -> 蔡宗廷 | L33: 1629 | M33: =IF(L33="","",VLOOKUP(L33,[1]名單!$A$1:$Z$65536,4,0)) -> 重興 | N33: =IF(L33="","",VLOOKUP(L33,[1]名單!$A$1:$Z$65536,2,0)) -> 朱又齊 | P33: =IF(O33="","",VLOOKUP(O33,[1]名單!$A$1:$Z$65536,2,0))
A34: A28 | B34: 0.44583333 | C34: 1606 | D34: =IF(C34="","",VLOOKUP(C34,[1]名單!$A$1:$Z$65536,4,0)) -> 石榴B | E34: =IF(C34="","",VLOOKUP(C34,[1]名單!$A$1:$Z$65536,2,0)) -> 王俊麟 | F34: 1632 | G34: =IF(F34="","",VLOOKUP(F34,[1]名單!$A$1:$Z$65536,4,0)) -> 九芎 | H34: =IF(F34="","",VLOOKUP(F34,[1]名單!$A$1:$Z$65536,2,0)) -> 林宏諺 | I34: 1624 | J34: =IF(I34="","",VLOOKUP(I34,[1]名單!$A$1:$Z$65536,4,0)) -> 林內 | K34: =IF(I34="","",VLOOKUP(I34,[1]名單!$A$1:$Z$65536,2,0)) -> 陳致憲 | L34: 1630 | M34: =IF(L34="","",VLOOKUP(L34,[1]名單!$A$1:$Z$65536,4,0)) -> 重興 | N34: =IF(L34="","",VLOOKUP(L34,[1]名單!$A$1:$Z$65536,2,0)) -> 鄭延彬 | P34: =IF(O34="","",VLOOKUP(O34,[1]名單!$A$1:$Z$65536,2,0))
A35: A29 | B35: 0.45 | C35: 1613 | D35: =IF(C35="","",VLOOKUP(C35,[1]名單!$A$1:$Z$65536,4,0)) -> 石榴A | E35: =IF(C35="","",VLOOKUP(C35,[1]名單!$A$1:$Z$65536,2,0)) -> 何仁傑 | F35: 1633 | G35: =IF(F35="","",VLOOKUP(F35,[1]名單!$A$1:$Z$65536,4,0)) -> 九芎 | H35: =IF(F35="","",VLOOKUP(F35,[1]名單!$A$1:$Z$65536,2,0)) -> 林鈺翔 | I35: 1637 | J35: =IF(I35="","",VLOOKUP(I35,[1]名單!$A$1:$Z$65536,4,0)) -> 民生 | K35: =IF(I35="","",VLOOKUP(I35,[1]名單!$A$1:$Z$65536,2,0)) -> 施仁傑 | L35: 1679 | M35: =IF(L35="","",VLOOKUP(L35,[1]名單!$A$1:$Z$65536,4,0)) -> 重興B | N35: =IF(L35="","",VLOOKUP(L35,[1]名單!$A$1:$Z$65536,2,0)) -> 廖聖祐 | P35: =IF(O35="","",VLOOKUP(O35,[1]名單!$A$1:$Z$65536,2,0))
A36: A30 | B36: 0.45416667 | C36: 1614 | D36: =IF(C36="","",VLOOKUP(C36,[1]名單!$A$1:$Z$65536,4,0)) -> 石榴A | E36: =IF(C36="","",VLOOKUP(C36,[1]名單!$A$1:$Z$65536,2,0)) -> 姚宏燁 | F36: 1634 | G36: =IF(F36="","",VLOOKUP(F36,[1]名單!$A$1:$Z$65536,4,0)) -> 九芎 | H36: =IF(F36="","",VLOOKUP(F36,[1]名單!$A$1:$Z$65536,2,0)) -> 蔡承翰 | I36: 1638 | J36: =IF(I36="","",VLOOKUP(I36,[1]名單!$A$1:$Z$65536,4,0)) -> 民生 | K36: =IF(I36="","",VLOOKUP(I36,[1]名單!$A$1:$Z$65536,2,0)) -> 施仁翔 | L36: 1680 | M36: =IF(L36="","",VLOOKUP(L36,[1]名單!$A$1:$Z$65536,4,0)) -> 重興B | N36: =IF(L36="","",VLOOKUP(L36,[1]名單!$A$1:$Z$65536,2,0)) -> 張桐嘉 | P36: =IF(O36="","",VLOOKUP(O36,[1]名單!$A$1:$Z$65536,2,0))
A37: A31 | B37: 0.45833333 | C37: 1615 | D37: =IF(C37="","",VLOOKUP(C37,[1]名單!$A$1:$Z$65536,4,0)) -> 石榴A | E37: =IF(C37="","",VLOOKUP(C37,[1]名單!$A$1:$Z$65536,2,0)) -> 張惟堯 | F37: 1635 | G37: =IF(F37="","",VLOOKUP(F37,[1]名單!$A$1:$Z$65536,4,0)) -> 九芎 | H37: =IF(F37="","",VLOOKUP(F37,[1]名單!$A$1:$Z$65536,2,0)) -> 蔡欣祐 | I37: 1639 | J37: =IF(I37="","",VLOOKUP(I37,[1]名單!$A$1:$Z$65536,4,0)) -> 民生 | K37: =IF(I37="","",VLOOKUP(I37,[1]名單!$A$1:$Z$65536,2,0)) -> 林廷諺 | L37: 1645 | M37: =IF(L37="","",VLOOKUP(L37,[1]名單!$A$1:$Z$65536,4,0)) -> 聯美 | N37: =IF(L37="","",VLOOKUP(L37,[1]名單!$A$1:$Z$65536,2,0)) -> 陳政楷 | P37: =IF(O37="","",VLOOKUP(O37,[1]名單!$A$1:$Z$65536,2,0))
A38: A32 | B38: 0.4625 | C38: 1616 | D38: =IF(C38="","",VLOOKUP(C38,[1]名單!$A$1:$Z$65536,4,0)) -> 石榴A | E38: =IF(C38="","",VLOOKUP(C38,[1]名單!$A$1:$Z$65536,2,0)) -> 張閔翔 | F38: 1636 | G38: =IF(F38="","",VLOOKUP(F38,[1]名單!$A$1:$Z$65536,4,0)) -> 九芎 | H38: =IF(F38="","",VLOOKUP(F38,[1]名單!$A$1:$Z$65536,2,0)) -> 陳立昌 | I38: 1640 | J38: =IF(I38="","",VLOOKUP(I38,[1]名單!$A$1:$Z$65536,4,0)) -> 民生 | K38: =IF(I38="","",VLOOKUP(I38,[1]名單!$A$1:$Z$65536,2,0)) -> 林詠軒 | L38: 1646 | M38: =IF(L38="","",VLOOKUP(L38,[1]名單!$A$1:$Z$65536,4,0)) -> 聯美 | N38: =IF(L38="","",VLOOKUP(L38,[1]名單!$A$1:$Z$65536,2,0)) -> 顏茂峰 | P38: =IF(O38="","",VLOOKUP(O38,[1]名單!$A$1:$Z$65536,2,0))
A39: A33 | B39: 0.46666667 | C39: 1617 | D39: =IF(C39="","",VLOOKUP(C39,[1]名單!$A$1:$Z$65536,4,0)) -> 石榴A | E39: =IF(C39="","",VLOOKUP(C39,[1]名單!$A$1:$Z$65536,2,0)) -> 林致宇 | F39: 1655 | G39: =IF(F39="","",VLOOKUP(F39,[1]名單!$A$1:$Z$65536,4,0)) -> 中和 | H39: =IF(F39="","",VLOOKUP(F39,[1]名單!$A$1:$Z$65536,2,0)) -> 林冠宏 | I39: 1641 | J39: =IF(I39="","",VLOOKUP(I39,[1]名單!$A$1:$Z$65536,4,0)) -> 民生 | K39: =IF(I39="","",VLOOKUP(I39,[1]名單!$A$1:$Z$65536,2,0)) -> 王政雄 | L39: 1643 | M39: =IF(L39="","",VLOOKUP(L39,[1]名單!$A$1:$Z$65536,4,0)) -> 聯美 | N39: =IF(L39="","",VLOOKUP(L39,[1]名單!$A$1:$Z$65536,2,0)) -> 沈俊辰 | P39: =IF(O39="","",VLOOKUP(O39,[1]名單!$A$1:$Z$65536,2,0))
A40: A34 | B40: 0.47083333 | C40: 1618 | D40: =IF(C40="","",VLOOKUP(C40,[1]名單!$A$1:$Z$65536,4,0)) -> 石榴A | E40: =IF(C40="","",VLOOKUP(C40,[1]名單!$A$1:$Z$65536,2,0)) -> 陳俊源 | F40: 1656 | G40: =IF(F40="","",VLOOKUP(F40,[1]名單!$A$1:$Z$65536,4,0)) -> 中和 | H40: =IF(F40="","",VLOOKUP(F40,[1]名單!$A$1:$Z$65536,2,0)) -> 林坤正 | I40: 1642 | J40: =IF(I40="","",VLOOKUP(I40,[1]名單!$A$1:$Z$65536,4,0)) -> 民生 | K40: =IF(I40="","",VLOOKUP(I40,[1]名單!$A$1:$Z$65536,2,0)) -> 蔡景文 | L40: 1644 | M40: =IF(L40="","",VLOOKUP(L40,[1]名單!$A$1:$Z$65536,4,0)) -> 聯美 | N40: =IF(L40="","",VLOOKUP(L40,[1]名單!$A$1:$Z$65536,2,0)) -> 蘇威誠 | P40: =IF(O40="","",VLOOKUP(O40,[1]名單!$A$1:$Z$65536,2,0))
A41: A35 | B41: 0.475 | C41: 1649 | D41: =IF(C41="","",VLOOKUP(C41,[1]名單!$A$1:$Z$65536,4,0)) -> 宏崙 | E41: =IF(C41="","",VLOOKUP(C41,[1]名單!$A$1:$Z$65536,2,0)) -> 吳光仁 | F41: 1657 | G41: =IF(F41="","",VLOOKUP(F41,[1]名單!$A$1:$Z$65536,4,0)) -> 中和 | H41: =IF(F41="","",VLOOKUP(F41,[1]名單!$A$1:$Z$65536,2,0)) -> 林金成 | I41: 1661 | J41: =IF(I41="","",VLOOKUP(I41,[1]名單!$A$1:$Z$65536,4,0)) -> 信義 | K41: =IF(I41="","",VLOOKUP(I41,[1]名單!$A$1:$Z$65536,2,0)) -> 吳尚承 | L41: 1669 | M41: =IF(L41="","",VLOOKUP(L41,[1]名單!$A$1:$Z$65536,4,0)) -> 三和 | N41: =IF(L41="","",VLOOKUP(L41,[1]名單!$A$1:$Z$65536,2,0)) -> 廖郁威
A42: A36 | B42: 0.47916667 | C42: 1650 | D42: =IF(C42="","",VLOOKUP(C42,[1]名單!$A$1:$Z$65536,4,0)) -> 宏崙 | E42: =IF(C42="","",VLOOKUP(C42,[1]名單!$A$1:$Z$65536,2,0)) -> 吳宗樺 | F42: 1658 | G42: =IF(F42="","",VLOOKUP(F42,[1]名單!$A$1:$Z$65536,4,0)) -> 中和 | H42: =IF(F42="","",VLOOKUP(F42,[1]名單!$A$1:$Z$65536,2,0)) -> 蔡仁博 | I42: 1662 | J42: =IF(I42="","",VLOOKUP(I42,[1]名單!$A$1:$Z$65536,4,0)) -> 信義 | K42: =IF(I42="","",VLOOKUP(I42,[1]名單!$A$1:$Z$65536,2,0)) -> 吳承諭 | L42: 1670 | M42: =IF(L42="","",VLOOKUP(L42,[1]名單!$A$1:$Z$65536,4,0)) -> 三和 | N42: =IF(L42="","",VLOOKUP(L42,[1]名單!$A$1:$Z$65536,2,0)) -> 張峻瑋
A43: A37 | B43: 0.48333333 | C43: 1651 | D43: =IF(C43="","",VLOOKUP(C43,[1]名單!$A$1:$Z$65536,4,0)) -> 宏崙 | E43: =IF(C43="","",VLOOKUP(C43,[1]名單!$A$1:$Z$65536,2,0)) -> 吳睿祥 | F43: 1659 | G43: =IF(F43="","",VLOOKUP(F43,[1]名單!$A$1:$Z$65536,4,0)) -> 中和 | H43: =IF(F43="","",VLOOKUP(F43,[1]名單!$A$1:$Z$65536,2,0)) -> 蔡建庭 | I43: 1663 | J43: =IF(I43="","",VLOOKUP(I43,[1]名單!$A$1:$Z$65536,4,0)) -> 信義 | K43: =IF(I43="","",VLOOKUP(I43,[1]名單!$A$1:$Z$65536,2,0)) -> 吳振鴻 | L43: 1667 | M43: =IF(L43="","",VLOOKUP(L43,[1]名單!$A$1:$Z$65536,4,0)) -> 三和 | N43: =IF(L43="","",VLOOKUP(L43,[1]名單!$A$1:$Z$65536,2,0)) -> 廖威勝
A44: A38 | B44: 0.4875 | C44: 1652 | D44: =IF(C44="","",VLOOKUP(C44,[1]名單!$A$1:$Z$65536,4,0)) -> 宏崙 | E44: =IF(C44="","",VLOOKUP(C44,[1]名單!$A$1:$Z$65536,2,0)) -> 周文麒 | F44: 1660 | G44: =IF(F44="","",VLOOKUP(F44,[1]名單!$A$1:$Z$65536,4,0)) -> 中和 | H44: =IF(F44="","",VLOOKUP(F44,[1]名單!$A$1:$Z$65536,2,0)) -> 蔡明哲 | I44: 1664 | J44: =IF(I44="","",VLOOKUP(I44,[1]名單!$A$1:$Z$65536,4,0)) -> 信義 | K44: =IF(I44="","",VLOOKUP(I44,[1]名單!$A$1:$Z$65536,2,0)) -> 蔡奇峰 | L44: 1668 | M44: =IF(L44="","",VLOOKUP(L44,[1]名單!$A$1:$Z$65536,4,0)) -> 三和 | N44: =IF(L44="","",VLOOKUP(L44,[1]名單!$A$1:$Z$65536,2,0)) -> 廖銘展
A45: A39 | B45: 0.49166667 | C45: 1653 | D45: =IF(C45="","",VLOOKUP(C45,[1]名單!$A$1:$Z$65536,4,0)) -> 宏崙 | E45: =IF(C45="","",VLOOKUP(C45,[1]名單!$A$1:$Z$65536,2,0)) -> 朱翊豪 | F45: 1685 | G45: =IF(F45="","",VLOOKUP(F45,[1]名單!$A$1:$Z$65536,4,0)) -> 僑真 | H45: =IF(F45="","",VLOOKUP(F45,[1]名單!$A$1:$Z$65536,2,0)) -> 楊迪硯 | I45: 1665 | J45: =IF(I45="","",VLOOKUP(I45,[1]名單!$A$1:$Z$65536,4,0)) -> 信義 | K45: =IF(I45="","",VLOOKUP(I45,[1]名單!$A$1:$Z$65536,2,0)) -> 蔡宗桓 | L45: 1703 | M45: =IF(L45="","",VLOOKUP(L45,[1]名單!$A$1:$Z$65536,4,0)) -> 三和B | N45: =IF(L45="","",VLOOKUP(L45,[1]名單!$A$1:$Z$65536,2,0)) -> 許庭碩
A46: A40 | B46: 0.49583333 | C46: 1654 | D46: =IF(C46="","",VLOOKUP(C46,[1]名單!$A$1:$Z$65536,4,0)) -> 宏崙 | E46: =IF(C46="","",VLOOKUP(C46,[1]名單!$A$1:$Z$65536,2,0)) -> 王佩偉 | F46: 1697 | G46: =IF(F46="","",VLOOKUP(F46,[1]名單!$A$1:$Z$65536,4,0)) -> 大屯 | H46: =IF(F46="","",VLOOKUP(F46,[1]名單!$A$1:$Z$65536,2,0)) -> 陳志嘉 | I46: 1666 | J46: =IF(I46="","",VLOOKUP(I46,[1]名單!$A$1:$Z$65536,4,0)) -> 信義 | K46: =IF(I46="","",VLOOKUP(I46,[1]名單!$A$1:$Z$65536,2,0)) -> 黃明治 | L46: 1704 | M46: =IF(L46="","",VLOOKUP(L46,[1]名單!$A$1:$Z$65536,4,0)) -> 三和B | N46: =IF(L46="","",VLOOKUP(L46,[1]名單!$A$1:$Z$65536,2,0)) -> 廖家豪
...

Sheet 賽程表3
A1: 請注意本次比賽地點改在林內鄉義峰高中 請不要跑錯地方了
A2: 104年春季縣長盃木球賽賽程表
A3: 日 期 | C3: 104年4月18日（星期六）A場地
A4: 場次 | B4: 時間 | C4: 選 手 名 單
A5: 3 | B5: 組別 | D5: =VLOOKUP(A5,[1]組別!$A$1:$AK$65536,2,0) -> 社會男子組 | P5: 裁判
A6: A1 | B6: 0.33333333 | C6: 1201 | D6: =IF(C6="","",VLOOKUP(C6,[1]名單!$A$1:$Z$65536,4,0)) -> 馬光 | E6: =IF(C6="","",VLOOKUP(C6,[1]名單!$A$1:$Z$65536,2,0)) -> 張博彥 | F6: 1217 | G6: =IF(F6="","",VLOOKUP(F6,[1]名單!$A$1:$Z$65536,4,0)) -> 義峰A | H6: =IF(F6="","",VLOOKUP(F6,[1]名單!$A$1:$Z$65536,2,0)) -> 鄭立揚 | I6: 1231 | J6: =IF(I6="","",VLOOKUP(I6,[1]名單!$A$1:$Z$65536,4,0)) -> 雲林 | K6: =IF(I6="","",VLOOKUP(I6,[1]名單!$A$1:$Z$65536,2,0)) -> 鄭詠耀 | L6: 1244 | M6: =IF(L6="","",VLOOKUP(L6,[1]名單!$A$1:$Z$65536,4,0)) -> 溪陽A | N6: =IF(L6="","",VLOOKUP(L6,[1]名單!$A$1:$Z$65536,2,0)) -> 鄭錫駿
A7: A2 | B7: 0.3375 | C7: 1202 | D7: =IF(C7="","",VLOOKUP(C7,[1]名單!$A$1:$Z$65536,4,0)) -> 馬光 | E7: =IF(C7="","",VLOOKUP(C7,[1]名單!$A$1:$Z$65536,2,0)) -> 謝培田 | F7: 1218 | G7: =IF(F7="","",VLOOKUP(F7,[1]名單!$A$1:$Z$65536,4,0)) -> 義峰A | H7: =IF(F7="","",VLOOKUP(F7,[1]名單!$A$1:$Z$65536,2,0)) -> 陳俊志 | I7: 1232 | J7: =IF(I7="","",VLOOKUP(I7,[1]名單!$A$1:$Z$65536,4,0)) -> 雲林 | K7: =IF(I7="","",VLOOKUP(I7,[1]名單!$A$1:$Z$65536,2,0)) -> 蔡世宏 | L7: 1245 | M7: =IF(L7="","",VLOOKUP(L7,[1]名單!$A$1:$Z$65536,4,0)) -> 溪陽A | N7: =IF(L7="","",VLOOKUP(L7,[1]名單!$A$1:$Z$65536,2,0)) -> 楊淇鈞
A8: A3 | B8: 0.34166667 | C8: 1203 | D8: =IF(C8="","",VLOOKUP(C8,[1]名單!$A$1:$Z$65536,4,0)) -> 馬光 | E8: =IF(C8="","",VLOOKUP(C8,[1]名單!$A$1:$Z$65536,2,0)) -> 林約三 | F8: 1219 | G8: =IF(F8="","",VLOOKUP(F8,[1]名單!$A$1:$Z$65536,4,0)) -> 義峰B | H8: =IF(F8="","",VLOOKUP(F8,[1]名單!$A$1:$Z$65536,2,0)) -> 王安順 | I8: 1233 | J8: =IF(I8="","",VLOOKUP(I8,[1]名單!$A$1:$Z$65536,4,0)) -> 雲林 | K8: =IF(I8="","",VLOOKUP(I8,[1]名單!$A$1:$Z$65536,2,0)) -> 劉炘衢 | L8: 1246 | M8: =IF(L8="","",VLOOKUP(L8,[1]名單!$A$1:$Z$65536,4,0)) -> 溪陽A | N8: =IF(L8="","",VLOOKUP(L8,[1]名單!$A$1:$Z$65536,2,0)) -> 劉顯誠
A9: A4 | B9: 0.34583333 | C9: 1207 | D9: =IF(C9="","",VLOOKUP(C9,[1]名單!$A$1:$Z$65536,4,0)) -> 重興 | E9: =IF(C9="","",VLOOKUP(C9,[1]名單!$A$1:$Z$65536,2,0)) -> 施錫勳 | F9: 1220 | G9: =IF(F9="","",VLOOKUP(F9,[1]名單!$A$1:$Z$65536,4,0)) -> 義峰B | H9: =IF(F9="","",VLOOKUP(F9,[1]名單!$A$1:$Z$65536,2,0)) -> 張春得 | I9: 1234 | J9: =IF(I9="","",VLOOKUP(I9,[1]名單!$A$1:$Z$65536,4,0)) -> 雲林 | K9: =IF(I9="","",VLOOKUP(I9,[1]名單!$A$1:$Z$65536,2,0)) -> 廖信雄 | L9: 1247 | M9: =IF(L9="","",VLOOKUP(L9,[1]名單!$A$1:$Z$65536,4,0)) -> 溪陽A | N9: =IF(L9="","",VLOOKUP(L9,[1]名單!$A$1:$Z$65536,2,0)) -> 邱子倫
A10: A5 | B10: 0.35 | C10: 1208 | D10: =IF(C10="","",VLOOKUP(C10,[1]名單!$A$1:$Z$65536,4,0)) -> 重興 | E10: =IF(C10="","",VLOOKUP(C10,[1]名單!$A$1:$Z$65536,2,0)) -> 張建成 | F10: 1221 | G10: =IF(F10="","",VLOOKUP(F10,[1]名單!$A$1:$Z$65536,4,0)) -> 義峰B | H10: =IF(F10="","",VLOOKUP(F10,[1]名單!$A$1:$Z$65536,2,0)) -> 吳銘章 | I10: 1235 | J10: =IF(I10="","",VLOOKUP(I10,[1]名單!$A$1:$Z$65536,4,0)) -> 雲林 | K10: =IF(I10="","",VLOOKUP(I10,[1]名單!$A$1:$Z$65536,2,0)) -> 廖家慶 | L10: 1248 | M10: =IF(L10="","",VLOOKUP(L10,[1]名單!$A$1:$Z$65536,4,0)) -> 溪陽A | N10: =IF(L10="","",VLOOKUP(L10,[1]名單!$A$1:$Z$65536,2,0)) -> 黃群佑
A11: A6 | B11: 0.35416667 | C11: 1209 | D11: =IF(C11="","",VLOOKUP(C11,[1]名單!$A$1:$Z$65536,4,0)) -> 重興 | E11: =IF(C11="","",VLOOKUP(C11,[1]名單!$A$1:$Z$65536,2,0)) -> 林如龍 | F11: 1222 | G11: =IF(F11="","",VLOOKUP(F11,[1]名單!$A$1:$Z$65536,4,0)) -> 義峰B | H11: =IF(F11="","",VLOOKUP(F11,[1]名單!$A$1:$Z$65536,2,0)) -> 王哲駿 | I11: 1236 | J11: =IF(I11="","",VLOOKUP(I11,[1]名單!$A$1:$Z$65536,4,0)) -> 雲林 | K11: =IF(I11="","",VLOOKUP(I11,[1]名單!$A$1:$Z$65536,2,0)) -> 郭郁含 | L11: 1249 | M11: =IF(L11="","",VLOOKUP(L11,[1]名單!$A$1:$Z$65536,4,0)) -> 溪陽B | N11: =IF(L11="","",VLOOKUP(L11,[1]名單!$A$1:$Z$65536,2,0)) -> 林宏儒
A12: A7 | B12: 0.35833333 | C12: 1210 | D12: =IF(C12="","",VLOOKUP(C12,[1]名單!$A$1:$Z$65536,4,0)) -> 重興 | E12: =IF(C12="","",VLOOKUP(C12,[1]名單!$A$1:$Z$65536,2,0)) -> 林學發 | F12: 1223 | G12: =IF(F12="","",VLOOKUP(F12,[1]名單!$A$1:$Z$65536,4,0)) -> 義峰B | H12: =IF(F12="","",VLOOKUP(F12,[1]名單!$A$1:$Z$65536,2,0)) -> 厲秀忠 | I12: 1237 | J12: =IF(I12="","",VLOOKUP(I12,[1]名單!$A$1:$Z$65536,4,0)) -> 社會 | K12: =IF(I12="","",VLOOKUP(I12,[1]名單!$A$1:$Z$65536,2,0)) -> 吳冠穎 | L12: 1250 | M12: =IF(L12="","",VLOOKUP(L12,[1]名單!$A$1:$Z$65536,4,0)) -> 溪陽B | N12: =IF(L12="","",VLOOKUP(L12,[1]名單!$A$1:$Z$65536,2,0)) -> 楊鎮嘉
A13: A8 | B13: 0.3625 | C13: 1211 | D13: =IF(C13="","",VLOOKUP(C13,[1]名單!$A$1:$Z$65536,4,0)) -> 重興 | E13: =IF(C13="","",VLOOKUP(C13,[1]名單!$A$1:$Z$65536,2,0)) -> 蘇泓憲 | F13: 1225 | G13: =IF(F13="","",VLOOKUP(F13,[1]名單!$A$1:$Z$65536,4,0)) -> 石榴 | H13: =IF(F13="","",VLOOKUP(F13,[1]名單!$A$1:$Z$65536,2,0)) -> 沈志憲 | I13: 1238 | J13: =IF(I13="","",VLOOKUP(I13,[1]名單!$A$1:$Z$65536,4,0)) -> 社會 | K13: =IF(I13="","",VLOOKUP(I13,[1]名單!$A$1:$Z$65536,2,0)) -> 廖士元 | L13: 1251 | M13: =IF(L13="","",VLOOKUP(L13,[1]名單!$A$1:$Z$65536,4,0)) -> 溪陽B | N13: =IF(L13="","",VLOOKUP(L13,[1]名單!$A$1:$Z$65536,2,0)) -> 彭建睿
A14: A9 | B14: 0.36666667 | C14: 1212 | D14: =IF(C14="","",VLOOKUP(C14,[1]名單!$A$1:$Z$65536,4,0)) -> 重興 | E14: =IF(C14="","",VLOOKUP(C14,[1]名單!$A$1:$Z$65536,2,0)) -> 施欽鐘 | F14: 1226 | G14: =IF(F14="","",VLOOKUP(F14,[1]名單!$A$1:$Z$65536,4,0)) -> 石榴 | H14: =IF(F14="","",VLOOKUP(F14,[1]名單!$A$1:$Z$65536,2,0)) -> 陳雲龍 | I14: 1239 | J14: =IF(I14="","",VLOOKUP(I14,[1]名單!$A$1:$Z$65536,4,0)) -> 社會 | K14: =IF(I14="","",VLOOKUP(I14,[1]名單!$A$1:$Z$65536,2,0)) -> 廖本祺 | L14: 1252 | M14: =IF(L14="","",VLOOKUP(L14,[1]名單!$A$1:$Z$65536,4,0)) -> 溪陽B | N14: =IF(L14="","",VLOOKUP(L14,[1]名單!$A$1:$Z$65536,2,0)) -> 彭志騰
A15: A10 | B15: 0.37083333 | C15: 1213 | D15: =IF(C15="","",VLOOKUP(C15,[1]名單!$A$1:$Z$65536,4,0)) -> 義峰A | E15: =IF(C15="","",VLOOKUP(C15,[1]名單!$A$1:$Z$65536,2,0)) -> 張世杰 | F15: 1227 | G15: =IF(F15="","",VLOOKUP(F15,[1]名單!$A$1:$Z$65536,4,0)) -> 石榴 | H15: =IF(F15="","",VLOOKUP(F15,[1]名單!$A$1:$Z$65536,2,0)) -> 周群斌 | I15: 1240 | J15: =IF(I15="","",VLOOKUP(I15,[1]名單!$A$1:$Z$65536,4,0)) -> 社會 | K15: =IF(I15="","",VLOOKUP(I15,[1]名單!$A$1:$Z$65536,2,0)) -> 林俊吉 | L15: 1253 | M15: =IF(L15="","",VLOOKUP(L15,[1]名單!$A$1:$Z$65536,4,0)) -> 溪陽B | N15: =IF(L15="","",VLOOKUP(L15,[1]名單!$A$1:$Z$65536,2,0)) -> 鄭豐育
A16: A11 | B16: 0.375 | C16: 1214 | D16: =IF(C16="","",VLOOKUP(C16,[1]名單!$A$1:$Z$65536,4,0)) -> 義峰A | E16: =IF(C16="","",VLOOKUP(C16,[1]名單!$A$1:$Z$65536,2,0)) -> 蔡堡樺 | F16: 1228 | G16: =IF(F16="","",VLOOKUP(F16,[1]名單!$A$1:$Z$65536,4,0)) -> 石榴 | H16: =IF(F16="","",VLOOKUP(F16,[1]名單!$A$1:$Z$65536,2,0)) -> 林麗卿 | I16: 1241 | J16: =IF(I16="","",VLOOKUP(I16,[1]名單!$A$1:$Z$65536,4,0)) -> 社會 | K16: =IF(I16="","",VLOOKUP(I16,[1]名單!$A$1:$Z$65536,2,0)) -> 鄭吉成 | L16: 1254 | M16: =IF(L16="","",VLOOKUP(L16,[1]名單!$A$1:$Z$65536,4,0)) -> 溪陽B | N16: =IF(L16="","",VLOOKUP(L16,[1]名單!$A$1:$Z$65536,2,0)) -> 張佑誠
A17: A12 | B17: 0.37916667 | C17: 1215 | D17: =IF(C17="","",VLOOKUP(C17,[1]名單!$A$1:$Z$65536,4,0)) -> 義峰A | E17: =IF(C17="","",VLOOKUP(C17,[1]名單!$A$1:$Z$65536,2,0)) -> 汪駟承 | F17: 1229 | G17: =IF(F17="","",VLOOKUP(F17,[1]名單!$A$1:$Z$65536,4,0)) -> 石榴 | H17: =IF(F17="","",VLOOKUP(F17,[1]名單!$A$1:$Z$65536,2,0)) -> 丁哲民 | I17: 1242 | J17: =IF(I17="","",VLOOKUP(I17,[1]名單!$A$1:$Z$65536,4,0)) -> 社會 | K17: =IF(I17="","",VLOOKUP(I17,[1]名單!$A$1:$Z$65536,2,0)) -> 陳昱昇 | M17: =IF(L17="","",VLOOKUP(L17,[1]名單!$A$1:$Z$65536,4,0)) | N17: =IF(L17="","",VLOOKUP(L17,[1]名單!$A$1:$Z$65536,2,0))
A18: A13 | B18: 0.38333333 | C18: 1216 | D18: =IF(C18="","",VLOOKUP(C18,[1]名單!$A$1:$Z$65536,4,0)) -> 義峰A | E18: =IF(C18="","",VLOOKUP(C18,[1]名單!$A$1:$Z$65536,2,0)) -> 郭政霖 | F18: 1230 | G18: =IF(F18="","",VLOOKUP(F18,[1]名單!$A$1:$Z$65536,4,0)) -> 石榴 | H18: =IF(F18="","",VLOOKUP(F18,[1]名單!$A$1:$Z$65536,2,0)) -> 張惟翔 | I18: 1243 | J18: =IF(I18="","",VLOOKUP(I18,[1]名單!$A$1:$Z$65536,4,0)) -> 溪陽A | K18: =IF(I18="","",VLOOKUP(I18,[1]名單!$A$1:$Z$65536,2,0)) -> 廖振良 | M18: =IF(L18="","",VLOOKUP(L18,[1]名單!$A$1:$Z$65536,4,0)) | N18: =IF(L18="","",VLOOKUP(L18,[1]名單!$A$1:$Z$65536,2,0))
A19: 1 | B19: 組別 | D19: =VLOOKUP(A19,[1]組別!$A$1:$AK$65536,2,0) -> 長青男組 | P19: 裁判
A20: A14 | B20: 0.3875 | C20: 1101 | D20: =IF(C20="","",VLOOKUP(C20,[1]名單!$A$1:$Z$65536,4,0)) -> 馬光 | E20: =IF(C20="","",VLOOKUP(C20,[1]名單!$A$1:$Z$65536,2,0)) -> 林明生 | F20: 1107 | G20: =IF(F20="","",VLOOKUP(F20,[1]名單!$A$1:$Z$65536,4,0)) -> 馬光B | H20: =IF(F20="","",VLOOKUP(F20,[1]名單!$A$1:$Z$65536,2,0)) -> 張吉男 | I20: 1113 | J20: =IF(I20="","",VLOOKUP(I20,[1]名單!$A$1:$Z$65536,4,0)) -> 元長 | K20: =IF(I20="","",VLOOKUP(I20,[1]名單!$A$1:$Z$65536,2,0)) -> 蔡連慶 | L20: 1119 | M20: =IF(L20="","",VLOOKUP(L20,[1]名單!$A$1:$Z$65536,4,0)) -> 大東 | N20: =IF(L20="","",VLOOKUP(L20,[1]名單!$A$1:$Z$65536,2,0)) -> 沈建武
A21: A15 | B21: 0.39166667 | C21: 1102 | D21: =IF(C21="","",VLOOKUP(C21,[1]名單!$A$1:$Z$65536,4,0)) -> 馬光 | E21: =IF(C21="","",VLOOKUP(C21,[1]名單!$A$1:$Z$65536,2,0)) -> 張添丁 | F21: 1108 | G21: =IF(F21="","",VLOOKUP(F21,[1]名單!$A$1:$Z$65536,4,0)) -> 馬光B | H21: =IF(F21="","",VLOOKUP(F21,[1]名單!$A$1:$Z$65536,2,0)) -> 許江海 | I21: 1114 | J21: =IF(I21="","",VLOOKUP(I21,[1]名單!$A$1:$Z$65536,4,0)) -> 元長 | K21: =IF(I21="","",VLOOKUP(I21,[1]名單!$A$1:$Z$65536,2,0)) -> 蔡貞庫 | L21: 1120 | M21: =IF(L21="","",VLOOKUP(L21,[1]名單!$A$1:$Z$65536,4,0)) -> 大東 | N21: =IF(L21="","",VLOOKUP(L21,[1]名單!$A$1:$Z$65536,2,0)) -> 江明山
A22: A16 | B22: 0.39583333 | C22: 1103 | D22: =IF(C22="","",VLOOKUP(C22,[1]名單!$A$1:$Z$65536,4,0)) -> 馬光 | E22: =IF(C22="","",VLOOKUP(C22,[1]名單!$A$1:$Z$65536,2,0)) -> 林金生 | F22: 1109 | G22: =IF(F22="","",VLOOKUP(F22,[1]名單!$A$1:$Z$65536,4,0)) -> 馬光B | H22: =IF(F22="","",VLOOKUP(F22,[1]名單!$A$1:$Z$65536,2,0)) -> 張井南 | I22: 1115 | J22: =IF(I22="","",VLOOKUP(I22,[1]名單!$A$1:$Z$65536,4,0)) -> 元長 | K22: =IF(I22="","",VLOOKUP(I22,[1]名單!$A$1:$Z$65536,2,0)) -> 陳海瑞 | L22: 1121 | M22: =IF(L22="","",VLOOKUP(L22,[1]名單!$A$1:$Z$65536,4,0)) -> 大東 | N22: =IF(L22="","",VLOOKUP(L22,[1]名單!$A$1:$Z$65536,2,0)) -> 沈瑞榮
A23: A17 | B23: 0.4 | C23: 1104 | D23: =IF(C23="","",VLOOKUP(C23,[1]名單!$A$1:$Z$65536,4,0)) -> 馬光 | E23: =IF(C23="","",VLOOKUP(C23,[1]名單!$A$1:$Z$65536,2,0)) -> 王進發 | F23: 1110 | G23: =IF(F23="","",VLOOKUP(F23,[1]名單!$A$1:$Z$65536,4,0)) -> 馬光B | H23: =IF(F23="","",VLOOKUP(F23,[1]名單!$A$1:$Z$65536,2,0)) -> 許鼎林 | I23: 1116 | J23: =IF(I23="","",VLOOKUP(I23,[1]名單!$A$1:$Z$65536,4,0)) -> 元長 | K23: =IF(I23="","",VLOOKUP(I23,[1]名單!$A$1:$Z$65536,2,0)) -> 蔡三碧 | L23: 1122 | M23: =IF(L23="","",VLOOKUP(L23,[1]名單!$A$1:$Z$65536,4,0)) -> 大東 | N23: =IF(L23="","",VLOOKUP(L23,[1]名單!$A$1:$Z$65536,2,0)) -> 張明國
A24: A18 | B24: 0.40416667 | C24: 1105 | D24: =IF(C24="","",VLOOKUP(C24,[1]名單!$A$1:$Z$65536,4,0)) -> 馬光 | E24: =IF(C24="","",VLOOKUP(C24,[1]名單!$A$1:$Z$65536,2,0)) -> 王銘賢 | F24: 1125 | G24: =IF(F24="","",VLOOKUP(F24,[1]名單!$A$1:$Z$65536,4,0)) -> 石榴 | H24: =IF(F24="","",VLOOKUP(F24,[1]名單!$A$1:$Z$65536,2,0)) -> 郭宏機 | I24: 1117 | J24: =IF(I24="","",VLOOKUP(I24,[1]名單!$A$1:$Z$65536,4,0)) -> 元長 | K24: =IF(I24="","",VLOOKUP(I24,[1]名單!$A$1:$Z$65536,2,0)) -> 黃寶元 | L24: 1123 | M24: =IF(L24="","",VLOOKUP(L24,[1]名單!$A$1:$Z$65536,4,0)) -> 大東 | N24: =IF(L24="","",VLOOKUP(L24,[1]名單!$A$1:$Z$65536,2,0)) -> 沈萬福
A25: A19 | B25: 0.40833333 | C25: 1106 | D25: =IF(C25="","",VLOOKUP(C25,[1]名單!$A$1:$Z$65536,4,0)) -> 馬光 | E25: =IF(C25="","",VLOOKUP(C25,[1]名單!$A$1:$Z$65536,2,0)) -> 黃新營 | F25: 1124 | G25: =IF(F25="","",VLOOKUP(F25,[1]名單!$A$1:$Z$65536,4,0)) -> 大東 | H25: =IF(F25="","",VLOOKUP(F25,[1]名單!$A$1:$Z$65536,2,0)) -> 沈東澤 | I25: 1118 | J25: =IF(I25="","",VLOOKUP(I25,[1]名單!$A$1:$Z$65536,4,0)) -> 元長 | K25: =IF(I25="","",VLOOKUP(I25,[1]名單!$A$1:$Z$65536,2,0)) -> 吳俊雄 | M25: =IF(L25="","",VLOOKUP(L25,[1]名單!$A$1:$Z$65536,4,0)) | N25: =IF(L25="","",VLOOKUP(L25,[1]名單!$A$1:$Z$65536,2,0))
A26: 5 | B26: 組別 | D26: =VLOOKUP(A26,[1]組別!$A$1:$AK$65536,2,0) -> 教師男子組 | P26: 裁判
A27: A20 | B27: 0.4125 | C27: 1301 | D27: =IF(C27="","",VLOOKUP(C27,[1]名單!$A$1:$Z$65536,4,0)) -> 古坑 | E27: =IF(C27="","",VLOOKUP(C27,[1]名單!$A$1:$Z$65536,2,0)) -> 沈有朋 | F27: 1310 | G27: =IF(F27="","",VLOOKUP(F27,[1]名單!$A$1:$Z$65536,4,0)) -> 林內 | H27: =IF(F27="","",VLOOKUP(F27,[1]名單!$A$1:$Z$65536,2,0)) -> 王育峰 | I27: 1319 | J27: =IF(I27="","",VLOOKUP(I27,[1]名單!$A$1:$Z$65536,4,0)) -> 大東 | K27: =IF(I27="","",VLOOKUP(I27,[1]名單!$A$1:$Z$65536,2,0)) -> 張鑫豪 | L27: 1328 | M27: =IF(L27="","",VLOOKUP(L27,[1]名單!$A$1:$Z$65536,4,0)) -> 僑真 | N27: =IF(L27="","",VLOOKUP(L27,[1]名單!$A$1:$Z$65536,2,0)) -> 郭智明
A28: A21 | B28: 0.41666667 | C28: 1302 | D28: =IF(C28="","",VLOOKUP(C28,[1]名單!$A$1:$Z$65536,4,0)) -> 古坑 | E28: =IF(C28="","",VLOOKUP(C28,[1]名單!$A$1:$Z$65536,2,0)) -> 詹慶雲 | F28: 1311 | G28: =IF(F28="","",VLOOKUP(F28,[1]名單!$A$1:$Z$65536,4,0)) -> 林內 | H28: =IF(F28="","",VLOOKUP(F28,[1]名單!$A$1:$Z$65536,2,0)) -> 薛守仁 | I28: 1320 | J28: =IF(I28="","",VLOOKUP(I28,[1]名單!$A$1:$Z$65536,4,0)) -> 大東 | K28: =IF(I28="","",VLOOKUP(I28,[1]名單!$A$1:$Z$65536,2,0)) -> 李柏寰 | L28: 1329 | M28: =IF(L28="","",VLOOKUP(L28,[1]名單!$A$1:$Z$65536,4,0)) -> 僑真 | N28: =IF(L28="","",VLOOKUP(L28,[1]名單!$A$1:$Z$65536,2,0)) -> 黃致傑
A29: A22 | B29: 0.42083333 | C29: 1303 | D29: =IF(C29="","",VLOOKUP(C29,[1]名單!$A$1:$Z$65536,4,0)) -> 古坑 | E29: =IF(C29="","",VLOOKUP(C29,[1]名單!$A$1:$Z$65536,2,0)) -> 陳純寅 | F29: 1312 | G29: =IF(F29="","",VLOOKUP(F29,[1]名單!$A$1:$Z$65536,4,0)) -> 林內 | H29: =IF(F29="","",VLOOKUP(F29,[1]名單!$A$1:$Z$65536,2,0)) -> 邱春旗 | I29: 1321 | J29: =IF(I29="","",VLOOKUP(I29,[1]名單!$A$1:$Z$65536,4,0)) -> 大東 | K29: =IF(I29="","",VLOOKUP(I29,[1]名單!$A$1:$Z$65536,2,0)) -> 李顯宏 | L29: 1330 | M29: =IF(L29="","",VLOOKUP(L29,[1]名單!$A$1:$Z$65536,4,0)) -> 僑真 | N29: =IF(L29="","",VLOOKUP(L29,[1]名單!$A$1:$Z$65536,2,0)) -> 黃致賢
A30: A23 | B30: 0.425 | C30: 1304 | D30: =IF(C30="","",VLOOKUP(C30,[1]名單!$A$1:$Z$65536,4,0)) -> 古坑 | E30: =IF(C30="","",VLOOKUP(C30,[1]名單!$A$1:$Z$65536,2,0)) -> 韓育仁 | F30: 1313 | G30: =IF(F30="","",VLOOKUP(F30,[1]名單!$A$1:$Z$65536,4,0)) -> 重興 | H30: =IF(F30="","",VLOOKUP(F30,[1]名單!$A$1:$Z$65536,2,0)) -> 李明賜 | I30: 1322 | J30: =IF(I30="","",VLOOKUP(I30,[1]名單!$A$1:$Z$65536,4,0)) -> 大東 | K30: =IF(I30="","",VLOOKUP(I30,[1]名單!$A$1:$Z$65536,2,0)) -> 郭興昌 | L30: 1331 | M30: =IF(L30="","",VLOOKUP(L30,[1]名單!$A$1:$Z$65536,4,0)) -> 宏崙 | N30: =IF(L30="","",VLOOKUP(L30,[1]名單!$A$1:$Z$65536,2,0)) -> 沈峻民
A31: A24 | B31: 0.42916667 | C31: 1305 | D31: =IF(C31="","",VLOOKUP(C31,[1]名單!$A$1:$Z$65536,4,0)) -> 古坑 | E31: =IF(C31="","",VLOOKUP(C31,[1]名單!$A$1:$Z$65536,2,0)) -> 高國祥 | F31: 1314 | G31: =IF(F31="","",VLOOKUP(F31,[1]名單!$A$1:$Z$65536,4,0)) -> 重興 | H31: =IF(F31="","",VLOOKUP(F31,[1]名單!$A$1:$Z$65536,2,0)) -> 林暐閔 | I31: 1323 | J31: =IF(I31="","",VLOOKUP(I31,[1]名單!$A$1:$Z$65536,4,0)) -> 大東 | K31: =IF(I31="","",VLOOKUP(I31,[1]名單!$A$1:$Z$65536,2,0)) -> 鐘長振 | L31: 1332 | M31: =IF(L31="","",VLOOKUP(L31,[1]名單!$A$1:$Z$65536,4,0)) -> 宏崙 | N31: =IF(L31="","",VLOOKUP(L31,[1]名單!$A$1:$Z$65536,2,0)) -> 謝東明
A32: A25 | B32: 0.43333333 | C32: 1337 | D32: =IF(C32="","",VLOOKUP(C32,[1]名單!$A$1:$Z$65536,4,0)) -> 溝壩 | E32: =IF(C32="","",VLOOKUP(C32,[1]名單!$A$1:$Z$65536,2,0)) -> 沈耿宏 | F32: 1315 | G32: =IF(F32="","",VLOOKUP(F32,[1]名單!$A$1:$Z$65536,4,0)) -> 重興 | H32: =IF(F32="","",VLOOKUP(F32,[1]名單!$A$1:$Z$65536,2,0)) -> 林本源 | I32: 1324 | J32: =IF(I32="","",VLOOKUP(I32,[1]名單!$A$1:$Z$65536,4,0)) -> 大東 | K32: =IF(I32="","",VLOOKUP(I32,[1]名單!$A$1:$Z$65536,2,0)) -> 黃建鴻 | L32: 1333 | M32: =IF(L32="","",VLOOKUP(L32,[1]名單!$A$1:$Z$65536,4,0)) -> 宏崙 | N32: =IF(L32="","",VLOOKUP(L32,[1]名單!$A$1:$Z$65536,2,0)) -> 高正忠
A33: A26 | B33: 0.4375 | C33: 1307 | D33: =IF(C33="","",VLOOKUP(C33,[1]名單!$A$1:$Z$65536,4,0)) -> 林內 | E33: =IF(C33="","",VLOOKUP(C33,[1]名單!$A$1:$Z$65536,2,0)) -> 張宏洲 | F33: 1316 | G33: =IF(F33="","",VLOOKUP(F33,[1]名單!$A$1:$Z$65536,4,0)) -> 重興 | H33: =IF(F33="","",VLOOKUP(F33,[1]名單!$A$1:$Z$65536,2,0)) -> 林汶峰 | I33: 1325 | J33: =IF(I33="","",VLOOKUP(I33,[1]名單!$A$1:$Z$65536,4,0)) -> 僑真 | K33: =IF(I33="","",VLOOKUP(I33,[1]名單!$A$1:$Z$65536,2,0)) -> 劉南陽 | L33: 1334 | M33: =IF(L33="","",VLOOKUP(L33,[1]名單!$A$1:$Z$65536,4,0)) | N33: =IF(L33="","",VLOOKUP(L33,[1]名單!$A$1:$Z$65536,2,0)) -> 0
A34: A27 | B34: 0.44166667 | C34: 1308 | D34: =IF(C34="","",VLOOKUP(C34,[1]名單!$A$1:$Z$65536,4,0)) -> 林內 | E34: =IF(C34="","",VLOOKUP(C34,[1]名單!$A$1:$Z$65536,2,0)) -> 林丙茂 | F34: 1317 | G34: =IF(F34="","",VLOOKUP(F34,[1]名單!$A$1:$Z$65536,4,0)) -> 重興 | H34: =IF(F34="","",VLOOKUP(F34,[1]名單!$A$1:$Z$65536,2,0)) -> 黃文志 | I34: 1326 | J34: =IF(I34="","",VLOOKUP(I34,[1]名單!$A$1:$Z$65536,4,0)) -> 僑真 | K34: =IF(I34="","",VLOOKUP(I34,[1]名單!$A$1:$Z$65536,2,0)) -> 劉威男 | L34: 1335 | M34: =IF(L34="","",VLOOKUP(L34,[1]名單!$A$1:$Z$65536,4,0)) | N34: =IF(L34="","",VLOOKUP(L34,[1]名單!$A$1:$Z$65536,2,0)) -> 0
A35: A28 | B35: 0.44583333 | C35: 1309 | D35: =IF(C35="","",VLOOKUP(C35,[1]名單!$A$1:$Z$65536,4,0)) -> 林內 | E35: =IF(C35="","",VLOOKUP(C35,[1]名單!$A$1:$Z$65536,2,0)) -> 林俊智 | F35: 1318 | G35: =IF(F35="","",VLOOKUP(F35,[1]名單!$A$1:$Z$65536,4,0)) -> 重興 | H35: =IF(F35="","",VLOOKUP(F35,[1]名單!$A$1:$Z$65536,2,0)) -> 張嘉進 | I35: 1327 | J35: =IF(I35="","",VLOOKUP(I35,[1]名單!$A$1:$Z$65536,4,0)) -> 僑真 | K35: =IF(I35="","",VLOOKUP(I35,[1]名單!$A$1:$Z$65536,2,0)) -> 林景松 | L35: 1336 | M35: =IF(L35="","",VLOOKUP(L35,[1]名單!$A$1:$Z$65536,4,0)) | N35: =IF(L35="","",VLOOKUP(L35,[1]名單!$A$1:$Z$65536,2,0)) -> 0
B36: 個人決賽 | P36: 裁判
A37: A29 | B37: 0.45833333 | C37: 8019 | D37: 社女12 | F37: 8020 | G37: 社女11 | I37: 8021 | J37: 社女10 | L37: 8022 | M37: 社女9
A38: A30 | B38: 0.4625 | C38: 8023 | D38: 社女8 | F38: 8024 | G38: 社女7 | I38: 8025 | J38: 社女6 | L38: 8026 | M38: 社女5
A39: A31 | B39: 0.46666667 | C39: 8027 | D39: 社女4 | F39: 8028 | G39: 社女3 | I39: 8029 | J39: 社女2 | L39: 8030 | M39: 社女1
A40: A32 | B40: 0.47083333 | C40: 8008 | D40: 長青女8 | F40: 8009 | G40: 長青女7 | I40: 8010 | J40: 長青女6 | L40: 8011 | M40: 長青女5
...
