Workbook

Sheet 0414
A1: 105年春季縣長盃木球賽賽程表
A2: 日 期 | C2: 105年4月14日（星期四）A場地
A3: 場次 | B3: 時間 | C3: 選 手 名 單
A4: 7 | B4: 組別 | D4: =VLOOKUP(A4,[1]組別!$A$1:$AK$65536,2,0) -> 高中男子組 | P4: 裁判
A5: A1 | B5: 0.35416667 | C5: 1401 | D5: =IF(C5="","",VLOOKUP(C5,[1]名單!$A$1:$Z$65536,4,0)) -> 斗六 | E5: =IF(C5="","",VLOOKUP(C5,[1]名單!$A$1:$Z$65536,2,0)) -> 吳承恩 | F5: 1421 | G5: =IF(F5="","",VLOOKUP(F5,[1]名單!$A$1:$Z$65536,4,0)) -> 虎尾 | H5: =IF(F5="","",VLOOKUP(F5,[1]名單!$A$1:$Z$65536,2,0)) -> 王詩傑 | I5: 1433 | J5: =IF(I5="","",VLOOKUP(I5,[1]名單!$A$1:$Z$65536,4,0)) -> 義峰 | K5: =IF(I5="","",VLOOKUP(I5,[1]名單!$A$1:$Z$65536,2,0)) -> 李懿修 | L5: 1407 | M5: =IF(L5="","",VLOOKUP(L5,[1]名單!$A$1:$Z$65536,4,0)) -> 土庫 | N5: =IF(L5="","",VLOOKUP(L5,[1]名單!$A$1:$Z$65536,2,0)) -> 吳政翰 | P5: =IF(O5="","",VLOOKUP(O5,[1]名單!$A$1:$Z$65536,2,0))
A6: A2 | B6: 0.35763889 | C6: 1402 | D6: =IF(C6="","",VLOOKUP(C6,[1]名單!$A$1:$Z$65536,4,0)) -> 斗六 | E6: =IF(C6="","",VLOOKUP(C6,[1]名單!$A$1:$Z$65536,2,0)) -> 張仕煦 | F6: 1422 | G6: =IF(F6="","",VLOOKUP(F6,[1]名單!$A$1:$Z$65536,4,0)) -> 虎尾 | H6: =IF(F6="","",VLOOKUP(F6,[1]名單!$A$1:$Z$65536,2,0)) -> 許博詠 | I6: 1434 | J6: =IF(I6="","",VLOOKUP(I6,[1]名單!$A$1:$Z$65536,4,0)) -> 義峰 | K6: =IF(I6="","",VLOOKUP(I6,[1]名單!$A$1:$Z$65536,2,0)) -> 沈育全 | L6: 1408 | M6: =IF(L6="","",VLOOKUP(L6,[1]名單!$A$1:$Z$65536,4,0)) -> 土庫 | N6: =IF(L6="","",VLOOKUP(L6,[1]名單!$A$1:$Z$65536,2,0)) -> 周明賢 | P6: =IF(O6="","",VLOOKUP(O6,[1]名單!$A$1:$Z$65536,2,0))
A7: A3 | B7: 0.36111111 | C7: 1403 | D7: =IF(C7="","",VLOOKUP(C7,[1]名單!$A$1:$Z$65536,4,0)) -> 斗六 | E7: =IF(C7="","",VLOOKUP(C7,[1]名單!$A$1:$Z$65536,2,0)) -> 張政義 | F7: 1419 | G7: =IF(F7="","",VLOOKUP(F7,[1]名單!$A$1:$Z$65536,4,0)) -> 虎尾 | H7: =IF(F7="","",VLOOKUP(F7,[1]名單!$A$1:$Z$65536,2,0)) -> 張仁豪 | I7: 1435 | J7: =IF(I7="","",VLOOKUP(I7,[1]名單!$A$1:$Z$65536,4,0)) -> 義峰 | K7: =IF(I7="","",VLOOKUP(I7,[1]名單!$A$1:$Z$65536,2,0)) -> 蔡育愷 | L7: 1409 | M7: =IF(L7="","",VLOOKUP(L7,[1]名單!$A$1:$Z$65536,4,0)) -> 土庫 | N7: =IF(L7="","",VLOOKUP(L7,[1]名單!$A$1:$Z$65536,2,0)) -> 徐榭鴻 | P7: =IF(O7="","",VLOOKUP(O7,[1]名單!$A$1:$Z$65536,2,0))
A8: A4 | B8: 0.36458333 | C8: 1404 | D8: =IF(C8="","",VLOOKUP(C8,[1]名單!$A$1:$Z$65536,4,0)) -> 斗六 | E8: =IF(C8="","",VLOOKUP(C8,[1]名單!$A$1:$Z$65536,2,0)) -> 高瑞駿 | F8: 1420 | G8: =IF(F8="","",VLOOKUP(F8,[1]名單!$A$1:$Z$65536,4,0)) -> 虎尾 | H8: =IF(F8="","",VLOOKUP(F8,[1]名單!$A$1:$Z$65536,2,0)) -> 張修誠 | I8: 1436 | J8: =IF(I8="","",VLOOKUP(I8,[1]名單!$A$1:$Z$65536,4,0)) -> 義峰 | K8: =IF(I8="","",VLOOKUP(I8,[1]名單!$A$1:$Z$65536,2,0)) -> 陳有朋 | L8: 1410 | M8: =IF(L8="","",VLOOKUP(L8,[1]名單!$A$1:$Z$65536,4,0)) -> 土庫 | N8: =IF(L8="","",VLOOKUP(L8,[1]名單!$A$1:$Z$65536,2,0)) -> 林承意 | P8: =IF(O8="","",VLOOKUP(O8,[1]名單!$A$1:$Z$65536,2,0))
A9: A5 | B9: 0.36805556 | C9: 1425 | D9: =IF(C9="","",VLOOKUP(C9,[1]名單!$A$1:$Z$65536,4,0)) -> 大成 | E9: =IF(C9="","",VLOOKUP(C9,[1]名單!$A$1:$Z$65536,2,0)) -> 吳睿安 | F9: 1431 | G9: =IF(F9="","",VLOOKUP(F9,[1]名單!$A$1:$Z$65536,4,0)) -> 義峰 | H9: =IF(F9="","",VLOOKUP(F9,[1]名單!$A$1:$Z$65536,2,0)) -> 吳思源 | I9: 1437 | J9: =IF(I9="","",VLOOKUP(I9,[1]名單!$A$1:$Z$65536,4,0)) -> 義峰 | K9: =IF(I9="","",VLOOKUP(I9,[1]名單!$A$1:$Z$65536,2,0)) -> 蔡博鈞 | L9: 1411 | M9: =IF(L9="","",VLOOKUP(L9,[1]名單!$A$1:$Z$65536,4,0)) -> 土庫 | N9: =IF(L9="","",VLOOKUP(L9,[1]名單!$A$1:$Z$65536,2,0)) -> 林瑋宸
A10: A6 | B10: 0.37152778 | C10: 1426 | D10: =IF(C10="","",VLOOKUP(C10,[1]名單!$A$1:$Z$65536,4,0)) -> 大成 | E10: =IF(C10="","",VLOOKUP(C10,[1]名單!$A$1:$Z$65536,2,0)) -> 張嘉興 | F10: 1432 | G10: =IF(F10="","",VLOOKUP(F10,[1]名單!$A$1:$Z$65536,4,0)) -> 義峰 | H10: =IF(F10="","",VLOOKUP(F10,[1]名單!$A$1:$Z$65536,2,0)) -> 張介皇 | I10: 1438 | J10: =IF(I10="","",VLOOKUP(I10,[1]名單!$A$1:$Z$65536,4,0)) -> 義峰 | K10: =IF(I10="","",VLOOKUP(I10,[1]名單!$A$1:$Z$65536,2,0)) -> 賴育源 | L10: 1412 | M10: =IF(L10="","",VLOOKUP(L10,[1]名單!$A$1:$Z$65536,4,0)) -> 土庫 | N10: =IF(L10="","",VLOOKUP(L10,[1]名單!$A$1:$Z$65536,2,0)) -> 黃國彥
A11: A7 | B11: 0.375 | C11: 1427 | D11: =IF(C11="","",VLOOKUP(C11,[1]名單!$A$1:$Z$65536,4,0)) -> 大成 | E11: =IF(C11="","",VLOOKUP(C11,[1]名單!$A$1:$Z$65536,2,0)) -> 林煌育 | F11: 1443 | G11: =IF(F11="","",VLOOKUP(F11,[1]名單!$A$1:$Z$65536,4,0)) -> 義峰 | H11: =IF(F11="","",VLOOKUP(F11,[1]名單!$A$1:$Z$65536,2,0)) -> 程敬祥* | I11: 1439 | J11: =IF(I11="","",VLOOKUP(I11,[1]名單!$A$1:$Z$65536,4,0)) -> 義峰 | K11: =IF(I11="","",VLOOKUP(I11,[1]名單!$A$1:$Z$65536,2,0)) -> 張茗豐 | L11: 1413 | M11: =IF(L11="","",VLOOKUP(L11,[1]名單!$A$1:$Z$65536,4,0)) -> 土庫 | N11: =IF(L11="","",VLOOKUP(L11,[1]名單!$A$1:$Z$65536,2,0)) -> 李瑞朋
A12: A8 | B12: 0.37847222 | C12: 1428 | D12: =IF(C12="","",VLOOKUP(C12,[1]名單!$A$1:$Z$65536,4,0)) -> 大成 | E12: =IF(C12="","",VLOOKUP(C12,[1]名單!$A$1:$Z$65536,2,0)) -> 賴奕辰 | F12: 1444 | G12: =IF(F12="","",VLOOKUP(F12,[1]名單!$A$1:$Z$65536,4,0)) -> 義峰 | H12: =IF(F12="","",VLOOKUP(F12,[1]名單!$A$1:$Z$65536,2,0)) -> 羅旭泓* | I12: 1440 | J12: =IF(I12="","",VLOOKUP(I12,[1]名單!$A$1:$Z$65536,4,0)) -> 義峰 | K12: =IF(I12="","",VLOOKUP(I12,[1]名單!$A$1:$Z$65536,2,0)) -> 李元倉 | L12: 1414 | M12: =IF(L12="","",VLOOKUP(L12,[1]名單!$A$1:$Z$65536,4,0)) -> 土庫 | N12: =IF(L12="","",VLOOKUP(L12,[1]名單!$A$1:$Z$65536,2,0)) -> 鐘仁傳
A13: A9 | B13: 0.38194444 | C13: 1429 | D13: =IF(C13="","",VLOOKUP(C13,[1]名單!$A$1:$Z$65536,4,0)) -> 大成 | E13: =IF(C13="","",VLOOKUP(C13,[1]名單!$A$1:$Z$65536,2,0)) -> 賴宏誠 | F13: 1445 | G13: =IF(F13="","",VLOOKUP(F13,[1]名單!$A$1:$Z$65536,4,0)) -> 義峰 | H13: =IF(F13="","",VLOOKUP(F13,[1]名單!$A$1:$Z$65536,2,0)) -> 張哲維* | I13: 1441 | J13: =IF(I13="","",VLOOKUP(I13,[1]名單!$A$1:$Z$65536,4,0)) -> 義峰 | K13: =IF(I13="","",VLOOKUP(I13,[1]名單!$A$1:$Z$65536,2,0)) -> 廖振良 | L13: 1442 | M13: =IF(L13="","",VLOOKUP(L13,[1]名單!$A$1:$Z$65536,4,0)) -> 義峰 | N13: =IF(L13="","",VLOOKUP(L13,[1]名單!$A$1:$Z$65536,2,0)) -> 廖郁善
A14: 13 | B14: 組別 | D14: =VLOOKUP(A14,[1]組別!$A$1:$AK$65536,2,0) -> 國小五年級男童組 | P14: 裁判
A15: A10 | B15: 0.38541667 | C15: 2201 | D15: =IF(C15="","",VLOOKUP(C15,[1]名單!$A$1:$Z$65536,4,0)) -> 溝壩 | E15: =IF(C15="","",VLOOKUP(C15,[1]名單!$A$1:$Z$65536,2,0)) -> 劉晉辰 | F15: 2235 | G15: =IF(F15="","",VLOOKUP(F15,[1]名單!$A$1:$Z$65536,4,0)) -> 石龜 | H15: =IF(F15="","",VLOOKUP(F15,[1]名單!$A$1:$Z$65536,2,0)) -> 高庭穆 | I15: 2258 | J15: =IF(I15="","",VLOOKUP(I15,[1]名單!$A$1:$Z$65536,4,0)) -> 宏崙 | K15: =IF(I15="","",VLOOKUP(I15,[1]名單!$A$1:$Z$65536,2,0)) -> 陳彥禔 | L15: 2224 | M15: =IF(L15="","",VLOOKUP(L15,[1]名單!$A$1:$Z$65536,4,0)) -> 林內 | N15: =IF(L15="","",VLOOKUP(L15,[1]名單!$A$1:$Z$65536,2,0)) -> 陳柏瑋 | P15: =IF(O15="","",VLOOKUP(O15,[1]名單!$A$1:$Z$65536,2,0))
A16: A11 | B16: 0.38888889 | C16: 2202 | D16: =IF(C16="","",VLOOKUP(C16,[1]名單!$A$1:$Z$65536,4,0)) -> 溝壩 | E16: =IF(C16="","",VLOOKUP(C16,[1]名單!$A$1:$Z$65536,2,0)) -> 呂家豪 | F16: 2231 | G16: =IF(F16="","",VLOOKUP(F16,[1]名單!$A$1:$Z$65536,4,0)) -> 石龜 | H16: =IF(F16="","",VLOOKUP(F16,[1]名單!$A$1:$Z$65536,2,0)) -> 劉立奎 | I16: 2259 | J16: =IF(I16="","",VLOOKUP(I16,[1]名單!$A$1:$Z$65536,4,0)) -> 宏崙 | K16: =IF(I16="","",VLOOKUP(I16,[1]名單!$A$1:$Z$65536,2,0)) -> 陳玟叡 | L16: 2219 | M16: =IF(L16="","",VLOOKUP(L16,[1]名單!$A$1:$Z$65536,4,0)) -> 林內 | N16: =IF(L16="","",VLOOKUP(L16,[1]名單!$A$1:$Z$65536,2,0)) -> 林其政 | P16: =IF(O16="","",VLOOKUP(O16,[1]名單!$A$1:$Z$65536,2,0))
A17: A12 | B17: 0.39236111 | C17: 2203 | D17: =IF(C17="","",VLOOKUP(C17,[1]名單!$A$1:$Z$65536,4,0)) -> 溝壩 | E17: =IF(C17="","",VLOOKUP(C17,[1]名單!$A$1:$Z$65536,2,0)) -> 廖峻宏 | F17: 2232 | G17: =IF(F17="","",VLOOKUP(F17,[1]名單!$A$1:$Z$65536,4,0)) -> 石龜 | H17: =IF(F17="","",VLOOKUP(F17,[1]名單!$A$1:$Z$65536,2,0)) -> 吳健賓 | I17: 2255 | J17: =IF(I17="","",VLOOKUP(I17,[1]名單!$A$1:$Z$65536,4,0)) -> 宏崙 | K17: =IF(I17="","",VLOOKUP(I17,[1]名單!$A$1:$Z$65536,2,0)) -> 吳致銓 | L17: 2220 | M17: =IF(L17="","",VLOOKUP(L17,[1]名單!$A$1:$Z$65536,4,0)) -> 林內 | N17: =IF(L17="","",VLOOKUP(L17,[1]名單!$A$1:$Z$65536,2,0)) -> 林正 | P17: =IF(O17="","",VLOOKUP(O17,[1]名單!$A$1:$Z$65536,2,0))
A18: A13 | B18: 0.39583333 | C18: 2204 | D18: =IF(C18="","",VLOOKUP(C18,[1]名單!$A$1:$Z$65536,4,0)) -> 溝壩 | E18: =IF(C18="","",VLOOKUP(C18,[1]名單!$A$1:$Z$65536,2,0)) -> 張勝皓 | F18: 2233 | G18: =IF(F18="","",VLOOKUP(F18,[1]名單!$A$1:$Z$65536,4,0)) -> 石龜 | H18: =IF(F18="","",VLOOKUP(F18,[1]名單!$A$1:$Z$65536,2,0)) -> 李宸廑 | I18: 2256 | J18: =IF(I18="","",VLOOKUP(I18,[1]名單!$A$1:$Z$65536,4,0)) -> 宏崙 | K18: =IF(I18="","",VLOOKUP(I18,[1]名單!$A$1:$Z$65536,2,0)) -> 陳子義 | L18: 2221 | M18: =IF(L18="","",VLOOKUP(L18,[1]名單!$A$1:$Z$65536,4,0)) -> 林內 | N18: =IF(L18="","",VLOOKUP(L18,[1]名單!$A$1:$Z$65536,2,0)) -> 蔡宜瑾 | P18: =IF(O18="","",VLOOKUP(O18,[1]名單!$A$1:$Z$65536,2,0))
A19: A14 | B19: 0.39930556 | C19: 2205 | D19: =IF(C19="","",VLOOKUP(C19,[1]名單!$A$1:$Z$65536,4,0)) -> 溝壩 | E19: =IF(C19="","",VLOOKUP(C19,[1]名單!$A$1:$Z$65536,2,0)) -> 明仁傑 | F19: 2234 | G19: =IF(F19="","",VLOOKUP(F19,[1]名單!$A$1:$Z$65536,4,0)) -> 石龜 | H19: =IF(F19="","",VLOOKUP(F19,[1]名單!$A$1:$Z$65536,2,0)) -> 李承祐 | I19: 2257 | J19: =IF(I19="","",VLOOKUP(I19,[1]名單!$A$1:$Z$65536,4,0)) -> 宏崙 | K19: =IF(I19="","",VLOOKUP(I19,[1]名單!$A$1:$Z$65536,2,0)) -> 陳彥宇 | L19: 2222 | M19: =IF(L19="","",VLOOKUP(L19,[1]名單!$A$1:$Z$65536,4,0)) -> 林內 | N19: =IF(L19="","",VLOOKUP(L19,[1]名單!$A$1:$Z$65536,2,0)) -> 許凱翔 | P19: =IF(O19="","",VLOOKUP(O19,[1]名單!$A$1:$Z$65536,2,0))
A20: A15 | B20: 0.40277778 | C20: 2206 | D20: =IF(C20="","",VLOOKUP(C20,[1]名單!$A$1:$Z$65536,4,0)) -> 溝壩 | E20: =IF(C20="","",VLOOKUP(C20,[1]名單!$A$1:$Z$65536,2,0)) -> 洪郁恩 | F20: 2240 | G20: =IF(F20="","",VLOOKUP(F20,[1]名單!$A$1:$Z$65536,4,0)) -> 石龜 | H20: =IF(F20="","",VLOOKUP(F20,[1]名單!$A$1:$Z$65536,2,0)) -> 黃柏維 | I20: 2217 | J20: =IF(I20="","",VLOOKUP(I20,[1]名單!$A$1:$Z$65536,4,0)) -> 石榴 | K20: =IF(I20="","",VLOOKUP(I20,[1]名單!$A$1:$Z$65536,2,0)) -> 陳敬淙 | L20: 2223 | M20: =IF(L20="","",VLOOKUP(L20,[1]名單!$A$1:$Z$65536,4,0)) -> 林內 | N20: =IF(L20="","",VLOOKUP(L20,[1]名單!$A$1:$Z$65536,2,0)) -> 郭建安 | P20: =IF(O20="","",VLOOKUP(O20,[1]名單!$A$1:$Z$65536,2,0))
A21: A16 | B21: 0.40625 | C21: 2207 | D21: =IF(C21="","",VLOOKUP(C21,[1]名單!$A$1:$Z$65536,4,0)) -> 石榴 | E21: =IF(C21="","",VLOOKUP(C21,[1]名單!$A$1:$Z$65536,2,0)) -> 劉勝助 | F21: 2241 | G21: =IF(F21="","",VLOOKUP(F21,[1]名單!$A$1:$Z$65536,4,0)) -> 石龜 | H21: =IF(F21="","",VLOOKUP(F21,[1]名單!$A$1:$Z$65536,2,0)) -> 黃雍晉 | I21: 2268 | J21: =IF(I21="","",VLOOKUP(I21,[1]名單!$A$1:$Z$65536,4,0)) -> 大同 | K21: =IF(I21="","",VLOOKUP(I21,[1]名單!$A$1:$Z$65536,2,0)) -> 鍾士雄 | L21: 2251 | M21: =IF(L21="","",VLOOKUP(L21,[1]名單!$A$1:$Z$65536,4,0)) -> 仁和 | N21: =IF(L21="","",VLOOKUP(L21,[1]名單!$A$1:$Z$65536,2,0)) -> 徐蜂益 | P21: =IF(O21="","",VLOOKUP(O21,[1]名單!$A$1:$Z$65536,2,0))
A22: A17 | B22: 0.40972222 | C22: 2208 | D22: =IF(C22="","",VLOOKUP(C22,[1]名單!$A$1:$Z$65536,4,0)) -> 石榴 | E22: =IF(C22="","",VLOOKUP(C22,[1]名單!$A$1:$Z$65536,2,0)) -> 林楷淯 | F22: 2237 | G22: =IF(F22="","",VLOOKUP(F22,[1]名單!$A$1:$Z$65536,4,0)) -> 石龜 | H22: =IF(F22="","",VLOOKUP(F22,[1]名單!$A$1:$Z$65536,2,0)) -> 葉韶桓 | I22: 2263 | J22: =IF(I22="","",VLOOKUP(I22,[1]名單!$A$1:$Z$65536,4,0)) -> 埤腳 | K22: =IF(I22="","",VLOOKUP(I22,[1]名單!$A$1:$Z$65536,2,0)) -> 陳萬銓 | L22: 2252 | M22: =IF(L22="","",VLOOKUP(L22,[1]名單!$A$1:$Z$65536,4,0)) -> 仁和 | N22: =IF(L22="","",VLOOKUP(L22,[1]名單!$A$1:$Z$65536,2,0)) -> 蔣翰承 | P22: =IF(O22="","",VLOOKUP(O22,[1]名單!$A$1:$Z$65536,2,0))
A23: A18 | B23: 0.41319444 | C23: 2209 | D23: =IF(C23="","",VLOOKUP(C23,[1]名單!$A$1:$Z$65536,4,0)) -> 石榴 | E23: =IF(C23="","",VLOOKUP(C23,[1]名單!$A$1:$Z$65536,2,0)) -> 蔡政傑 | F23: 2238 | G23: =IF(F23="","",VLOOKUP(F23,[1]名單!$A$1:$Z$65536,4,0)) -> 石龜 | H23: =IF(F23="","",VLOOKUP(F23,[1]名單!$A$1:$Z$65536,2,0)) -> 陳柏菡 | I23: 2262 | J23: =IF(I23="","",VLOOKUP(I23,[1]名單!$A$1:$Z$65536,4,0)) -> 埤腳 | K23: =IF(I23="","",VLOOKUP(I23,[1]名單!$A$1:$Z$65536,2,0)) -> 楊竣安 | L23: 2253 | M23: =IF(L23="","",VLOOKUP(L23,[1]名單!$A$1:$Z$65536,4,0)) -> 仁和 | N23: =IF(L23="","",VLOOKUP(L23,[1]名單!$A$1:$Z$65536,2,0)) -> 連哲賢
A24: A19 | B24: 0.41666667 | C24: 2210 | D24: =IF(C24="","",VLOOKUP(C24,[1]名單!$A$1:$Z$65536,4,0)) -> 石榴 | E24: =IF(C24="","",VLOOKUP(C24,[1]名單!$A$1:$Z$65536,2,0)) -> 蔡澄禧 | F24: 2239 | G24: =IF(F24="","",VLOOKUP(F24,[1]名單!$A$1:$Z$65536,4,0)) -> 石龜 | H24: =IF(F24="","",VLOOKUP(F24,[1]名單!$A$1:$Z$65536,2,0)) -> 陳科圳 | I24: 2285 | J24: =IF(I24="","",VLOOKUP(I24,[1]名單!$A$1:$Z$65536,4,0)) -> 埤腳 | K24: =IF(I24="","",VLOOKUP(I24,[1]名單!$A$1:$Z$65536,2,0)) -> 張俊彥 | L24: 2249 | M24: =IF(L24="","",VLOOKUP(L24,[1]名單!$A$1:$Z$65536,4,0)) -> 仁和 | N24: =IF(L24="","",VLOOKUP(L24,[1]名單!$A$1:$Z$65536,2,0)) -> 張彥琭
A25: A20 | B25: 0.42013889 | C25: 2211 | D25: =IF(C25="","",VLOOKUP(C25,[1]名單!$A$1:$Z$65536,4,0)) -> 石榴 | E25: =IF(C25="","",VLOOKUP(C25,[1]名單!$A$1:$Z$65536,2,0)) -> 鄭育信 | F25: 2246 | G25: =IF(F25="","",VLOOKUP(F25,[1]名單!$A$1:$Z$65536,4,0)) -> 僑真 | H25: =IF(F25="","",VLOOKUP(F25,[1]名單!$A$1:$Z$65536,2,0)) -> 林致耀 | I25: 2228 | J25: =IF(I25="","",VLOOKUP(I25,[1]名單!$A$1:$Z$65536,4,0)) -> 民生 | K25: =IF(I25="","",VLOOKUP(I25,[1]名單!$A$1:$Z$65536,2,0)) -> 郭宗祐 | L25: 2250 | M25: =IF(L25="","",VLOOKUP(L25,[1]名單!$A$1:$Z$65536,4,0)) -> 仁和 | N25: =IF(L25="","",VLOOKUP(L25,[1]名單!$A$1:$Z$65536,2,0)) -> 張紹憲
A26: A21 | B26: 0.42361111 | C26: 2212 | D26: =IF(C26="","",VLOOKUP(C26,[1]名單!$A$1:$Z$65536,4,0)) -> 石榴 | E26: =IF(C26="","",VLOOKUP(C26,[1]名單!$A$1:$Z$65536,2,0)) -> 黃俊瑋 | F26: 2247 | G26: =IF(F26="","",VLOOKUP(F26,[1]名單!$A$1:$Z$65536,4,0)) -> 僑真 | H26: =IF(F26="","",VLOOKUP(F26,[1]名單!$A$1:$Z$65536,2,0)) -> 歐昱銓 | I26: 2225 | J26: =IF(I26="","",VLOOKUP(I26,[1]名單!$A$1:$Z$65536,4,0)) -> 民生 | K26: =IF(I26="","",VLOOKUP(I26,[1]名單!$A$1:$Z$65536,2,0)) -> 林亮宇 | L26: 2267 | M26: =IF(L26="","",VLOOKUP(L26,[1]名單!$A$1:$Z$65536,4,0)) -> 大同 | N26: =IF(L26="","",VLOOKUP(L26,[1]名單!$A$1:$Z$65536,2,0)) -> 劉育劭
A27: A22 | B27: 0.42708333 | C27: 2213 | D27: =IF(C27="","",VLOOKUP(C27,[1]名單!$A$1:$Z$65536,4,0)) -> 石榴 | E27: =IF(C27="","",VLOOKUP(C27,[1]名單!$A$1:$Z$65536,2,0)) -> 廖丙富 | F27: 2248 | G27: =IF(F27="","",VLOOKUP(F27,[1]名單!$A$1:$Z$65536,4,0)) -> 僑真 | H27: =IF(F27="","",VLOOKUP(F27,[1]名單!$A$1:$Z$65536,2,0)) -> 沈郁凱 | I27: 2226 | J27: =IF(I27="","",VLOOKUP(I27,[1]名單!$A$1:$Z$65536,4,0)) -> 民生 | K27: =IF(I27="","",VLOOKUP(I27,[1]名單!$A$1:$Z$65536,2,0)) -> 洪振華 | L27: 2273 | M27: =IF(L27="","",VLOOKUP(L27,[1]名單!$A$1:$Z$65536,4,0)) -> 信義 | N27: =IF(L27="","",VLOOKUP(L27,[1]名單!$A$1:$Z$65536,2,0)) -> 吳哲穎
A28: A23 | B28: 0.43055556 | C28: 2214 | D28: =IF(C28="","",VLOOKUP(C28,[1]名單!$A$1:$Z$65536,4,0)) -> 石榴 | E28: =IF(C28="","",VLOOKUP(C28,[1]名單!$A$1:$Z$65536,2,0)) -> 張詠幀 | F28: 2243 | G28: =IF(F28="","",VLOOKUP(F28,[1]名單!$A$1:$Z$65536,4,0)) -> 僑真 | H28: =IF(F28="","",VLOOKUP(F28,[1]名單!$A$1:$Z$65536,2,0)) -> 張承禾 | I28: 2227 | J28: =IF(I28="","",VLOOKUP(I28,[1]名單!$A$1:$Z$65536,4,0)) -> 民生 | K28: =IF(I28="","",VLOOKUP(I28,[1]名單!$A$1:$Z$65536,2,0)) -> 賴昱熏 | L28: 2279 | M28: =IF(L28="","",VLOOKUP(L28,[1]名單!$A$1:$Z$65536,4,0)) -> 九芎 | N28: =IF(L28="","",VLOOKUP(L28,[1]名單!$A$1:$Z$65536,2,0)) -> 張哲維
A29: A24 | B29: 0.43402778 | C29: 2215 | D29: =IF(C29="","",VLOOKUP(C29,[1]名單!$A$1:$Z$65536,4,0)) -> 石榴 | E29: =IF(C29="","",VLOOKUP(C29,[1]名單!$A$1:$Z$65536,2,0)) -> 林子皓 | F29: 2244 | G29: =IF(F29="","",VLOOKUP(F29,[1]名單!$A$1:$Z$65536,4,0)) -> 僑真 | H29: =IF(F29="","",VLOOKUP(F29,[1]名單!$A$1:$Z$65536,2,0)) -> 張源昇 | I29: 2280 | J29: =IF(I29="","",VLOOKUP(I29,[1]名單!$A$1:$Z$65536,4,0)) -> 九芎 | K29: =IF(I29="","",VLOOKUP(I29,[1]名單!$A$1:$Z$65536,2,0)) -> 林名宏 | M29: =IF(L29="","",VLOOKUP(L29,[1]名單!$A$1:$Z$65536,4,0)) | N29: =IF(L29="","",VLOOKUP(L29,[1]名單!$A$1:$Z$65536,2,0))
A30: A25 | B30: 0.4375 | C30: 2216 | D30: =IF(C30="","",VLOOKUP(C30,[1]名單!$A$1:$Z$65536,4,0)) -> 石榴 | E30: =IF(C30="","",VLOOKUP(C30,[1]名單!$A$1:$Z$65536,2,0)) -> 陳國豪 | F30: 2245 | G30: =IF(F30="","",VLOOKUP(F30,[1]名單!$A$1:$Z$65536,4,0)) -> 僑真 | H30: =IF(F30="","",VLOOKUP(F30,[1]名單!$A$1:$Z$65536,2,0)) -> 徐瑋廷 | I30: 2274 | J30: =IF(I30="","",VLOOKUP(I30,[1]名單!$A$1:$Z$65536,4,0)) -> 信義 | K30: =IF(I30="","",VLOOKUP(I30,[1]名單!$A$1:$Z$65536,2,0)) -> 林春木 | M30: =IF(L30="","",VLOOKUP(L30,[1]名單!$A$1:$Z$65536,4,0)) | N30: =IF(L30="","",VLOOKUP(L30,[1]名單!$A$1:$Z$65536,2,0))
A31: 15 | B31: 組別 | D31: =VLOOKUP(A31,[1]組別!$A$1:$AK$65536,2,0) -> 國小四年級男童組 | P31: 裁判
A32: A26 | B32: 0.44097222 | C32: 2401 | D32: =IF(C32="","",VLOOKUP(C32,[1]名單!$A$1:$Z$65536,4,0)) -> 林內 | E32: =IF(C32="","",VLOOKUP(C32,[1]名單!$A$1:$Z$65536,2,0)) -> 林宗緯 | F32: 2407 | G32: =IF(F32="","",VLOOKUP(F32,[1]名單!$A$1:$Z$65536,4,0)) -> 九芎 | H32: =IF(F32="","",VLOOKUP(F32,[1]名單!$A$1:$Z$65536,2,0)) -> 曾韋齊 | I32: 2413 | J32: =IF(I32="","",VLOOKUP(I32,[1]名單!$A$1:$Z$65536,4,0)) -> 民生 | K32: =IF(I32="","",VLOOKUP(I32,[1]名單!$A$1:$Z$65536,2,0)) -> 張皓閔 | L32: 2437 | M32: =IF(L32="","",VLOOKUP(L32,[1]名單!$A$1:$Z$65536,4,0)) -> 大屯 | N32: =IF(L32="","",VLOOKUP(L32,[1]名單!$A$1:$Z$65536,2,0)) -> 張丞圳 | P32: =IF(O32="","",VLOOKUP(O32,[1]名單!$A$1:$Z$65536,2,0))
A33: A27 | B33: 0.44444444 | C33: 2402 | D33: =IF(C33="","",VLOOKUP(C33,[1]名單!$A$1:$Z$65536,4,0)) -> 林內 | E33: =IF(C33="","",VLOOKUP(C33,[1]名單!$A$1:$Z$65536,2,0)) -> 林庭毅 | F33: 2408 | G33: =IF(F33="","",VLOOKUP(F33,[1]名單!$A$1:$Z$65536,4,0)) -> 九芎 | H33: =IF(F33="","",VLOOKUP(F33,[1]名單!$A$1:$Z$65536,2,0)) -> 林和陞 | I33: 2414 | J33: =IF(I33="","",VLOOKUP(I33,[1]名單!$A$1:$Z$65536,4,0)) -> 民生 | K33: =IF(I33="","",VLOOKUP(I33,[1]名單!$A$1:$Z$65536,2,0)) -> 曾仁利 | L33: 2438 | M33: =IF(L33="","",VLOOKUP(L33,[1]名單!$A$1:$Z$65536,4,0)) -> 大屯 | N33: =IF(L33="","",VLOOKUP(L33,[1]名單!$A$1:$Z$65536,2,0)) -> 李善恩
A34: A28 | B34: 0.44791667 | C34: 2403 | D34: =IF(C34="","",VLOOKUP(C34,[1]名單!$A$1:$Z$65536,4,0)) -> 林內 | E34: =IF(C34="","",VLOOKUP(C34,[1]名單!$A$1:$Z$65536,2,0)) -> 薛仲均 | F34: 2409 | G34: =IF(F34="","",VLOOKUP(F34,[1]名單!$A$1:$Z$65536,4,0)) -> 九芎 | H34: =IF(F34="","",VLOOKUP(F34,[1]名單!$A$1:$Z$65536,2,0)) -> 林茗盛 | I34: 2415 | J34: =IF(I34="","",VLOOKUP(I34,[1]名單!$A$1:$Z$65536,4,0)) -> 民生 | K34: =IF(I34="","",VLOOKUP(I34,[1]名單!$A$1:$Z$65536,2,0)) -> 莊明錡 | L34: 2439 | M34: =IF(L34="","",VLOOKUP(L34,[1]名單!$A$1:$Z$65536,4,0)) -> 大屯 | N34: =IF(L34="","",VLOOKUP(L34,[1]名單!$A$1:$Z$65536,2,0)) -> 林念德
A35: A29 | B35: 0.45138889 | C35: 2404 | D35: =IF(C35="","",VLOOKUP(C35,[1]名單!$A$1:$Z$65536,4,0)) -> 林內 | E35: =IF(C35="","",VLOOKUP(C35,[1]名單!$A$1:$Z$65536,2,0)) -> 陳子瑋 | F35: 2410 | G35: =IF(F35="","",VLOOKUP(F35,[1]名單!$A$1:$Z$65536,4,0)) -> 九芎 | H35: =IF(F35="","",VLOOKUP(F35,[1]名單!$A$1:$Z$65536,2,0)) -> 蔡承儒 | I35: 2416 | J35: =IF(I35="","",VLOOKUP(I35,[1]名單!$A$1:$Z$65536,4,0)) -> 民生 | K35: =IF(I35="","",VLOOKUP(I35,[1]名單!$A$1:$Z$65536,2,0)) -> 蔡宗墿 | L35: 2440 | M35: =IF(L35="","",VLOOKUP(L35,[1]名單!$A$1:$Z$65536,4,0)) -> 大屯 | N35: =IF(L35="","",VLOOKUP(L35,[1]名單!$A$1:$Z$65536,2,0)) -> 翁健鋒
A36: A30 | B36: 0.45486111 | C36: 2405 | D36: =IF(C36="","",VLOOKUP(C36,[1]名單!$A$1:$Z$65536,4,0)) -> 林內 | E36: =IF(C36="","",VLOOKUP(C36,[1]名單!$A$1:$Z$65536,2,0)) -> 黃彥碩 | F36: 2411 | G36: =IF(F36="","",VLOOKUP(F36,[1]名單!$A$1:$Z$65536,4,0)) -> 九芎 | H36: =IF(F36="","",VLOOKUP(F36,[1]名單!$A$1:$Z$65536,2,0)) -> 謝昇博 | I36: 2424 | J36: =IF(I36="","",VLOOKUP(I36,[1]名單!$A$1:$Z$65536,4,0)) -> 僑真 | K36: =IF(I36="","",VLOOKUP(I36,[1]名單!$A$1:$Z$65536,2,0)) -> 黃威哲 | L36: 2441 | M36: =IF(L36="","",VLOOKUP(L36,[1]名單!$A$1:$Z$65536,4,0)) -> 大屯 | N36: =IF(L36="","",VLOOKUP(L36,[1]名單!$A$1:$Z$65536,2,0)) -> 許博飛
A37: A31 | B37: 0.45833333 | C37: 2406 | D37: =IF(C37="","",VLOOKUP(C37,[1]名單!$A$1:$Z$65536,4,0)) -> 林內 | E37: =IF(C37="","",VLOOKUP(C37,[1]名單!$A$1:$Z$65536,2,0)) -> 黃愷安 | F37: 2412 | G37: =IF(F37="","",VLOOKUP(F37,[1]名單!$A$1:$Z$65536,4,0)) -> 九芎 | H37: =IF(F37="","",VLOOKUP(F37,[1]名單!$A$1:$Z$65536,2,0)) -> 賴煜翔 | I37: 2425 | J37: =IF(I37="","",VLOOKUP(I37,[1]名單!$A$1:$Z$65536,4,0)) -> 僑真 | K37: =IF(I37="","",VLOOKUP(I37,[1]名單!$A$1:$Z$65536,2,0)) -> 廖溢宣 | L37: 2442 | M37: =IF(L37="","",VLOOKUP(L37,[1]名單!$A$1:$Z$65536,4,0)) -> 大屯 | N37: =IF(L37="","",VLOOKUP(L37,[1]名單!$A$1:$Z$65536,2,0)) -> 陳柏維
A38: A32 | B38: 0.46180556 | C38: 2443 | D38: =IF(C38="","",VLOOKUP(C38,[1]名單!$A$1:$Z$65536,4,0)) -> 埤腳 | E38: =IF(C38="","",VLOOKUP(C38,[1]名單!$A$1:$Z$65536,2,0)) -> 徐睿宏 | F38: 2449 | G38: =IF(F38="","",VLOOKUP(F38,[1]名單!$A$1:$Z$65536,4,0)) -> 宏崙 | H38: =IF(F38="","",VLOOKUP(F38,[1]名單!$A$1:$Z$65536,2,0)) -> 古承豫 | I38: 2417 | J38: =IF(I38="","",VLOOKUP(I38,[1]名單!$A$1:$Z$65536,4,0)) -> 民生 | K38: =IF(I38="","",VLOOKUP(I38,[1]名單!$A$1:$Z$65536,2,0)) -> 蘇照恩 | L38: 2427 | M38: =IF(L38="","",VLOOKUP(L38,[1]名單!$A$1:$Z$65536,4,0)) -> 僑真 | N38: =IF(L38="","",VLOOKUP(L38,[1]名單!$A$1:$Z$65536,2,0)) -> 蔡忠育
A39: A33 | B39: 0.46527778 | C39: 2444 | D39: =IF(C39="","",VLOOKUP(C39,[1]名單!$A$1:$Z$65536,4,0)) -> 埤腳 | E39: =IF(C39="","",VLOOKUP(C39,[1]名單!$A$1:$Z$65536,2,0)) -> 楊傑評 | F39: 2450 | G39: =IF(F39="","",VLOOKUP(F39,[1]名單!$A$1:$Z$65536,4,0)) -> 宏崙 | H39: =IF(F39="","",VLOOKUP(F39,[1]名單!$A$1:$Z$65536,2,0)) -> 吳冠宜 | I39: 2418 | J39: =IF(I39="","",VLOOKUP(I39,[1]名單!$A$1:$Z$65536,4,0)) -> 民生 | K39: =IF(I39="","",VLOOKUP(I39,[1]名單!$A$1:$Z$65536,2,0)) -> 詹士宏 | L39: 2428 | M39: =IF(L39="","",VLOOKUP(L39,[1]名單!$A$1:$Z$65536,4,0)) -> 僑真 | N39: =IF(L39="","",VLOOKUP(L39,[1]名單!$A$1:$Z$65536,2,0)) -> 蘇昱誠
A40: A34 | B40: 0.46875 | C40: 2445 | D40: =IF(C40="","",VLOOKUP(C40,[1]名單!$A$1:$Z$65536,4,0)) -> 埤腳 | E40: =IF(C40="","",VLOOKUP(C40,[1]名單!$A$1:$Z$65536,2,0)) -> 楊斌渝 | F40: 2451 | G40: =IF(F40="","",VLOOKUP(F40,[1]名單!$A$1:$Z$65536,4,0)) -> 宏崙 | H40: =IF(F40="","",VLOOKUP(F40,[1]名單!$A$1:$Z$65536,2,0)) -> 吳書維 | I40: 2466 | J40: =IF(I40="","",VLOOKUP(I40,[1]名單!$A$1:$Z$65536,4,0)) -> 信義 | K40: =IF(I40="","",VLOOKUP(I40,[1]名單!$A$1:$Z$65536,2,0)) -> 蔡秉佑 | L40: 2429 | M40: =IF(L40="","",VLOOKUP(L40,[1]名單!$A$1:$Z$65536,4,0)) -> 僑真 | N40: =IF(L40="","",VLOOKUP(L40,[1]名單!$A$1:$Z$65536,2,0)) -> 郭哲維
...

Sheet 0415
A1: 105年春季縣長盃木球賽賽程表
A2: 日 期 | C2: 105年4月15日（星期五）A場地
A3: 場次 | B3: 時間 | C3: 選 手 名 單
A4: 9 | B4: 組別 | D4: =VLOOKUP(A4,[1]組別!$A$1:$AK$65536,2,0) -> 國中男子組 | P4: 裁判
A5: A1 | B5: 0.35416667 | C5: 1601 | D5: =IF(C5="","",VLOOKUP(C5,[1]名單!$A$1:$Z$65536,4,0)) -> 大埤 | E5: =IF(C5="","",VLOOKUP(C5,[1]名單!$A$1:$Z$65536,2,0)) -> 劉志威 | F5: 1638 | G5: =IF(F5="","",VLOOKUP(F5,[1]名單!$A$1:$Z$65536,4,0)) -> 馬光 | H5: =IF(F5="","",VLOOKUP(F5,[1]名單!$A$1:$Z$65536,2,0)) -> 張景昇 | I5: 1675 | J5: =IF(I5="","",VLOOKUP(I5,[1]名單!$A$1:$Z$65536,4,0)) -> 林內 | K5: =IF(I5="","",VLOOKUP(I5,[1]名單!$A$1:$Z$65536,2,0)) -> 林季磊 | L5: 1655 | M5: =IF(L5="","",VLOOKUP(L5,[1]名單!$A$1:$Z$65536,4,0)) -> 石榴 | N5: =IF(L5="","",VLOOKUP(L5,[1]名單!$A$1:$Z$65536,2,0)) -> 何仁傑 | P5: =IF(O5="","",VLOOKUP(O5,[1]名單!$A$1:$Z$65536,2,0))
A6: A2 | B6: 0.35763889 | C6: 1602 | D6: =IF(C6="","",VLOOKUP(C6,[1]名單!$A$1:$Z$65536,4,0)) -> 大埤 | E6: =IF(C6="","",VLOOKUP(C6,[1]名單!$A$1:$Z$65536,2,0)) -> 劉訓丞 | F6: 1639 | G6: =IF(F6="","",VLOOKUP(F6,[1]名單!$A$1:$Z$65536,4,0)) -> 馬光 | H6: =IF(F6="","",VLOOKUP(F6,[1]名單!$A$1:$Z$65536,2,0)) -> 張盛豐 | I6: 1676 | J6: =IF(I6="","",VLOOKUP(I6,[1]名單!$A$1:$Z$65536,4,0)) -> 林內 | K6: =IF(I6="","",VLOOKUP(I6,[1]名單!$A$1:$Z$65536,2,0)) -> 林晉融 | L6: 1656 | M6: =IF(L6="","",VLOOKUP(L6,[1]名單!$A$1:$Z$65536,4,0)) -> 石榴 | N6: =IF(L6="","",VLOOKUP(L6,[1]名單!$A$1:$Z$65536,2,0)) -> 何子承 | P6: =IF(O6="","",VLOOKUP(O6,[1]名單!$A$1:$Z$65536,2,0))
A7: A3 | B7: 0.36111111 | C7: 1603 | D7: =IF(C7="","",VLOOKUP(C7,[1]名單!$A$1:$Z$65536,4,0)) -> 大埤 | E7: =IF(C7="","",VLOOKUP(C7,[1]名單!$A$1:$Z$65536,2,0)) -> 張珈銘 | F7: 1640 | G7: =IF(F7="","",VLOOKUP(F7,[1]名單!$A$1:$Z$65536,4,0)) -> 馬光 | H7: =IF(F7="","",VLOOKUP(F7,[1]名單!$A$1:$Z$65536,2,0)) -> 洪若凱 | I7: 1677 | J7: =IF(I7="","",VLOOKUP(I7,[1]名單!$A$1:$Z$65536,4,0)) -> 林內 | K7: =IF(I7="","",VLOOKUP(I7,[1]名單!$A$1:$Z$65536,2,0)) -> 王政裕 | L7: 1657 | M7: =IF(L7="","",VLOOKUP(L7,[1]名單!$A$1:$Z$65536,4,0)) -> 石榴 | N7: =IF(L7="","",VLOOKUP(L7,[1]名單!$A$1:$Z$65536,2,0)) -> 何育豪 | P7: =IF(O7="","",VLOOKUP(O7,[1]名單!$A$1:$Z$65536,2,0))
A8: A4 | B8: 0.36458333 | C8: 1604 | D8: =IF(C8="","",VLOOKUP(C8,[1]名單!$A$1:$Z$65536,4,0)) -> 大埤 | E8: =IF(C8="","",VLOOKUP(C8,[1]名單!$A$1:$Z$65536,2,0)) -> 蔡世偉 | F8: 1641 | G8: =IF(F8="","",VLOOKUP(F8,[1]名單!$A$1:$Z$65536,4,0)) -> 馬光 | H8: =IF(F8="","",VLOOKUP(F8,[1]名單!$A$1:$Z$65536,2,0)) -> 黃煜展 | I8: 1678 | J8: =IF(I8="","",VLOOKUP(I8,[1]名單!$A$1:$Z$65536,4,0)) -> 林內 | K8: =IF(I8="","",VLOOKUP(I8,[1]名單!$A$1:$Z$65536,2,0)) -> 賴以恩 | L8: 1658 | M8: =IF(L8="","",VLOOKUP(L8,[1]名單!$A$1:$Z$65536,4,0)) -> 石榴 | N8: =IF(L8="","",VLOOKUP(L8,[1]名單!$A$1:$Z$65536,2,0)) -> 張呈陽 | P8: =IF(O8="","",VLOOKUP(O8,[1]名單!$A$1:$Z$65536,2,0))
A9: A5 | B9: 0.36805556 | C9: 1605 | D9: =IF(C9="","",VLOOKUP(C9,[1]名單!$A$1:$Z$65536,4,0)) -> 大埤 | E9: =IF(C9="","",VLOOKUP(C9,[1]名單!$A$1:$Z$65536,2,0)) -> 邱定宏 | F9: 1642 | G9: =IF(F9="","",VLOOKUP(F9,[1]名單!$A$1:$Z$65536,4,0)) -> 馬光 | H9: =IF(F9="","",VLOOKUP(F9,[1]名單!$A$1:$Z$65536,2,0)) -> 吳睿祥 | I9: 1679 | J9: =IF(I9="","",VLOOKUP(I9,[1]名單!$A$1:$Z$65536,4,0)) -> 林內 | K9: =IF(I9="","",VLOOKUP(I9,[1]名單!$A$1:$Z$65536,2,0)) -> 李承翰 | L9: 1659 | M9: =IF(L9="","",VLOOKUP(L9,[1]名單!$A$1:$Z$65536,4,0)) -> 石榴 | N9: =IF(L9="","",VLOOKUP(L9,[1]名單!$A$1:$Z$65536,2,0)) -> 張惟堯 | P9: =IF(O9="","",VLOOKUP(O9,[1]名單!$A$1:$Z$65536,2,0))
A10: A6 | B10: 0.37152778 | C10: 1606 | D10: =IF(C10="","",VLOOKUP(C10,[1]名單!$A$1:$Z$65536,4,0)) -> 大埤 | E10: =IF(C10="","",VLOOKUP(C10,[1]名單!$A$1:$Z$65536,2,0)) -> 魏永安 | F10: 1643 | G10: =IF(F10="","",VLOOKUP(F10,[1]名單!$A$1:$Z$65536,4,0)) -> 馬光 | H10: =IF(F10="","",VLOOKUP(F10,[1]名單!$A$1:$Z$65536,2,0)) -> 吳亭皚 | I10: 1680 | J10: =IF(I10="","",VLOOKUP(I10,[1]名單!$A$1:$Z$65536,4,0)) -> 林內 | K10: =IF(I10="","",VLOOKUP(I10,[1]名單!$A$1:$Z$65536,2,0)) -> 林松儒 | L10: 1660 | M10: =IF(L10="","",VLOOKUP(L10,[1]名單!$A$1:$Z$65536,4,0)) -> 石榴 | N10: =IF(L10="","",VLOOKUP(L10,[1]名單!$A$1:$Z$65536,2,0)) -> 饒書享 | P10: =IF(O10="","",VLOOKUP(O10,[1]名單!$A$1:$Z$65536,2,0))
A11: A7 | B11: 0.375 | C11: 1607 | D11: =IF(C11="","",VLOOKUP(C11,[1]名單!$A$1:$Z$65536,4,0)) -> 大埤 | E11: =IF(C11="","",VLOOKUP(C11,[1]名單!$A$1:$Z$65536,2,0)) -> 劉柏承 | F11: 1644 | G11: =IF(F11="","",VLOOKUP(F11,[1]名單!$A$1:$Z$65536,4,0)) -> 馬光 | H11: =IF(F11="","",VLOOKUP(F11,[1]名單!$A$1:$Z$65536,2,0)) -> 吳瑞文 | I11: 1681 | J11: =IF(I11="","",VLOOKUP(I11,[1]名單!$A$1:$Z$65536,4,0)) -> 林內 | K11: =IF(I11="","",VLOOKUP(I11,[1]名單!$A$1:$Z$65536,2,0)) -> 林松諭 | L11: 1661 | M11: =IF(L11="","",VLOOKUP(L11,[1]名單!$A$1:$Z$65536,4,0)) -> 石榴 | N11: =IF(L11="","",VLOOKUP(L11,[1]名單!$A$1:$Z$65536,2,0)) -> 張閔翔 | P11: =IF(O11="","",VLOOKUP(O11,[1]名單!$A$1:$Z$65536,2,0))
A12: A8 | B12: 0.37847222 | C12: 1608 | D12: =IF(C12="","",VLOOKUP(C12,[1]名單!$A$1:$Z$65536,4,0)) -> 大埤 | E12: =IF(C12="","",VLOOKUP(C12,[1]名單!$A$1:$Z$65536,2,0)) -> 吳信願 | F12: 1645 | G12: =IF(F12="","",VLOOKUP(F12,[1]名單!$A$1:$Z$65536,4,0)) -> 馬光 | H12: =IF(F12="","",VLOOKUP(F12,[1]名單!$A$1:$Z$65536,2,0)) -> 吳致瑋 | I12: 1682 | J12: =IF(I12="","",VLOOKUP(I12,[1]名單!$A$1:$Z$65536,4,0)) -> 林內 | K12: =IF(I12="","",VLOOKUP(I12,[1]名單!$A$1:$Z$65536,2,0)) -> 石安順 | L12: 1662 | M12: =IF(L12="","",VLOOKUP(L12,[1]名單!$A$1:$Z$65536,4,0)) -> 石榴 | N12: =IF(L12="","",VLOOKUP(L12,[1]名單!$A$1:$Z$65536,2,0)) -> 林致宇 | P12: =IF(O12="","",VLOOKUP(O12,[1]名單!$A$1:$Z$65536,2,0))
A13: A9 | B13: 0.38194444 | C13: 1609 | D13: =IF(C13="","",VLOOKUP(C13,[1]名單!$A$1:$Z$65536,4,0)) -> 大埤 | E13: =IF(C13="","",VLOOKUP(C13,[1]名單!$A$1:$Z$65536,2,0)) -> 張克豐 | F13: 1646 | G13: =IF(F13="","",VLOOKUP(F13,[1]名單!$A$1:$Z$65536,4,0)) -> 馬光 | H13: =IF(F13="","",VLOOKUP(F13,[1]名單!$A$1:$Z$65536,2,0)) -> 許連發 | I13: 1683 | J13: =IF(I13="","",VLOOKUP(I13,[1]名單!$A$1:$Z$65536,4,0)) -> 林內 | K13: =IF(I13="","",VLOOKUP(I13,[1]名單!$A$1:$Z$65536,2,0)) -> 莊吉峯 | L13: 1663 | M13: =IF(L13="","",VLOOKUP(L13,[1]名單!$A$1:$Z$65536,4,0)) -> 石榴 | N13: =IF(L13="","",VLOOKUP(L13,[1]名單!$A$1:$Z$65536,2,0)) -> 王俊麟 | P13: =IF(O13="","",VLOOKUP(O13,[1]名單!$A$1:$Z$65536,2,0))
A14: A10 | B14: 0.38541667 | C14: 1610 | D14: =IF(C14="","",VLOOKUP(C14,[1]名單!$A$1:$Z$65536,4,0)) -> 大埤 | E14: =IF(C14="","",VLOOKUP(C14,[1]名單!$A$1:$Z$65536,2,0)) -> 徐宥為 | F14: 1647 | G14: =IF(F14="","",VLOOKUP(F14,[1]名單!$A$1:$Z$65536,4,0)) -> 馬光 | H14: =IF(F14="","",VLOOKUP(F14,[1]名單!$A$1:$Z$65536,2,0)) -> 黃偉傑 | I14: 1684 | J14: =IF(I14="","",VLOOKUP(I14,[1]名單!$A$1:$Z$65536,4,0)) -> 林內 | K14: =IF(I14="","",VLOOKUP(I14,[1]名單!$A$1:$Z$65536,2,0)) -> 黃義墀 | L14: 1664 | M14: =IF(L14="","",VLOOKUP(L14,[1]名單!$A$1:$Z$65536,4,0)) -> 石榴 | N14: =IF(L14="","",VLOOKUP(L14,[1]名單!$A$1:$Z$65536,2,0)) -> 王忠翔 | P14: =IF(O14="","",VLOOKUP(O14,[1]名單!$A$1:$Z$65536,2,0))
A15: A11 | B15: 0.38888889 | C15: 1611 | D15: =IF(C15="","",VLOOKUP(C15,[1]名單!$A$1:$Z$65536,4,0)) -> 大埤 | E15: =IF(C15="","",VLOOKUP(C15,[1]名單!$A$1:$Z$65536,2,0)) -> 蕭文德 | F15: 1648 | G15: =IF(F15="","",VLOOKUP(F15,[1]名單!$A$1:$Z$65536,4,0)) -> 馬光 | H15: =IF(F15="","",VLOOKUP(F15,[1]名單!$A$1:$Z$65536,2,0)) -> 黃元龍 | I15: 1685 | J15: =IF(I15="","",VLOOKUP(I15,[1]名單!$A$1:$Z$65536,4,0)) -> 林內 | K15: =IF(I15="","",VLOOKUP(I15,[1]名單!$A$1:$Z$65536,2,0)) -> 廖聖佑* | L15: 1665 | M15: =IF(L15="","",VLOOKUP(L15,[1]名單!$A$1:$Z$65536,4,0)) -> 石榴 | N15: =IF(L15="","",VLOOKUP(L15,[1]名單!$A$1:$Z$65536,2,0)) -> 譚敬達
A16: A12 | B16: 0.39236111 | C16: 1612 | D16: =IF(C16="","",VLOOKUP(C16,[1]名單!$A$1:$Z$65536,4,0)) -> 大埤 | E16: =IF(C16="","",VLOOKUP(C16,[1]名單!$A$1:$Z$65536,2,0)) -> 徐建甫 | F16: 1649 | G16: =IF(F16="","",VLOOKUP(F16,[1]名單!$A$1:$Z$65536,4,0)) -> 馬光 | H16: =IF(F16="","",VLOOKUP(F16,[1]名單!$A$1:$Z$65536,2,0)) -> 吳光仁* | I16: 1686 | J16: =IF(I16="","",VLOOKUP(I16,[1]名單!$A$1:$Z$65536,4,0)) -> 林內 | K16: =IF(I16="","",VLOOKUP(I16,[1]名單!$A$1:$Z$65536,2,0)) -> 王裕達* | L16: 1666 | M16: =IF(L16="","",VLOOKUP(L16,[1]名單!$A$1:$Z$65536,4,0)) -> 石榴 | N16: =IF(L16="","",VLOOKUP(L16,[1]名單!$A$1:$Z$65536,2,0)) -> 陳奕瑋
A17: A13 | B17: 0.39583333 | C17: 1699 | D17: =IF(C17="","",VLOOKUP(C17,[1]名單!$A$1:$Z$65536,4,0)) -> 淵明 | E17: =IF(C17="","",VLOOKUP(C17,[1]名單!$A$1:$Z$65536,2,0)) -> 施仁傑 | F17: 1650 | G17: =IF(F17="","",VLOOKUP(F17,[1]名單!$A$1:$Z$65536,4,0)) -> 馬光 | H17: =IF(F17="","",VLOOKUP(F17,[1]名單!$A$1:$Z$65536,2,0)) -> 林坤賢* | I17: 1687 | J17: =IF(I17="","",VLOOKUP(I17,[1]名單!$A$1:$Z$65536,4,0)) -> 林內 | K17: =IF(I17="","",VLOOKUP(I17,[1]名單!$A$1:$Z$65536,2,0)) -> 蔡俊宏* | L17: 1667 | M17: =IF(L17="","",VLOOKUP(L17,[1]名單!$A$1:$Z$65536,4,0)) -> 石榴 | N17: =IF(L17="","",VLOOKUP(L17,[1]名單!$A$1:$Z$65536,2,0)) -> 何忠原*
A18: A14 | B18: 0.39930556 | C18: 1700 | D18: =IF(C18="","",VLOOKUP(C18,[1]名單!$A$1:$Z$65536,4,0)) -> 淵明 | E18: =IF(C18="","",VLOOKUP(C18,[1]名單!$A$1:$Z$65536,2,0)) -> 蘇弘展 | F18: 1637 | G18: =IF(F18="","",VLOOKUP(F18,[1]名單!$A$1:$Z$65536,4,0)) -> 馬光 | H18: =IF(F18="","",VLOOKUP(F18,[1]名單!$A$1:$Z$65536,2,0)) -> 周文麒 | I18: 1688 | J18: =IF(I18="","",VLOOKUP(I18,[1]名單!$A$1:$Z$65536,4,0)) -> 林內 | K18: =IF(I18="","",VLOOKUP(I18,[1]名單!$A$1:$Z$65536,2,0)) -> 蔡柏慶* | L18: 1668 | M18: =IF(L18="","",VLOOKUP(L18,[1]名單!$A$1:$Z$65536,4,0)) -> 石榴 | N18: =IF(L18="","",VLOOKUP(L18,[1]名單!$A$1:$Z$65536,2,0)) -> 何昆佑*
A19: A15 | B19: 0.40277778 | C19: 1615 | D19: =IF(C19="","",VLOOKUP(C19,[1]名單!$A$1:$Z$65536,4,0)) -> 大埤 | E19: =IF(C19="","",VLOOKUP(C19,[1]名單!$A$1:$Z$65536,2,0)) -> 王宜安* | F19: 1701 | G19: =IF(F19="","",VLOOKUP(F19,[1]名單!$A$1:$Z$65536,4,0)) -> 淵明 | H19: =IF(F19="","",VLOOKUP(F19,[1]名單!$A$1:$Z$65536,2,0)) -> 鄭智勝 | I19: 1689 | J19: =IF(I19="","",VLOOKUP(I19,[1]名單!$A$1:$Z$65536,4,0)) -> 林內 | K19: =IF(I19="","",VLOOKUP(I19,[1]名單!$A$1:$Z$65536,2,0)) -> 鄭延彬* | L19: 1669 | M19: =IF(L19="","",VLOOKUP(L19,[1]名單!$A$1:$Z$65536,4,0)) -> 石榴 | N19: =IF(L19="","",VLOOKUP(L19,[1]名單!$A$1:$Z$65536,2,0)) -> 張宸豪*
A20: A16 | B20: 0.40625 | C20: 1616 | D20: =IF(C20="","",VLOOKUP(C20,[1]名單!$A$1:$Z$65536,4,0)) -> 大埤 | E20: =IF(C20="","",VLOOKUP(C20,[1]名單!$A$1:$Z$65536,2,0)) -> 郭達宏* | F20: 1702 | G20: =IF(F20="","",VLOOKUP(F20,[1]名單!$A$1:$Z$65536,4,0)) -> 淵明 | H20: =IF(F20="","",VLOOKUP(F20,[1]名單!$A$1:$Z$65536,2,0)) -> 黃裕綸 | I20: 1690 | J20: =IF(I20="","",VLOOKUP(I20,[1]名單!$A$1:$Z$65536,4,0)) -> 林內 | K20: =IF(I20="","",VLOOKUP(I20,[1]名單!$A$1:$Z$65536,2,0)) -> 陳立昌* | L20: 1670 | M20: =IF(L20="","",VLOOKUP(L20,[1]名單!$A$1:$Z$65536,4,0)) -> 石榴 | N20: =IF(L20="","",VLOOKUP(L20,[1]名單!$A$1:$Z$65536,2,0)) -> 蔡宗育*
A21: A17 | B21: 0.40972222 | C21: 1613 | D21: =IF(C21="","",VLOOKUP(C21,[1]名單!$A$1:$Z$65536,4,0)) -> 大埤 | E21: =IF(C21="","",VLOOKUP(C21,[1]名單!$A$1:$Z$65536,2,0)) -> 張峻瑋* | F21: 1622 | G21: =IF(F21="","",VLOOKUP(F21,[1]名單!$A$1:$Z$65536,4,0)) -> 二崙 | H21: =IF(F21="","",VLOOKUP(F21,[1]名單!$A$1:$Z$65536,2,0)) -> 李憲昌 | I21: 1627 | J21: =IF(I21="","",VLOOKUP(I21,[1]名單!$A$1:$Z$65536,4,0)) -> 元長 | K21: =IF(I21="","",VLOOKUP(I21,[1]名單!$A$1:$Z$65536,2,0)) -> 蔡宗桓 | L21: 1691 | M21: =IF(L21="","",VLOOKUP(L21,[1]名單!$A$1:$Z$65536,4,0)) -> 淵明 | N21: =IF(L21="","",VLOOKUP(L21,[1]名單!$A$1:$Z$65536,2,0)) -> 張展豪
A22: A18 | B22: 0.41319444 | C22: 1614 | D22: =IF(C22="","",VLOOKUP(C22,[1]名單!$A$1:$Z$65536,4,0)) -> 大埤 | E22: =IF(C22="","",VLOOKUP(C22,[1]名單!$A$1:$Z$65536,2,0)) -> 張健庭* | F22: 1619 | G22: =IF(F22="","",VLOOKUP(F22,[1]名單!$A$1:$Z$65536,4,0)) -> 二崙 | H22: =IF(F22="","",VLOOKUP(F22,[1]名單!$A$1:$Z$65536,2,0)) -> 廖弘凱 | I22: 1628 | J22: =IF(I22="","",VLOOKUP(I22,[1]名單!$A$1:$Z$65536,4,0)) -> 元長 | K22: =IF(I22="","",VLOOKUP(I22,[1]名單!$A$1:$Z$65536,2,0)) -> 李化郁 | L22: 1692 | M22: =IF(L22="","",VLOOKUP(L22,[1]名單!$A$1:$Z$65536,4,0)) -> 淵明 | N22: =IF(L22="","",VLOOKUP(L22,[1]名單!$A$1:$Z$65536,2,0)) -> 張景懋
A23: A19 | B23: 0.41666667 | C23: 1630 | D23: =IF(C23="","",VLOOKUP(C23,[1]名單!$A$1:$Z$65536,4,0)) -> 元長 | E23: =IF(C23="","",VLOOKUP(C23,[1]名單!$A$1:$Z$65536,2,0)) -> 林弘御 | F23: 1623 | G23: =IF(F23="","",VLOOKUP(F23,[1]名單!$A$1:$Z$65536,4,0)) -> 二崙 | H23: =IF(F23="","",VLOOKUP(F23,[1]名單!$A$1:$Z$65536,2,0)) -> 江良育 | I23: 1673 | J23: =IF(I23="","",VLOOKUP(I23,[1]名單!$A$1:$Z$65536,4,0)) -> 林內 | K23: =IF(I23="","",VLOOKUP(I23,[1]名單!$A$1:$Z$65536,2,0)) -> 丁翊軒 | L23: 1693 | M23: =IF(L23="","",VLOOKUP(L23,[1]名單!$A$1:$Z$65536,4,0)) -> 淵明 | N23: =IF(L23="","",VLOOKUP(L23,[1]名單!$A$1:$Z$65536,2,0)) -> 施仁翔
A24: A20 | B24: 0.42013889 | C24: 1631 | D24: =IF(C24="","",VLOOKUP(C24,[1]名單!$A$1:$Z$65536,4,0)) -> 元長 | E24: =IF(C24="","",VLOOKUP(C24,[1]名單!$A$1:$Z$65536,2,0)) -> 李伯禹 | F24: 1624 | G24: =IF(F24="","",VLOOKUP(F24,[1]名單!$A$1:$Z$65536,4,0)) -> 二崙 | H24: =IF(F24="","",VLOOKUP(F24,[1]名單!$A$1:$Z$65536,2,0)) -> 蔡博守 | I24: 1674 | J24: =IF(I24="","",VLOOKUP(I24,[1]名單!$A$1:$Z$65536,4,0)) -> 林內 | K24: =IF(I24="","",VLOOKUP(I24,[1]名單!$A$1:$Z$65536,2,0)) -> 施建甫 | L24: 1694 | M24: =IF(L24="","",VLOOKUP(L24,[1]名單!$A$1:$Z$65536,4,0)) -> 淵明 | N24: =IF(L24="","",VLOOKUP(L24,[1]名單!$A$1:$Z$65536,2,0)) -> 林煒凱
A25: A21 | B25: 0.42361111 | C25: 1625 | D25: =IF(C25="","",VLOOKUP(C25,[1]名單!$A$1:$Z$65536,4,0)) -> 元長 | E25: =IF(C25="","",VLOOKUP(C25,[1]名單!$A$1:$Z$65536,2,0)) -> 吳勁賢 | F25: 1620 | G25: =IF(F25="","",VLOOKUP(F25,[1]名單!$A$1:$Z$65536,4,0)) -> 二崙 | H25: =IF(F25="","",VLOOKUP(F25,[1]名單!$A$1:$Z$65536,2,0)) -> 廖銘展 | I25: 1721 | J25: =IF(I25="","",VLOOKUP(I25,[1]名單!$A$1:$Z$65536,4,0)) -> 雲林 | K25: =IF(I25="","",VLOOKUP(I25,[1]名單!$A$1:$Z$65536,2,0)) -> 周紹霆 | L25: 1695 | M25: =IF(L25="","",VLOOKUP(L25,[1]名單!$A$1:$Z$65536,4,0)) -> 淵明 | N25: =IF(L25="","",VLOOKUP(L25,[1]名單!$A$1:$Z$65536,2,0)) -> 黃志翔
A26: A22 | B26: 0.42708333 | C26: 1626 | D26: =IF(C26="","",VLOOKUP(C26,[1]名單!$A$1:$Z$65536,4,0)) -> 元長 | E26: =IF(C26="","",VLOOKUP(C26,[1]名單!$A$1:$Z$65536,2,0)) -> 姚宏燁 | F26: 1621 | G26: =IF(F26="","",VLOOKUP(F26,[1]名單!$A$1:$Z$65536,4,0)) -> 二崙 | H26: =IF(F26="","",VLOOKUP(F26,[1]名單!$A$1:$Z$65536,2,0)) -> 徐為民 | I26: 1697 | J26: =IF(I26="","",VLOOKUP(I26,[1]名單!$A$1:$Z$65536,4,0)) -> 淵明 | K26: =IF(I26="","",VLOOKUP(I26,[1]名單!$A$1:$Z$65536,2,0)) -> 張景評 | L26: 1715 | M26: =IF(L26="","",VLOOKUP(L26,[1]名單!$A$1:$Z$65536,4,0)) -> 崙背 | N26: =IF(L26="","",VLOOKUP(L26,[1]名單!$A$1:$Z$65536,2,0)) -> 林冠宏
A27: A23 | B27: 0.43055556 | C27: 1629 | D27: =IF(C27="","",VLOOKUP(C27,[1]名單!$A$1:$Z$65536,4,0)) -> 元長 | E27: =IF(C27="","",VLOOKUP(C27,[1]名單!$A$1:$Z$65536,2,0)) -> 李星緯 | F27: 1703 | G27: =IF(F27="","",VLOOKUP(F27,[1]名單!$A$1:$Z$65536,4,0)) -> 正心 | H27: =IF(F27="","",VLOOKUP(F27,[1]名單!$A$1:$Z$65536,2,0)) -> 朱翊豪 | I27: 1710 | J27: =IF(I27="","",VLOOKUP(I27,[1]名單!$A$1:$Z$65536,4,0)) -> 東明 | K27: =IF(I27="","",VLOOKUP(I27,[1]名單!$A$1:$Z$65536,2,0)) -> 楊迪硯 | M27: =IF(L27="","",VLOOKUP(L27,[1]名單!$A$1:$Z$65536,4,0)) | N27: =IF(L27="","",VLOOKUP(L27,[1]名單!$A$1:$Z$65536,2,0))
A28: A24 | B28: 0.43402778 | C28: 1632 | D28: =IF(C28="","",VLOOKUP(C28,[1]名單!$A$1:$Z$65536,4,0)) -> 元長 | E28: =IF(C28="","",VLOOKUP(C28,[1]名單!$A$1:$Z$65536,2,0)) -> 陳暵祥 | F28: 1698 | G28: =IF(F28="","",VLOOKUP(F28,[1]名單!$A$1:$Z$65536,4,0)) -> 淵明 | H28: =IF(F28="","",VLOOKUP(F28,[1]名單!$A$1:$Z$65536,2,0)) -> 張智揚 | I28: 1709 | J28: =IF(I28="","",VLOOKUP(I28,[1]名單!$A$1:$Z$65536,4,0)) -> 東明 | K28: =IF(I28="","",VLOOKUP(I28,[1]名單!$A$1:$Z$65536,2,0)) -> 張峻維 | M28: =IF(L28="","",VLOOKUP(L28,[1]名單!$A$1:$Z$65536,4,0)) | N28: =IF(L28="","",VLOOKUP(L28,[1]名單!$A$1:$Z$65536,2,0))
A29: 11 | B29: 組別 | D29: =VLOOKUP(A29,[1]組別!$A$1:$AK$65536,2,0) -> 國小六年級男童組 | P29: 裁判
A30: A25 | B30: 0.4375 | C30: 1901 | D30: =IF(C30="","",VLOOKUP(C30,[1]名單!$A$1:$Z$65536,4,0)) -> 林內 | E30: =IF(C30="","",VLOOKUP(C30,[1]名單!$A$1:$Z$65536,2,0)) -> 吳棋宏 | F30: 1947 | G30: =IF(F30="","",VLOOKUP(F30,[1]名單!$A$1:$Z$65536,4,0)) -> 僑真 | H30: =IF(F30="","",VLOOKUP(F30,[1]名單!$A$1:$Z$65536,2,0)) -> 蕭傑宸 | I30: 1987 | J30: =IF(I30="","",VLOOKUP(I30,[1]名單!$A$1:$Z$65536,4,0)) -> 大同 | K30: =IF(I30="","",VLOOKUP(I30,[1]名單!$A$1:$Z$65536,2,0)) -> 楊健弘 | L30: 1907 | M30: =IF(L30="","",VLOOKUP(L30,[1]名單!$A$1:$Z$65536,4,0)) -> 重興 | N30: =IF(L30="","",VLOOKUP(L30,[1]名單!$A$1:$Z$65536,2,0)) -> 廖偉傑 | P30: =IF(O30="","",VLOOKUP(O30,[1]名單!$A$1:$Z$65536,2,0))
A31: A26 | B31: 0.44097222 | C31: 1902 | D31: =IF(C31="","",VLOOKUP(C31,[1]名單!$A$1:$Z$65536,4,0)) -> 林內 | E31: =IF(C31="","",VLOOKUP(C31,[1]名單!$A$1:$Z$65536,2,0)) -> 張克誠 | F31: 1948 | G31: =IF(F31="","",VLOOKUP(F31,[1]名單!$A$1:$Z$65536,4,0)) -> 僑真 | H31: =IF(F31="","",VLOOKUP(F31,[1]名單!$A$1:$Z$65536,2,0)) -> 陳翔宇 | I31: 1988 | J31: =IF(I31="","",VLOOKUP(I31,[1]名單!$A$1:$Z$65536,4,0)) -> 大同 | K31: =IF(I31="","",VLOOKUP(I31,[1]名單!$A$1:$Z$65536,2,0)) -> 楊敦勛 | L31: 1908 | M31: =IF(L31="","",VLOOKUP(L31,[1]名單!$A$1:$Z$65536,4,0)) -> 重興 | N31: =IF(L31="","",VLOOKUP(L31,[1]名單!$A$1:$Z$65536,2,0)) -> 張宇霖 | P31: =IF(O31="","",VLOOKUP(O31,[1]名單!$A$1:$Z$65536,2,0))
A32: A27 | B32: 0.44444444 | C32: 1903 | D32: =IF(C32="","",VLOOKUP(C32,[1]名單!$A$1:$Z$65536,4,0)) -> 林內 | E32: =IF(C32="","",VLOOKUP(C32,[1]名單!$A$1:$Z$65536,2,0)) -> 李柏勳 | F32: 1943 | G32: =IF(F32="","",VLOOKUP(F32,[1]名單!$A$1:$Z$65536,4,0)) -> 僑真 | H32: =IF(F32="","",VLOOKUP(F32,[1]名單!$A$1:$Z$65536,2,0)) -> 何柏輊 | I32: 1989 | J32: =IF(I32="","",VLOOKUP(I32,[1]名單!$A$1:$Z$65536,4,0)) -> 大同 | K32: =IF(I32="","",VLOOKUP(I32,[1]名單!$A$1:$Z$65536,2,0)) -> 鄭登薰 | L32: 1909 | M32: =IF(L32="","",VLOOKUP(L32,[1]名單!$A$1:$Z$65536,4,0)) -> 重興 | N32: =IF(L32="","",VLOOKUP(L32,[1]名單!$A$1:$Z$65536,2,0)) -> 張守鎮 | P32: =IF(O32="","",VLOOKUP(O32,[1]名單!$A$1:$Z$65536,2,0))
A33: A28 | B33: 0.44791667 | C33: 1904 | D33: =IF(C33="","",VLOOKUP(C33,[1]名單!$A$1:$Z$65536,4,0)) -> 林內 | E33: =IF(C33="","",VLOOKUP(C33,[1]名單!$A$1:$Z$65536,2,0)) -> 蔡仕昌 | F33: 1944 | G33: =IF(F33="","",VLOOKUP(F33,[1]名單!$A$1:$Z$65536,4,0)) -> 僑真 | H33: =IF(F33="","",VLOOKUP(F33,[1]名單!$A$1:$Z$65536,2,0)) -> 張家維 | I33: 1990 | J33: =IF(I33="","",VLOOKUP(I33,[1]名單!$A$1:$Z$65536,4,0)) -> 大同 | K33: =IF(I33="","",VLOOKUP(I33,[1]名單!$A$1:$Z$65536,2,0)) -> 鍾元耀 | L33: 1910 | M33: =IF(L33="","",VLOOKUP(L33,[1]名單!$A$1:$Z$65536,4,0)) -> 重興 | N33: =IF(L33="","",VLOOKUP(L33,[1]名單!$A$1:$Z$65536,2,0)) -> 張正煜 | P33: =IF(O33="","",VLOOKUP(O33,[1]名單!$A$1:$Z$65536,2,0))
A34: A29 | B34: 0.45138889 | C34: 1905 | D34: =IF(C34="","",VLOOKUP(C34,[1]名單!$A$1:$Z$65536,4,0)) -> 林內 | E34: =IF(C34="","",VLOOKUP(C34,[1]名單!$A$1:$Z$65536,2,0)) -> 蘇鈺傑 | F34: 1945 | G34: =IF(F34="","",VLOOKUP(F34,[1]名單!$A$1:$Z$65536,4,0)) -> 僑真 | H34: =IF(F34="","",VLOOKUP(F34,[1]名單!$A$1:$Z$65536,2,0)) -> 林佳賢 | I34: 1985 | J34: =IF(I34="","",VLOOKUP(I34,[1]名單!$A$1:$Z$65536,4,0)) -> 大同 | K34: =IF(I34="","",VLOOKUP(I34,[1]名單!$A$1:$Z$65536,2,0)) -> 廖昭貴 | L34: 1911 | M34: =IF(L34="","",VLOOKUP(L34,[1]名單!$A$1:$Z$65536,4,0)) -> 重興 | N34: =IF(L34="","",VLOOKUP(L34,[1]名單!$A$1:$Z$65536,2,0)) -> 鄭景旻 | P34: =IF(O34="","",VLOOKUP(O34,[1]名單!$A$1:$Z$65536,2,0))
A35: A30 | B35: 0.45486111 | C35: 1906 | D35: =IF(C35="","",VLOOKUP(C35,[1]名單!$A$1:$Z$65536,4,0)) -> 林內 | E35: =IF(C35="","",VLOOKUP(C35,[1]名單!$A$1:$Z$65536,2,0)) -> 陳彥辰 | F35: 1946 | G35: =IF(F35="","",VLOOKUP(F35,[1]名單!$A$1:$Z$65536,4,0)) -> 僑真 | H35: =IF(F35="","",VLOOKUP(F35,[1]名單!$A$1:$Z$65536,2,0)) -> 林建銘 | I35: 1986 | J35: =IF(I35="","",VLOOKUP(I35,[1]名單!$A$1:$Z$65536,4,0)) -> 大同 | K35: =IF(I35="","",VLOOKUP(I35,[1]名單!$A$1:$Z$65536,2,0)) -> 林煒倫 | L35: 1912 | M35: =IF(L35="","",VLOOKUP(L35,[1]名單!$A$1:$Z$65536,4,0)) -> 重興 | N35: =IF(L35="","",VLOOKUP(L35,[1]名單!$A$1:$Z$65536,2,0)) -> 陳聖毅 | P35: =IF(O35="","",VLOOKUP(O35,[1]名單!$A$1:$Z$65536,2,0))
A36: A31 | B36: 0.45833333 | C36: 1941 | D36: =IF(C36="","",VLOOKUP(C36,[1]名單!$A$1:$Z$65536,4,0)) -> 重光 | E36: =IF(C36="","",VLOOKUP(C36,[1]名單!$A$1:$Z$65536,2,0)) -> 陳致遠 | F36: 1952 | G36: =IF(F36="","",VLOOKUP(F36,[1]名單!$A$1:$Z$65536,4,0)) -> 仁和 | H36: =IF(F36="","",VLOOKUP(F36,[1]名單!$A$1:$Z$65536,2,0)) -> 李宥樑 | I36: 1991 | J36: =IF(I36="","",VLOOKUP(I36,[1]名單!$A$1:$Z$65536,4,0)) -> 信義 | K36: =IF(I36="","",VLOOKUP(I36,[1]名單!$A$1:$Z$65536,2,0)) -> 吳宜達 | L36: 1913 | M36: =IF(L36="","",VLOOKUP(L36,[1]名單!$A$1:$Z$65536,4,0)) -> 重興 | N36: =IF(L36="","",VLOOKUP(L36,[1]名單!$A$1:$Z$65536,2,0)) -> 戴鑫樺 | P36: =IF(O36="","",VLOOKUP(O36,[1]名單!$A$1:$Z$65536,2,0))
A37: A32 | B37: 0.46180556 | C37: 1942 | D37: =IF(C37="","",VLOOKUP(C37,[1]名單!$A$1:$Z$65536,4,0)) -> 重光 | E37: =IF(C37="","",VLOOKUP(C37,[1]名單!$A$1:$Z$65536,2,0)) -> 黃致盛 | F37: 1953 | G37: =IF(F37="","",VLOOKUP(F37,[1]名單!$A$1:$Z$65536,4,0)) -> 仁和 | H37: =IF(F37="","",VLOOKUP(F37,[1]名單!$A$1:$Z$65536,2,0)) -> 陳炳璋 | I37: 1992 | J37: =IF(I37="","",VLOOKUP(I37,[1]名單!$A$1:$Z$65536,4,0)) -> 信義 | K37: =IF(I37="","",VLOOKUP(I37,[1]名單!$A$1:$Z$65536,2,0)) -> 吳旻峻 | L37: 1914 | M37: =IF(L37="","",VLOOKUP(L37,[1]名單!$A$1:$Z$65536,4,0)) -> 重興 | N37: =IF(L37="","",VLOOKUP(L37,[1]名單!$A$1:$Z$65536,2,0)) -> 葉淯蜂 | P37: =IF(O37="","",VLOOKUP(O37,[1]名單!$A$1:$Z$65536,2,0))
A38: A33 | B38: 0.46527778 | C38: 1937 | D38: =IF(C38="","",VLOOKUP(C38,[1]名單!$A$1:$Z$65536,4,0)) -> 重光 | E38: =IF(C38="","",VLOOKUP(C38,[1]名單!$A$1:$Z$65536,2,0)) -> 翁聖德 | F38: 1949 | G38: =IF(F38="","",VLOOKUP(F38,[1]名單!$A$1:$Z$65536,4,0)) -> 仁和 | H38: =IF(F38="","",VLOOKUP(F38,[1]名單!$A$1:$Z$65536,2,0)) -> 周昆宏 | I38: 1993 | J38: =IF(I38="","",VLOOKUP(I38,[1]名單!$A$1:$Z$65536,4,0)) -> 信義 | K38: =IF(I38="","",VLOOKUP(I38,[1]名單!$A$1:$Z$65536,2,0)) -> 李武竣 | L38: 1919 | M38: =IF(L38="","",VLOOKUP(L38,[1]名單!$A$1:$Z$65536,4,0)) -> 大東 | N38: =IF(L38="","",VLOOKUP(L38,[1]名單!$A$1:$Z$65536,2,0)) -> 劉昆憲 | P38: =IF(O38="","",VLOOKUP(O38,[1]名單!$A$1:$Z$65536,2,0))
A39: A34 | B39: 0.46875 | C39: 1938 | D39: =IF(C39="","",VLOOKUP(C39,[1]名單!$A$1:$Z$65536,4,0)) -> 重光 | E39: =IF(C39="","",VLOOKUP(C39,[1]名單!$A$1:$Z$65536,2,0)) -> 葉翔偉 | F39: 1950 | G39: =IF(F39="","",VLOOKUP(F39,[1]名單!$A$1:$Z$65536,4,0)) -> 仁和 | H39: =IF(F39="","",VLOOKUP(F39,[1]名單!$A$1:$Z$65536,2,0)) -> 張嘉升 | I39: 1994 | J39: =IF(I39="","",VLOOKUP(I39,[1]名單!$A$1:$Z$65536,4,0)) -> 信義 | K39: =IF(I39="","",VLOOKUP(I39,[1]名單!$A$1:$Z$65536,2,0)) -> 蔡奇峰 | L39: 1920 | M39: =IF(L39="","",VLOOKUP(L39,[1]名單!$A$1:$Z$65536,4,0)) -> 大東 | N39: =IF(L39="","",VLOOKUP(L39,[1]名單!$A$1:$Z$65536,2,0)) -> 張益維 | P39: =IF(O39="","",VLOOKUP(O39,[1]名單!$A$1:$Z$65536,2,0))
A40: A35 | B40: 0.47222222 | C40: 1939 | D40: =IF(C40="","",VLOOKUP(C40,[1]名單!$A$1:$Z$65536,4,0)) -> 重光 | E40: =IF(C40="","",VLOOKUP(C40,[1]名單!$A$1:$Z$65536,2,0)) -> 陳建宏 | F40: 1951 | G40: =IF(F40="","",VLOOKUP(F40,[1]名單!$A$1:$Z$65536,4,0)) -> 仁和 | H40: =IF(F40="","",VLOOKUP(F40,[1]名單!$A$1:$Z$65536,2,0)) -> 張永諭 | I40: 1931 | J40: =IF(I40="","",VLOOKUP(I40,[1]名單!$A$1:$Z$65536,4,0)) -> 石龜 | K40: =IF(I40="","",VLOOKUP(I40,[1]名單!$A$1:$Z$65536,2,0)) -> 徐治瀚 | L40: 1921 | M40: =IF(L40="","",VLOOKUP(L40,[1]名單!$A$1:$Z$65536,4,0)) -> 大東 | N40: =IF(L40="","",VLOOKUP(L40,[1]名單!$A$1:$Z$65536,2,0)) -> 沈佑任 | P40: =IF(O40="","",VLOOKUP(O40,[1]名單!$A$1:$Z$65536,2,0))
...

Sheet 0416
A1: 105年秋季縣長盃木球賽賽程表
A2: 日 期 | C2: 105年4月16日（星期六）A場地
A3: 場次 | B3: 時間 | C3: 選 手 名 單
A4: 3 | B4: 組別 | D4: =VLOOKUP(A4,[1]組別!$A$1:$AK$65536,2,0) -> 社會男子組 | P4: 裁判
A5: A1 | B5: 0.33333333 | C5: 1201 | D5: =IF(C5="","",VLOOKUP(C5,[1]名單!$A$1:$Z$65536,4,0)) -> 重興 | E5: =IF(C5="","",VLOOKUP(C5,[1]名單!$A$1:$Z$65536,2,0)) -> 施錫勳 | F5: 1231 | G5: =IF(F5="","",VLOOKUP(F5,[1]名單!$A$1:$Z$65536,4,0)) -> 義賢 | H5: =IF(F5="","",VLOOKUP(F5,[1]名單!$A$1:$Z$65536,2,0)) -> 林俊吉 | I5: 1225 | J5: =IF(I5="","",VLOOKUP(I5,[1]名單!$A$1:$Z$65536,4,0)) -> 西平 | K5: =IF(I5="","",VLOOKUP(I5,[1]名單!$A$1:$Z$65536,2,0)) -> 謝培田 | L5: 1212 | M5: =IF(L5="","",VLOOKUP(L5,[1]名單!$A$1:$Z$65536,4,0)) -> 重興 | N5: =IF(L5="","",VLOOKUP(L5,[1]名單!$A$1:$Z$65536,2,0)) -> 廖信雄
A6: A2 | B6: 0.3375 | C6: 1202 | D6: =IF(C6="","",VLOOKUP(C6,[1]名單!$A$1:$Z$65536,4,0)) -> 重興 | E6: =IF(C6="","",VLOOKUP(C6,[1]名單!$A$1:$Z$65536,2,0)) -> 張建成 | F6: 1232 | G6: =IF(F6="","",VLOOKUP(F6,[1]名單!$A$1:$Z$65536,4,0)) -> 義賢 | H6: =IF(F6="","",VLOOKUP(F6,[1]名單!$A$1:$Z$65536,2,0)) -> 蔡健邦 | I6: 1226 | J6: =IF(I6="","",VLOOKUP(I6,[1]名單!$A$1:$Z$65536,4,0)) -> 西平 | K6: =IF(I6="","",VLOOKUP(I6,[1]名單!$A$1:$Z$65536,2,0)) -> 林約三 | L6: 1218 | M6: =IF(L6="","",VLOOKUP(L6,[1]名單!$A$1:$Z$65536,4,0)) -> 義峰 | N6: =IF(L6="","",VLOOKUP(L6,[1]名單!$A$1:$Z$65536,2,0)) -> 彭建睿
A7: A3 | B7: 0.34166667 | C7: 1203 | D7: =IF(C7="","",VLOOKUP(C7,[1]名單!$A$1:$Z$65536,4,0)) -> 重興 | E7: =IF(C7="","",VLOOKUP(C7,[1]名單!$A$1:$Z$65536,2,0)) -> 林如龍 | F7: 1233 | G7: =IF(F7="","",VLOOKUP(F7,[1]名單!$A$1:$Z$65536,4,0)) -> 義賢 | H7: =IF(F7="","",VLOOKUP(F7,[1]名單!$A$1:$Z$65536,2,0)) -> 黃本宗 | I7: 1227 | J7: =IF(I7="","",VLOOKUP(I7,[1]名單!$A$1:$Z$65536,4,0)) -> 西平 | K7: =IF(I7="","",VLOOKUP(I7,[1]名單!$A$1:$Z$65536,2,0)) -> 陳俊烽 | L7: 1222 | M7: =IF(L7="","",VLOOKUP(L7,[1]名單!$A$1:$Z$65536,4,0)) -> 元長 | N7: =IF(L7="","",VLOOKUP(L7,[1]名單!$A$1:$Z$65536,2,0)) -> 李承威
A8: A4 | B8: 0.34583333 | C8: 1204 | D8: =IF(C8="","",VLOOKUP(C8,[1]名單!$A$1:$Z$65536,4,0)) -> 重興 | E8: =IF(C8="","",VLOOKUP(C8,[1]名單!$A$1:$Z$65536,2,0)) -> 林學發 | F8: 1234 | G8: =IF(F8="","",VLOOKUP(F8,[1]名單!$A$1:$Z$65536,4,0)) -> 義賢 | H8: =IF(F8="","",VLOOKUP(F8,[1]名單!$A$1:$Z$65536,2,0)) -> 鄭吉成 | I8: 1228 | J8: =IF(I8="","",VLOOKUP(I8,[1]名單!$A$1:$Z$65536,4,0)) -> 西平 | K8: =IF(I8="","",VLOOKUP(I8,[1]名單!$A$1:$Z$65536,2,0)) -> 黃元龍 | L8: 1223 | M8: =IF(L8="","",VLOOKUP(L8,[1]名單!$A$1:$Z$65536,4,0)) -> 元長 | N8: =IF(L8="","",VLOOKUP(L8,[1]名單!$A$1:$Z$65536,2,0)) -> 李政澤
A9: A5 | B9: 0.35 | C9: 1205 | D9: =IF(C9="","",VLOOKUP(C9,[1]名單!$A$1:$Z$65536,4,0)) -> 重興 | E9: =IF(C9="","",VLOOKUP(C9,[1]名單!$A$1:$Z$65536,2,0)) -> 張文生 | F9: 1235 | G9: =IF(F9="","",VLOOKUP(F9,[1]名單!$A$1:$Z$65536,4,0)) -> 義賢 | H9: =IF(F9="","",VLOOKUP(F9,[1]名單!$A$1:$Z$65536,2,0)) -> 郭郁含 | I9: 1216 | J9: =IF(I9="","",VLOOKUP(I9,[1]名單!$A$1:$Z$65536,4,0)) -> 義峰 | K9: =IF(I9="","",VLOOKUP(I9,[1]名單!$A$1:$Z$65536,2,0)) -> 陳韋佑 | L9: 1219 | M9: =IF(L9="","",VLOOKUP(L9,[1]名單!$A$1:$Z$65536,4,0)) -> 元長 | N9: =IF(L9="","",VLOOKUP(L9,[1]名單!$A$1:$Z$65536,2,0)) -> 吳冠穎
A10: A6 | B10: 0.35416667 | C10: 1206 | D10: =IF(C10="","",VLOOKUP(C10,[1]名單!$A$1:$Z$65536,4,0)) -> 重興 | E10: =IF(C10="","",VLOOKUP(C10,[1]名單!$A$1:$Z$65536,2,0)) -> 施欽鐘 | F10: 1236 | G10: =IF(F10="","",VLOOKUP(F10,[1]名單!$A$1:$Z$65536,4,0)) -> 義賢 | H10: =IF(F10="","",VLOOKUP(F10,[1]名單!$A$1:$Z$65536,2,0)) -> 廖琦正 | I10: 1211 | J10: =IF(I10="","",VLOOKUP(I10,[1]名單!$A$1:$Z$65536,4,0)) -> 重興 | K10: =IF(I10="","",VLOOKUP(I10,[1]名單!$A$1:$Z$65536,2,0)) -> 蔡孟宏 | L10: 1217 | M10: =IF(L10="","",VLOOKUP(L10,[1]名單!$A$1:$Z$65536,4,0)) -> 義峰 | N10: =IF(L10="","",VLOOKUP(L10,[1]名單!$A$1:$Z$65536,2,0)) -> 邱子倫
A11: A7 | B11: 0.35833333 | C11: 1207 | D11: =IF(C11="","",VLOOKUP(C11,[1]名單!$A$1:$Z$65536,4,0)) -> 重興 | E11: =IF(C11="","",VLOOKUP(C11,[1]名單!$A$1:$Z$65536,2,0)) -> 鄭詠耀 | F11: 1213 | G11: =IF(F11="","",VLOOKUP(F11,[1]名單!$A$1:$Z$65536,4,0)) -> 義峰 | H11: =IF(F11="","",VLOOKUP(F11,[1]名單!$A$1:$Z$65536,2,0)) -> 張世杰 | I11: 1220 | J11: =IF(I11="","",VLOOKUP(I11,[1]名單!$A$1:$Z$65536,4,0)) -> 元長 | K11: =IF(I11="","",VLOOKUP(I11,[1]名單!$A$1:$Z$65536,2,0)) -> 石智淵 | M11: =IF(L11="","",VLOOKUP(L11,[1]名單!$A$1:$Z$65536,4,0)) | N11: =IF(L11="","",VLOOKUP(L11,[1]名單!$A$1:$Z$65536,2,0))
A12: A8 | B12: 0.3625 | C12: 1208 | D12: =IF(C12="","",VLOOKUP(C12,[1]名單!$A$1:$Z$65536,4,0)) -> 重興 | E12: =IF(C12="","",VLOOKUP(C12,[1]名單!$A$1:$Z$65536,2,0)) -> 丁哲民 | F12: 1214 | G12: =IF(F12="","",VLOOKUP(F12,[1]名單!$A$1:$Z$65536,4,0)) -> 義峰 | H12: =IF(F12="","",VLOOKUP(F12,[1]名單!$A$1:$Z$65536,2,0)) -> 劉顯誠 | I12: 1221 | J12: =IF(I12="","",VLOOKUP(I12,[1]名單!$A$1:$Z$65536,4,0)) -> 元長 | K12: =IF(I12="","",VLOOKUP(I12,[1]名單!$A$1:$Z$65536,2,0)) -> 楊敬城 | M12: =IF(L12="","",VLOOKUP(L12,[1]名單!$A$1:$Z$65536,4,0)) | N12: =IF(L12="","",VLOOKUP(L12,[1]名單!$A$1:$Z$65536,2,0))
A13: A9 | B13: 0.36666667 | C13: 1209 | D13: =IF(C13="","",VLOOKUP(C13,[1]名單!$A$1:$Z$65536,4,0)) -> 重興 | E13: =IF(C13="","",VLOOKUP(C13,[1]名單!$A$1:$Z$65536,2,0)) -> 張惟翔 | F13: 1215 | G13: =IF(F13="","",VLOOKUP(F13,[1]名單!$A$1:$Z$65536,4,0)) -> 義峰 | H13: =IF(F13="","",VLOOKUP(F13,[1]名單!$A$1:$Z$65536,2,0)) -> 蔡堡樺 | I13: 1210 | J13: =IF(I13="","",VLOOKUP(I13,[1]名單!$A$1:$Z$65536,4,0)) -> 重興 | K13: =IF(I13="","",VLOOKUP(I13,[1]名單!$A$1:$Z$65536,2,0)) -> 劉炘衢 | M13: =IF(L13="","",VLOOKUP(L13,[1]名單!$A$1:$Z$65536,4,0)) | N13: =IF(L13="","",VLOOKUP(L13,[1]名單!$A$1:$Z$65536,2,0))
A14: 1 | B14: 組別 | D14: =VLOOKUP(A14,[1]組別!$A$1:$AK$65536,2,0) -> 長青男組 | P14: 裁判
A15: A10 | B15: 0.37083333 | C15: 1101 | D15: =IF(C15="","",VLOOKUP(C15,[1]名單!$A$1:$Z$65536,4,0)) -> 元長 | E15: =IF(C15="","",VLOOKUP(C15,[1]名單!$A$1:$Z$65536,2,0)) -> 蔡連慶 | F15: 1109 | G15: =IF(F15="","",VLOOKUP(F15,[1]名單!$A$1:$Z$65536,4,0)) -> 馬光 | H15: =IF(F15="","",VLOOKUP(F15,[1]名單!$A$1:$Z$65536,2,0)) -> 林明生 | I15: 1107 | J15: =IF(I15="","",VLOOKUP(I15,[1]名單!$A$1:$Z$65536,4,0)) -> 馬光 | K15: =IF(I15="","",VLOOKUP(I15,[1]名單!$A$1:$Z$65536,2,0)) -> 許鼎林 | L15: 1115 | M15: =IF(L15="","",VLOOKUP(L15,[1]名單!$A$1:$Z$65536,4,0)) -> 馬光 | N15: =IF(L15="","",VLOOKUP(L15,[1]名單!$A$1:$Z$65536,2,0)) -> 張井南
A16: A11 | B16: 0.375 | C16: 1102 | D16: =IF(C16="","",VLOOKUP(C16,[1]名單!$A$1:$Z$65536,4,0)) -> 元長 | E16: =IF(C16="","",VLOOKUP(C16,[1]名單!$A$1:$Z$65536,2,0)) -> 蔡三碧 | F16: 1110 | G16: =IF(F16="","",VLOOKUP(F16,[1]名單!$A$1:$Z$65536,4,0)) -> 馬光 | H16: =IF(F16="","",VLOOKUP(F16,[1]名單!$A$1:$Z$65536,2,0)) -> 王銘賢 | I16: 1108 | J16: =IF(I16="","",VLOOKUP(I16,[1]名單!$A$1:$Z$65536,4,0)) -> 馬光 | K16: =IF(I16="","",VLOOKUP(I16,[1]名單!$A$1:$Z$65536,2,0)) -> 林金生 | L16: 1121 | M16: =IF(L16="","",VLOOKUP(L16,[1]名單!$A$1:$Z$65536,4,0)) -> 大東 | N16: =IF(L16="","",VLOOKUP(L16,[1]名單!$A$1:$Z$65536,2,0)) -> 沈萬福
A17: A12 | B17: 0.37916667 | C17: 1103 | D17: =IF(C17="","",VLOOKUP(C17,[1]名單!$A$1:$Z$65536,4,0)) -> 元長 | E17: =IF(C17="","",VLOOKUP(C17,[1]名單!$A$1:$Z$65536,2,0)) -> 吳俊雄 | F17: 1111 | G17: =IF(F17="","",VLOOKUP(F17,[1]名單!$A$1:$Z$65536,4,0)) -> 馬光 | H17: =IF(F17="","",VLOOKUP(F17,[1]名單!$A$1:$Z$65536,2,0)) -> 張添丁 | I17: 1105 | J17: =IF(I17="","",VLOOKUP(I17,[1]名單!$A$1:$Z$65536,4,0)) -> 元長 | K17: =IF(I17="","",VLOOKUP(I17,[1]名單!$A$1:$Z$65536,2,0)) -> 黃寶元 | L17: 1120 | M17: =IF(L17="","",VLOOKUP(L17,[1]名單!$A$1:$Z$65536,4,0)) -> 大東 | N17: =IF(L17="","",VLOOKUP(L17,[1]名單!$A$1:$Z$65536,2,0)) -> 沈聰明
A18: A13 | B18: 0.38333333 | C18: 1104 | D18: =IF(C18="","",VLOOKUP(C18,[1]名單!$A$1:$Z$65536,4,0)) -> 元長 | E18: =IF(C18="","",VLOOKUP(C18,[1]名單!$A$1:$Z$65536,2,0)) -> 黃延輝 | F18: 1112 | G18: =IF(F18="","",VLOOKUP(F18,[1]名單!$A$1:$Z$65536,4,0)) -> 馬光 | H18: =IF(F18="","",VLOOKUP(F18,[1]名單!$A$1:$Z$65536,2,0)) -> 黃新營 | I18: 1106 | J18: =IF(I18="","",VLOOKUP(I18,[1]名單!$A$1:$Z$65536,4,0)) -> 元長 | K18: =IF(I18="","",VLOOKUP(I18,[1]名單!$A$1:$Z$65536,2,0)) -> 李槓 | M18: =IF(L18="","",VLOOKUP(L18,[1]名單!$A$1:$Z$65536,4,0)) | N18: =IF(L18="","",VLOOKUP(L18,[1]名單!$A$1:$Z$65536,2,0))
A19: A14 | B19: 0.3875 | C19: 1119 | D19: =IF(C19="","",VLOOKUP(C19,[1]名單!$A$1:$Z$65536,4,0)) -> 大東 | E19: =IF(C19="","",VLOOKUP(C19,[1]名單!$A$1:$Z$65536,2,0)) -> 沈瑞榮 | F19: 1114 | G19: =IF(F19="","",VLOOKUP(F19,[1]名單!$A$1:$Z$65536,4,0)) -> 馬光 | H19: =IF(F19="","",VLOOKUP(F19,[1]名單!$A$1:$Z$65536,2,0)) -> 黃順意 | I19: 1122 | J19: =IF(I19="","",VLOOKUP(I19,[1]名單!$A$1:$Z$65536,4,0)) -> 大東 | K19: =IF(I19="","",VLOOKUP(I19,[1]名單!$A$1:$Z$65536,2,0)) -> 張明國 | M19: =IF(L19="","",VLOOKUP(L19,[1]名單!$A$1:$Z$65536,4,0)) | N19: =IF(L19="","",VLOOKUP(L19,[1]名單!$A$1:$Z$65536,2,0))
A20: A15 | B20: 0.39166667 | C20: 1123 | D20: =IF(C20="","",VLOOKUP(C20,[1]名單!$A$1:$Z$65536,4,0)) -> 大東 | E20: =IF(C20="","",VLOOKUP(C20,[1]名單!$A$1:$Z$65536,2,0)) -> 江明山 | F20: 1113 | G20: =IF(F20="","",VLOOKUP(F20,[1]名單!$A$1:$Z$65536,4,0)) -> 馬光 | H20: =IF(F20="","",VLOOKUP(F20,[1]名單!$A$1:$Z$65536,2,0)) -> 張吉男 | I20: 1116 | J20: =IF(I20="","",VLOOKUP(I20,[1]名單!$A$1:$Z$65536,4,0)) -> 馬光 | K20: =IF(I20="","",VLOOKUP(I20,[1]名單!$A$1:$Z$65536,2,0)) -> 林鉦訓 | M20: =IF(L20="","",VLOOKUP(L20,[1]名單!$A$1:$Z$65536,4,0)) | N20: =IF(L20="","",VLOOKUP(L20,[1]名單!$A$1:$Z$65536,2,0))
A21: 5 | B21: 組別 | D21: =VLOOKUP(A21,[1]組別!$A$1:$AK$65536,2,0) -> 教師男子組 | P21: 裁判
A22: A16 | B22: 0.39583333 | C22: 1301 | D22: =IF(C22="","",VLOOKUP(C22,[1]名單!$A$1:$Z$65536,4,0)) -> 古坑 | E22: =IF(C22="","",VLOOKUP(C22,[1]名單!$A$1:$Z$65536,2,0)) -> 劉芳岑 | F22: 1307 | G22: =IF(F22="","",VLOOKUP(F22,[1]名單!$A$1:$Z$65536,4,0)) -> 重興 | H22: =IF(F22="","",VLOOKUP(F22,[1]名單!$A$1:$Z$65536,2,0)) -> 張嘉進 | I22: 1313 | J22: =IF(I22="","",VLOOKUP(I22,[1]名單!$A$1:$Z$65536,4,0)) -> 大東 | K22: =IF(I22="","",VLOOKUP(I22,[1]名單!$A$1:$Z$65536,2,0)) -> 黃建鴻 | L22: 1321 | M22: =IF(L22="","",VLOOKUP(L22,[1]名單!$A$1:$Z$65536,4,0)) -> 僑真 | N22: =IF(L22="","",VLOOKUP(L22,[1]名單!$A$1:$Z$65536,2,0)) -> 林景松
A23: A17 | B23: 0.4 | C23: 1302 | D23: =IF(C23="","",VLOOKUP(C23,[1]名單!$A$1:$Z$65536,4,0)) -> 古坑 | E23: =IF(C23="","",VLOOKUP(C23,[1]名單!$A$1:$Z$65536,2,0)) -> 沈有朋 | F23: 1308 | G23: =IF(F23="","",VLOOKUP(F23,[1]名單!$A$1:$Z$65536,4,0)) -> 重興 | H23: =IF(F23="","",VLOOKUP(F23,[1]名單!$A$1:$Z$65536,2,0)) -> 李明賜 | I23: 1314 | J23: =IF(I23="","",VLOOKUP(I23,[1]名單!$A$1:$Z$65536,4,0)) -> 大東 | K23: =IF(I23="","",VLOOKUP(I23,[1]名單!$A$1:$Z$65536,2,0)) -> 張鑫豪 | L23: 1322 | M23: =IF(L23="","",VLOOKUP(L23,[1]名單!$A$1:$Z$65536,4,0)) -> 僑真 | N23: =IF(L23="","",VLOOKUP(L23,[1]名單!$A$1:$Z$65536,2,0)) -> 郭智明
A24: A18 | B24: 0.40416667 | C24: 1303 | D24: =IF(C24="","",VLOOKUP(C24,[1]名單!$A$1:$Z$65536,4,0)) -> 古坑 | E24: =IF(C24="","",VLOOKUP(C24,[1]名單!$A$1:$Z$65536,2,0)) -> 陳純寅 | F24: 1309 | G24: =IF(F24="","",VLOOKUP(F24,[1]名單!$A$1:$Z$65536,4,0)) -> 重興 | H24: =IF(F24="","",VLOOKUP(F24,[1]名單!$A$1:$Z$65536,2,0)) -> 林本源 | I24: 1315 | J24: =IF(I24="","",VLOOKUP(I24,[1]名單!$A$1:$Z$65536,4,0)) -> 大東 | K24: =IF(I24="","",VLOOKUP(I24,[1]名單!$A$1:$Z$65536,2,0)) -> 李柏寰 | L24: 1323 | M24: =IF(L24="","",VLOOKUP(L24,[1]名單!$A$1:$Z$65536,4,0)) -> 僑真 | N24: =IF(L24="","",VLOOKUP(L24,[1]名單!$A$1:$Z$65536,2,0)) -> 黃天亮
A25: A19 | B25: 0.40833333 | C25: 1304 | D25: =IF(C25="","",VLOOKUP(C25,[1]名單!$A$1:$Z$65536,4,0)) -> 古坑 | E25: =IF(C25="","",VLOOKUP(C25,[1]名單!$A$1:$Z$65536,2,0)) -> 韓育仁 | F25: 1310 | G25: =IF(F25="","",VLOOKUP(F25,[1]名單!$A$1:$Z$65536,4,0)) -> 重興 | H25: =IF(F25="","",VLOOKUP(F25,[1]名單!$A$1:$Z$65536,2,0)) -> 林汶峰 | I25: 1316 | J25: =IF(I25="","",VLOOKUP(I25,[1]名單!$A$1:$Z$65536,4,0)) -> 大東 | K25: =IF(I25="","",VLOOKUP(I25,[1]名單!$A$1:$Z$65536,2,0)) -> 李顯宏 | L25: 1324 | M25: =IF(L25="","",VLOOKUP(L25,[1]名單!$A$1:$Z$65536,4,0)) -> 僑真 | N25: =IF(L25="","",VLOOKUP(L25,[1]名單!$A$1:$Z$65536,2,0)) -> 黃致傑
A26: A20 | B26: 0.4125 | C26: 1305 | D26: =IF(C26="","",VLOOKUP(C26,[1]名單!$A$1:$Z$65536,4,0)) -> 古坑 | E26: =IF(C26="","",VLOOKUP(C26,[1]名單!$A$1:$Z$65536,2,0)) -> 高國祥 | F26: 1311 | G26: =IF(F26="","",VLOOKUP(F26,[1]名單!$A$1:$Z$65536,4,0)) -> 重興 | H26: =IF(F26="","",VLOOKUP(F26,[1]名單!$A$1:$Z$65536,2,0)) -> 黃文志 | I26: 1317 | J26: =IF(I26="","",VLOOKUP(I26,[1]名單!$A$1:$Z$65536,4,0)) -> 大東 | K26: =IF(I26="","",VLOOKUP(I26,[1]名單!$A$1:$Z$65536,2,0)) -> 郭興昌 | L26: 1319 | M26: =IF(L26="","",VLOOKUP(L26,[1]名單!$A$1:$Z$65536,4,0)) -> 僑真 | N26: =IF(L26="","",VLOOKUP(L26,[1]名單!$A$1:$Z$65536,2,0)) -> 黃銘輝
A27: A21 | B27: 0.41666667 | C27: 1306 | D27: =IF(C27="","",VLOOKUP(C27,[1]名單!$A$1:$Z$65536,4,0)) -> 古坑 | E27: =IF(C27="","",VLOOKUP(C27,[1]名單!$A$1:$Z$65536,2,0)) -> 黃淑滿 | F27: 1328 | G27: =IF(F27="","",VLOOKUP(F27,[1]名單!$A$1:$Z$65536,4,0)) -> 中和 | H27: =IF(F27="","",VLOOKUP(F27,[1]名單!$A$1:$Z$65536,2,0)) -> 王晴琥 | I27: 1318 | J27: =IF(I27="","",VLOOKUP(I27,[1]名單!$A$1:$Z$65536,4,0)) -> 大東 | K27: =IF(I27="","",VLOOKUP(I27,[1]名單!$A$1:$Z$65536,2,0)) -> 鐘長振 | L27: 1329 | M27: =IF(L27="","",VLOOKUP(L27,[1]名單!$A$1:$Z$65536,4,0)) -> 中和 | N27: =IF(L27="","",VLOOKUP(L27,[1]名單!$A$1:$Z$65536,2,0)) -> 蔡志明
A28: A22 | B28: 0.42083333 | C28: 1325 | D28: =IF(C28="","",VLOOKUP(C28,[1]名單!$A$1:$Z$65536,4,0)) -> 明倫 | E28: =IF(C28="","",VLOOKUP(C28,[1]名單!$A$1:$Z$65536,2,0)) -> 蔡世宏 | F28: 1312 | G28: =IF(F28="","",VLOOKUP(F28,[1]名單!$A$1:$Z$65536,4,0)) -> 重興 | H28: =IF(F28="","",VLOOKUP(F28,[1]名單!$A$1:$Z$65536,2,0)) -> 黃建忠 | I28: 1332 | J28: =IF(L28="","",VLOOKUP(L28,[1]名單!$A$1:$Z$65536,4,0)) -> 僑真 | K28: =IF(L28="","",VLOOKUP(L28,[1]名單!$A$1:$Z$65536,2,0)) -> 劉威男 | L28: 1320
A29: A23 | B29: 0.425 | C29: 1326 | D29: =IF(C29="","",VLOOKUP(C29,[1]名單!$A$1:$Z$65536,4,0)) -> 中和 | E29: =IF(C29="","",VLOOKUP(C29,[1]名單!$A$1:$Z$65536,2,0)) -> 吳昌達 | F29: 1335 | G29: =IF(F29="","",VLOOKUP(F29,[1]名單!$A$1:$Z$65536,4,0)) -> 埤腳 | H29: =IF(F29="","",VLOOKUP(F29,[1]名單!$A$1:$Z$65536,2,0)) -> 王宏洲 | I29: 1333 | J29: =IF(I29="","",VLOOKUP(I29,[1]名單!$A$1:$Z$65536,4,0)) -> 林中 | K29: =IF(I29="","",VLOOKUP(I29,[1]名單!$A$1:$Z$65536,2,0)) -> 陳永錚 | L29: 1330 | M29: =IF(L29="","",VLOOKUP(L29,[1]名單!$A$1:$Z$65536,4,0)) -> 中和 | N29: =IF(L29="","",VLOOKUP(L29,[1]名單!$A$1:$Z$65536,2,0)) -> 陳茂雄
A30: A24 | B30: 0.42916667 | C30: 1327 | D30: =IF(C30="","",VLOOKUP(C30,[1]名單!$A$1:$Z$65536,4,0)) -> 中和 | E30: =IF(C30="","",VLOOKUP(C30,[1]名單!$A$1:$Z$65536,2,0)) -> 李聰輝 | F30: 1336 | G30: =IF(F30="","",VLOOKUP(F30,[1]名單!$A$1:$Z$65536,4,0)) -> 埤腳 | H30: =IF(F30="","",VLOOKUP(F30,[1]名單!$A$1:$Z$65536,2,0)) -> 陳大偉 | I30: 1331 | J30: =IF(I30="","",VLOOKUP(I30,[1]名單!$A$1:$Z$65536,4,0)) -> 溝壩 | K30: =IF(I30="","",VLOOKUP(I30,[1]名單!$A$1:$Z$65536,2,0)) -> 沈耿宏 | L30: 1337 | M30: =IF(L30="","",VLOOKUP(L30,[1]名單!$A$1:$Z$65536,4,0)) -> 宏崙 | N30: =IF(L30="","",VLOOKUP(L30,[1]名單!$A$1:$Z$65536,2,0)) -> 陳亮喨
A31: 4 | B31: 組別 | D31: =VLOOKUP(A31,[1]組別!$A$1:$AK$65536,2,0) -> 社會女子組 | P31: 裁判
A32: A25 | B32: 0.43333333 | C32: 5201 | D32: =IF(C32="","",VLOOKUP(C32,[1]名單!$A$1:$Z$65536,4,0)) -> 義峰 | E32: =IF(C32="","",VLOOKUP(C32,[1]名單!$A$1:$Z$65536,2,0)) -> 陳怡臻 | F32: 5207 | G32: =IF(F32="","",VLOOKUP(F32,[1]名單!$A$1:$Z$65536,4,0)) -> 林內 | H32: =IF(F32="","",VLOOKUP(F32,[1]名單!$A$1:$Z$65536,2,0)) -> 李慧珍 | I32: 5213 | J32: =IF(I32="","",VLOOKUP(I32,[1]名單!$A$1:$Z$65536,4,0)) -> 馬光 | K32: =IF(I32="","",VLOOKUP(I32,[1]名單!$A$1:$Z$65536,2,0)) -> 顏雅華 | L32: 5211 | M32: =IF(L32="","",VLOOKUP(L32,[1]名單!$A$1:$Z$65536,4,0)) -> 林內 | N32: =IF(L32="","",VLOOKUP(L32,[1]名單!$A$1:$Z$65536,2,0)) -> 許月惠
A33: A26 | B33: 0.4375 | C33: 5202 | D33: =IF(C33="","",VLOOKUP(C33,[1]名單!$A$1:$Z$65536,4,0)) -> 義峰 | E33: =IF(C33="","",VLOOKUP(C33,[1]名單!$A$1:$Z$65536,2,0)) -> 林玉雯 | F33: 5208 | G33: =IF(F33="","",VLOOKUP(F33,[1]名單!$A$1:$Z$65536,4,0)) -> 林內 | H33: =IF(F33="","",VLOOKUP(F33,[1]名單!$A$1:$Z$65536,2,0)) -> 蔡麗娟 | I33: 5214 | J33: =IF(I33="","",VLOOKUP(I33,[1]名單!$A$1:$Z$65536,4,0)) -> 馬光 | K33: =IF(I33="","",VLOOKUP(I33,[1]名單!$A$1:$Z$65536,2,0)) -> 謝月英 | L33: 5205 | M33: =IF(L33="","",VLOOKUP(L33,[1]名單!$A$1:$Z$65536,4,0)) -> 義峰 | N33: =IF(L33="","",VLOOKUP(L33,[1]名單!$A$1:$Z$65536,2,0)) -> 吳秋霞
A34: A27 | B34: 0.44166667 | C34: 5203 | D34: =IF(C34="","",VLOOKUP(C34,[1]名單!$A$1:$Z$65536,4,0)) -> 義峰 | E34: =IF(C34="","",VLOOKUP(C34,[1]名單!$A$1:$Z$65536,2,0)) -> 陳美菱 | F34: 5209 | G34: =IF(F34="","",VLOOKUP(F34,[1]名單!$A$1:$Z$65536,4,0)) -> 林內 | H34: =IF(F34="","",VLOOKUP(F34,[1]名單!$A$1:$Z$65536,2,0)) -> 丁雪娟 | I34: 5215 | J34: =IF(I34="","",VLOOKUP(I34,[1]名單!$A$1:$Z$65536,4,0)) -> 馬光 | K34: =IF(I34="","",VLOOKUP(I34,[1]名單!$A$1:$Z$65536,2,0)) -> 張三美 | M34: =IF(L34="","",VLOOKUP(L34,[1]名單!$A$1:$Z$65536,4,0)) | N34: =IF(L34="","",VLOOKUP(L34,[1]名單!$A$1:$Z$65536,2,0))
