Workbook

Sheet 0414
A1: 105年春季縣長盃木球賽賽程表
A2: 日 期 | C2: 105年4月14日（星期四）A場地
A3: 場次 | B3: 時間 | C3: 選 手 名 單
A4: 7 | B4: 組別 | D4: =VLOOKUP(A4,[1]組別!$A$1:$AK$65536,2,0) -> 高中男子組 | P4: 裁判
A5: A1 | B5: 0.35416667 | C5: 1401 | D5: =IF(C5="","",VLOOKUP(C5,[1]名單!$A$1:$Z$65536,4,0)) -> 斗六 | E5: =IF(C5="","",VLOOKUP(C5,[1]名單!$A$1:$Z$65536,2,0)) -> 吳承恩 | F5: 1421 | G5: =IF(F5="","",VLOOKUP(F5,[1]名單!$A$1:$Z$65536,4,0)) -> 虎尾 | H5: =IF(F5="","",VLOOKUP(F5,[1]名單!$A$1:$Z$65536,2,0)) -> 王詩傑 | I5: 1433 | J5: =IF(I5="","",VLOOKUP(I5,[1]名單!$A$1:$Z$65536,4,0)) -> 義峰 | K5: =IF(I5="","",VLOOKUP(I5,[1]名單!$A$1:$Z$65536,2,0)) -> 李懿修 | L5: 1407 | M5: =IF(L5="","",VLOOKUP(L5,[1]名單!$A$1:$Z$65536,4,0)) -> 土庫 | N5: =IF(L5="","",VLOOKUP(L5,[1]名單!$A$1:$Z$65536,2,0)) -> 吳政翰 | P5: =IF(O5="","",VLOOKUP(O5,[1]名單!$A$1:$Z$65536,2,0))
A6: A2 | B6: 0.35763889 | C6: 1402 | D6: =IF(C6="","",VLOOKUP(C6,[1]名單!$A$1:$Z$65536,4,0)) -> 斗六 | E6: =IF(C6="","",VLOOKUP(C6,[1]名單!$A$1:$Z$65536,2,0)) -> 張仕煦 | F6: 1422 | G6: =IF(F6="","",VLOOKUP(F6,[1]名單!$A$1:$Z$65536,4,0)) -> 虎尾 | H6: =IF(F6="","",VLOOKUP(F6,[1]名單!$A$1:$Z$65536,2,0)) -> 許博詠 | I6: 1434 | J6: =IF(I6="","",VLOOKUP(I6,[1]名單!$A$1:$Z$65536,4,0)) -> 義峰 | K6: =IF(I6="","",VLOOKUP(I6,[1]名單!$A$1:$Z$65536,2,0)) -> 沈育全 | L6: 1408 | M6: =IF(L6="","",VLOOKUP(L6,[1]名單!$A$1:$Z$65536,4,0)) -> 土庫 | N6: =IF(L6="","",VLOOKUP(L6,[1]名單!$A$1:$Z$65536,2,0)) -> 周明賢 | P6: =IF(O6="","",VLOOKUP(O6,[1]名單!$A$1:$Z$65536,2,0))
A7: A3 | B7: 0.36111111 | C7: 1403 | D7: =IF(C7="","",VLOOKUP(C7,[1]名單!$A$1:$Z$65536,4,0)) -> 斗六 | E7: =IF(C7="","",VLOOKUP(C7,[1]名單!$A$1:$Z$65536,2,0)) -> 張政義 | F7: 1419 | G7: =IF(F7="","",VLOOKUP(F7,[1]名單!$A$1:$Z$65536,4,0)) -> 虎尾 | H7: =IF(F7="","",VLOOKUP(F7,[1]名單!$A$1:$Z$65536,2,0)) -> 張仁豪 | I7: 1435 | J7: =IF(I7="","",VLOOKUP(I7,[1]名單!$A$1:$Z$65536,4,0)) -> 義峰 | K7: =IF(I7="","",VLOOKUP(I7,[1]名單!$A$1:$Z$65536,2,0)) -> 蔡育愷 | L7: 1409 | M7: =IF(L7="","",VLOOKUP(L7,[1]名單!$A$1:$Z$65536,4,0)) -> 土庫 | N7: =IF(L7="","",VLOOKUP(L7,[1]名單!$A$1:$Z$65536,2,0)) -> 徐榭鴻 | P7: =IF(O7="","",VLOOKUP(O7,[1]名單!$A$1:$Z$65536,2,0))
A8: A4 | B8: 0.36458333 | C8: 1404 | D8: =IF(C8="","",VLOOKUP(C8,[1]名單!$A$1:$Z$65536,4,0)) -> 斗六 | E8: =IF(C8="","",VLOOKUP(C8,[1]名單!$A$1:$Z$65536,2,0)) -> 高瑞駿 | F8: 1420 | G8: =IF(F8="","",VLOOKUP(F8,[1]名單!$A$1:$Z$65536,4,0)) -> 虎尾 | H8: =IF(F8="","",VLOOKUP(F8,[1]名單!$A$1:$Z$65536,2,0)) -> 張修誠 | I8: 1436 | J8: =IF(I8="","",VLOOKUP(I8,[1]名單!$A$1:$Z$65536,4,0)) -> 義峰 | K8: =IF(I8="","",VLOOKUP(I8,[1]名單!$A$1:$Z$65536,2,0)) -> 陳有朋 | L8: 1410 | M8: =IF(L8="","",VLOOKUP(L8,[1]名單!$A$1:$Z$65536,4,0)) -> 土庫 | N8: =IF(L8="","",VLOOKUP(L8,[1]名單!$A$1:$Z$65536,2,0)) -> 林承意 | P8: =IF(O8="","",VLOOKUP(O8,[1]名單!$A$1:$Z$65536,2,0))
A9: A5 | B9: 0.36805556 | C9: 1425 | D9: =IF(C9="","",VLOOKUP(C9,[1]名單!$A$1:$Z$65536,4,0)) -> 大成 | E9: =IF(C9="","",VLOOKUP(C9,[1]名單!$A$1:$Z$65536,2,0)) -> 吳睿安 | F9: 1431 | G9: =IF(F9="","",VLOOKUP(F9,[1]名單!$A$1:$Z$65536,4,0)) -> 義峰 | H9: =IF(F9="","",VLOOKUP(F9,[1]名單!$A$1:$Z$65536,2,0)) -> 吳思源 | I9: 1437 | J9: =IF(I9="","",VLOOKUP(I9,[1]名單!$A$1:$Z$65536,4,0)) -> 義峰 | K9: =IF(I9="","",VLOOKUP(I9,[1]名單!$A$1:$Z$65536,2,0)) -> 蔡博鈞 | L9: 1411 | M9: =IF(L9="","",VLOOKUP(L9,[1]名單!$A$1:$Z$65536,4,0)) -> 土庫 | N9: =IF(L9="","",VLOOKUP(L9,[1]名單!$A$1:$Z$65536,2,0)) -> 林瑋宸
A10: A6 | B10: 0.37152778 | C10: 1426 | D10: =IF(C10="","",VLOOKUP(C10,[1]名單!$A$1:$Z$65536,4,0)) -> 大成 | E10: =IF(C10="","",VLOOKUP(C10,[1]名單!$A$1:$Z$65536,2,0)) -> 張嘉興 | F10: 1432 | G10: =IF(F10="","",VLOOKUP(F10,[1]名單!$A$1:$Z$65536,4,0)) -> 義峰 | H10: =IF(F10="","",VLOOKUP(F10,[1]名單!$A$1:$Z$65536,2,0)) -> 張介皇 | I10: 1438 | J10: =IF(I10="","",VLOOKUP(I10,[1]名單!$A$1:$Z$65536,4,0)) -> 義峰 | K10: =IF(I10="","",VLOOKUP(I10,[1]名單!$A$1:$Z$65536,2,0)) -> 賴育源 | L10: 1412 | M10: =IF(L10="","",VLOOKUP(L10,[1]名單!$A$1:$Z$65536,4,0)) -> 土庫 | N10: =IF(L10="","",VLOOKUP(L10,[1]名單!$A$1:$Z$65536,2,0)) -> 黃國彥
A11: A7 | B11: 0.375 | C11: 1427 | D11: =IF(C11="","",VLOOKUP(C11,[1]名單!$A$1:$Z$65536,4,0)) -> 大成 | E11: =IF(C11="","",VLOOKUP(C11,[1]名單!$A$1:$Z$65536,2,0)) -> 林煌育 | F11: 1443 | G11: =IF(F11="","",VLOOKUP(F11,[1]名單!$A$1:$Z$65536,4,0)) -> 義峰 | H11: =IF(F11="","",VLOOKUP(F11,[1]名單!$A$1:$Z$65536,2,0)) -> 程敬祥* | I11: 1439 | J11: =IF(I11="","",VLOOKUP(I11,[1]名單!$A$1:$Z$65536,4,0)) -> 義峰 | K11: =IF(I11="","",VLOOKUP(I11,[1]名單!$A$1:$Z$65536,2,0)) -> 張茗豐 | L11: 1413 | M11: =IF(L11="","",VLOOKUP(L11,[1]名單!$A$1:$Z$65536,4,0)) -> 土庫 | N11: =IF(L11="","",VLOOKUP(L11,[1]名單!$A$1:$Z$65536,2,0)) -> 李瑞朋
A12: A8 | B12: 0.37847222 | C12: 1428 | D12: =IF(C12="","",VLOOKUP(C12,[1]名單!$A$1:$Z$65536,4,0)) -> 大成 | E12: =IF(C12="","",VLOOKUP(C12,[1]名單!$A$1:$Z$65536,2,0)) -> 賴奕辰 | F12: 1444 | G12: =IF(F12="","",VLOOKUP(F12,[1]名單!$A$1:$Z$65536,4,0)) -> 義峰 | H12: =IF(F12="","",VLOOKUP(F12,[1]名單!$A$1:$Z$65536,2,0)) -> 羅旭泓* | I12: 1440 | J12: =IF(I12="","",VLOOKUP(I12,[1]名單!$A$1:$Z$65536,4,0)) -> 義峰 | K12: =IF(I12="","",VLOOKUP(I12,[1]名單!$A$1:$Z$65536,2,0)) -> 李元倉 | L12: 1414 | M12: =IF(L12="","",VLOOKUP(L12,[1]名單!$A$1:$Z$65536,4,0)) -> 土庫 | N12: =IF(L12="","",VLOOKUP(L12,[1]名單!$A$1:$Z$65536,2,0)) -> 鐘仁傳
A13: A9 | B13: 0.38194444 | C13: 1429 | D13: =IF(C13="","",VLOOKUP(C13,[1]名單!$A$1:$Z$65536,4,0)) -> 大成 | E13: =IF(C13="","",VLOOKUP(C13,[1]名單!$A$1:$Z$65536,2,0)) -> 賴宏誠 | F13: 1445 | G13: =IF(F13="","",VLOOKUP(F13,[1]名單!$A$1:$Z$65536,4,0)) -> 義峰 | H13: =IF(F13="","",VLOOKUP(F13,[1]名單!$A$1:$Z$65536,2,0)) -> 張哲維* | I13: 1441 | J13: =IF(I13="","",VLOOKUP(I13,[1]名單!$A$1:$Z$65536,4,0)) -> 義峰 | K13: =IF(I13="","",VLOOKUP(I13,[1]名單!$A$1:$Z$65536,2,0)) -> 廖振良 | L13: 1442 | M13: =IF(L13="","",VLOOKUP(L13,[1]名單!$A$1:$Z$65536,4,0)) -> 義峰 | N13: =IF(L13="","",VLOOKUP(L13,[1]名單!$A$1:$Z$65536,2,0)) -> 廖郁善
A14: 13 | B14: 組別 | D14: =VLOOKUP(A14,[1]組別!$A$1:$AK$65536,2,0) -> 國小五年級男童組 | P14: 裁判
A15: A10 | B15: 0.38541667 | C15: 2201 | D15: =IF(C15="","",VLOOKUP(C15,[1]名單!$A$1:$Z$65536,4,0)) -> 溝壩 | E15: =IF(C15="","",VLOOKUP(C15,[1]名單!$A$1:$Z$65536,2,0)) -> 劉晉辰 | F15: 2235 | G15: =IF(F15="","",VLOOKUP(F15,[1]名單!$A$1:$Z$65536,4,0)) -> 石龜 | H15: =IF(F15="","",VLOOKUP(F15,[1]名單!$A$1:$Z$65536,2,0)) -> 高庭穆 | I15: 2258 | J15: =IF(I15="","",VLOOKUP(I15,[1]名單!$A$1:$Z$65536,4,0)) -> 宏崙 | K15: =IF(I15="","",VLOOKUP(I15,[1]名單!$A$1:$Z$65536,2,0)) -> 陳彥禔 | L15: 2224 | M15: =IF(L15="","",VLOOKUP(L15,[1]名單!$A$1:$Z$65536,4,0)) -> 林內 | N15: =IF(L15="","",VLOOKUP(L15,[1]名單!$A$1:$Z$65536,2,0)) -> 陳柏瑋 | P15: =IF(O15="","",VLOOKUP(O15,[1]名單!$A$1:$Z$65536,2,0))
A16: A11 | B16: 0.38888889 | C16: 2202 | D16: =IF(C16="","",VLOOKUP(C16,[1]名單!$A$1:$Z$65536,4,0)) -> 溝壩 | E16: =IF(C16="","",VLOOKUP(C16,[1]名單!$A$1:$Z$65536,2,0)) -> 呂家豪 | F16: 2231 | G16: =IF(F16="","",VLOOKUP(F16,[1]名單!$A$1:$Z$65536,4,0)) -> 石龜 | H16: =IF(F16="","",VLOOKUP(F16,[1]名單!$A$1:$Z$65536,2,0)) -> 劉立奎 | I16: 2259 | J16: =IF(I16="","",VLOOKUP(I16,[1]名單!$A$1:$Z$65536,4,0)) -> 宏崙 | K16: =IF(I16="","",VLOOKUP(I16,[1]名單!$A$1:$Z$65536,2,0)) -> 陳玟叡 | L16: 2219 | M16: =IF(L16="","",VLOOKUP(L16,[1]名單!$A$1:$Z$65536,4,0)) -> 林內 | N16: =IF(L16="","",VLOOKUP(L16,[1]名單!$A$1:$Z$65536,2,0)) -> 林其政 | P16: =IF(O16="","",VLOOKUP(O16,[1]名單!$A$1:$Z$65536,2,0))
A17: A12 | B17: 0.39236111 | C17: 2203 | D17: =IF(C17="","",VLOOKUP(C17,[1]名單!$A$1:$Z$65536,4,0)) -> 溝壩 | E17: =IF(C17="","",VLOOKUP(C17,[1]名單!$A$1:$Z$65536,2,0)) -> 廖峻宏 | F17: 2232 | G17: =IF(F17="","",VLOOKUP(F17,[1]名單!$A$1:$Z$65536,4,0)) -> 石龜 | H17: =IF(F17="","",VLOOKUP(F17,[1]名單!$A$1:$Z$65536,2,0)) -> 吳健賓 | I17: 2255 | J17: =IF(I17="","",VLOOKUP(I17,[1]名單!$A$1:$Z$65536,4,0)) -> 宏崙 | K17: =IF(I17="","",VLOOKUP(I17,[1]名單!$A$1:$Z$65536,2,0)) -> 吳致銓 | L17: 2220 | M17: =IF(L17="","",VLOOKUP(L17,[1]名單!$A$1:$Z$65536,4,0)) -> 林內 | N17: =IF(L17="","",VLOOKUP(L17,[1]名單!$A$1:$Z$65536,2,0)) -> 林正 | P17: =IF(O17="","",VLOOKUP(O17,[1]名單!$A$1:$Z$65536,2,0))
A18: A13 | B18: 0.39583333 | C18: 2204 | D18: =IF(C18="","",VLOOKUP(C18,[1]名單!$A$1:$Z$65536,4,0)) -> 溝壩 | E18: =IF(C18="","",VLOOKUP(C18,[1]名單!$A$1:$Z$65536,2,0)) -> 張勝皓 | F18: 2233 | G18: =IF(F18="","",VLOOKUP(F18,[1]名單!$A$1:$Z$65536,4,0)) -> 石龜 | H18: =IF(F18="","",VLOOKUP(F18,[1]名單!$A$1:$Z$65536,2,0)) -> 李宸廑 | I18: 2256 | J18: =IF(I18="","",VLOOKUP(I18,[1]名單!$A$1:$Z$65536,4,0)) -> 宏崙 | K18: =IF(I18="","",VLOOKUP(I18,[1]名單!$A$1:$Z$65536,2,0)) -> 陳子義 | L18: 2221 | M18: =IF(L18="","",VLOOKUP(L18,[1]名單!$A$1:$Z$65536,4,0)) -> 林內 | N18: =IF(L18="","",VLOOKUP(L18,[1]名單!$A$1:$Z$65536,2,0)) -> 蔡宜瑾 | P18: =IF(O18="","",VLOOKUP(O18,[1]名單!$A$1:$Z$65536,2,0))
A19: A14 | B19: 0.39930556 | C19: 2205 | D19: =IF(C19="","",VLOOKUP(C19,[1]名單!$A$1:$Z$65536,4,0)) -> 溝壩 | E19: =IF(C19="","",VLOOKUP(C19,[1]名單!$A$1:$Z$65536,2,0)) -> 明仁傑 | F19: 2234 | G19: =IF(F19="","",VLOOKUP(F19,[1]名單!$A$1:$Z$65536,4,0)) -> 石龜 | H19: =IF(F19="","",VLOOKUP(F19,[1]名單!$A$1:$Z$65536,2,0)) -> 李承祐 | I19: 2257 | J19: =IF(I19="","",VLOOKUP(I19,[1]名單!$A$1:$Z$65536,4,0)) -> 宏崙 | K19: =IF(I19="","",VLOOKUP(I19,[1]名單!$A$1:$Z$65536,2,0)) -> 陳彥宇 | L19: 2222 | M19: =IF(L19="","",VLOOKUP(L19,[1]名單!$A$1:$Z$65536,4,0)) -> 林內 | N19: =IF(L19="","",VLOOKUP(L19,[1]名單!$A$1:$Z$65536,2,0)) -> 許凱翔 | P19: =IF(O19="","",VLOOKUP(O19,[1]名單!$A$1:$Z$65536,2,0))
A20: A15 | B20: 0.40277778 | C20: 2206 | D20: =IF(C20="","",VLOOKUP(C20,[1]名單!$A$1:$Z$65536,4,0)) -> 溝壩 | E20: =IF(C20="","",VLOOKUP(C20,[1]名單!$A$1:$Z$65536,2,0)) -> 洪郁恩 | F20: 2240 | G20: =IF(F20="","",VLOOKUP(F20,[1]名單!$A$1:$Z$65536,4,0)) -> 石龜 | H20: =IF(F20="","",VLOOKUP(F20,[1]名單!$A$1:$Z$65536,2,0)) -> 黃柏維 | I20: 2217 | J20: =IF(I20="","",VLOOKUP(I20,[1]名單!$A$1:$Z$65536,4,0)) -> 石榴 | K20: =IF(I20="","",VLOOKUP(I20,[1]名單!$A$1:$Z$65536,2,0)) -> 陳敬淙 | L20: 2223 | M20: =IF(L20="","",VLOOKUP(L20,[1]名單!$A$1:$Z$65536,4,0)) -> 林內 | N20: =IF(L20="","",VLOOKUP(L20,[1]名單!$A$1:$Z$65536,2,0)) -> 郭建安 | P20: =IF(O20="","",VLOOKUP(O20,[1]名單!$A$1:$Z$65536,2,0))
A21: A16 | B21: 0.40625 | C21: 2207 | D21: =IF(C21="","",VLOOKUP(C21,[1]名單!$A$1:$Z$65536,4,0)) -> 石榴 | E21: =IF(C21="","",VLOOKUP(C21,[1]名單!$A$1:$Z$65536,2,0)) -> 劉勝助 | F21: 2241 | G21: =IF(F21="","",VLOOKUP(F21,[1]名單!$A$1:$Z$65536,4,0)) -> 石龜 | H21: =IF(F21="","",VLOOKUP(F21,[1]名單!$A$1:$Z$65536,2,0)) -> 黃雍晉 | I21: 2268 | J21: =IF(I21="","",VLOOKUP(I21,[1]名單!$A$1:$Z$65536,4,0)) -> 大同 | K21: =IF(I21="","",VLOOKUP(I21,[1]名單!$A$1:$Z$65536,2,0)) -> 鍾士雄 | L21: 2251 | M21: =IF(L21="","",VLOOKUP(L21,[1]名單!$A$1:$Z$65536,4,0)) -> 仁和 | N21: =IF(L21="","",VLOOKUP(L21,[1]名單!$A$1:$Z$65536,2,0)) -> 徐蜂益 | P21: =IF(O21="","",VLOOKUP(O21,[1]名單!$A$1:$Z$65536,2,0))
A22: A17 | B22: 0.40972222 | C22: 2208 | D22: =IF(C22="","",VLOOKUP(C22,[1]名單!$A$1:$Z$65536,4,0)) -> 石榴 | E22: =IF(C22="","",VLOOKUP(C22,[1]名單!$A$1:$Z$65536,2,0)) -> 林楷淯 | F22: 2237 | G22: =IF(F22="","",VLOOKUP(F22,[1]名單!$A$1:$Z$65536,4,0)) -> 石龜 | H22: =IF(F22="","",VLOOKUP(F22,[1]名單!$A$1:$Z$65536,2,0)) -> 葉韶桓 | I22: 2263 | J22: =IF(I22="","",VLOOKUP(I22,[1]名單!$A$1:$Z$65536,4,0)) -> 埤腳 | K22: =IF(I22="","",VLOOKUP(I22,[1]名單!$A$1:$Z$65536,2,0)) -> 陳萬銓 | L22: 2252 | M22: =IF(L22="","",VLOOKUP(L22,[1]名單!$A$1:$Z$65536,4,0)) -> 仁和 | N22: =IF(L22="","",VLOOKUP(L22,[1]名單!$A$1:$Z$65536,2,0)) -> 蔣翰承 | P22: =IF(O22="","",VLOOKUP(O22,[1]名單!$A$1:$Z$65536,2,0))
A23: A18 | B23: 0.41319444 | C23: 2209 | D23: =IF(C23="","",VLOOKUP(C23,[1]名單!$A$1:$Z$65536,4,0)) -> 石榴 | E23: =IF(C23="","",VLOOKUP(C23,[1]名單!$A$1:$Z$65536,2,0)) -> 蔡政傑 | F23: 2238 | G23: =IF(F23="","",VLOOKUP(F23,[1]名單!$A$1:$Z$65536,4,0)) -> 石龜 | H23: =IF(F23="","",VLOOKUP(F23,[1]名單!$A$1:$Z$65536,2,0)) -> 陳柏菡 | I23: 2262 | J23: =IF(I23="","",VLOOKUP(I23,[1]名單!$A$1:$Z$65536,4,0)) -> 埤腳 | K23: =IF(I23="","",VLOOKUP(I23,[1]名單!$A$1:$Z$65536,2,0)) -> 楊竣安 | L23: 2253 | M23: =IF(L23="","",VLOOKUP(L23,[1]名單!$A$1:$Z$65536,4,0)) -> 仁和 | N23: =IF(L23="","",VLOOKUP(L23,[1]名單!$A$1:$Z$65536,2,0)) -> 連哲賢
A24: A19 | B24: 0.41666667 | C24: 2210 | D24: =IF(C24="","",VLOOKUP(C24,[1]名單!$A$1:$Z$65536,4,0)) -> 石榴 | E24: =IF(C24="","",VLOOKUP(C24,[1]名單!$A$1:$Z$65536,2,0)) -> 蔡澄禧 | F24: 2239 | G24: =IF(F24="","",VLOOKUP(F24,[1]名單!$A$1:$Z$65536,4,0)) -> 石龜 | H24: =IF(F24="","",VLOOKUP(F24,[1]名單!$A$1:$Z$65536,2,0)) -> 陳科圳 | I24: 2285 | J24: =IF(I24="","",VLOOKUP(I24,[1]名單!$A$1:$Z$65536,4,0)) -> 埤腳 | K24: =IF(I24="","",VLOOKUP(I24,[1]名單!$A$1:$Z$65536,2,0)) -> 張俊彥 | L24: 2249 | M24: =IF(L24="","",VLOOKUP(L24,[1]名單!$A$1:$Z$65536,4,0)) -> 仁和 | N24: =IF(L24="","",VLOOKUP(L24,[1]名單!$A$1:$Z$65536,2,0)) -> 張彥琭
A25: A20 | B25: 0.42013889 | C25: 2211 | D25: =IF(C25="","",VLOOKUP(C25,[1]名單!$A$1:$Z$65536,4,0)) -> 石榴 | E25: =IF(C25="","",VLOOKUP(C25,[1]名單!$A$1:$Z$65536,2,0)) -> 鄭育信 | F25: 2246 | G25: =IF(F25="","",VLOOKUP(F25,[1]名單!$A$1:$Z$65536,4,0)) -> 僑真 | H25: =IF(F25="","",VLOOKUP(F25,[1]名單!$A$1:$Z$65536,2,0)) -> 林致耀 | I25: 2228 | J25: =IF(I25="","",VLOOKUP(I25,[1]名單!$A$1:$Z$65536,4,0)) -> 民生 | K25: =IF(I25="","",VLOOKUP(I25,[1]名單!$A$1:$Z$65536,2,0)) -> 郭宗祐 | L25: 2250 | M25: =IF(L25="","",VLOOKUP(L25,[1]名單!$A$1:$Z$65536,4,0)) -> 仁和 | N25: =IF(L25="","",VLOOKUP(L25,[1]名單!$A$1:$Z$65536,2,0)) -> 張紹憲
A26: A21 | B26: 0.42361111 | C26: 2212 | D26: =IF(C26="","",VLOOKUP(C26,[1]名單!$A$1:$Z$65536,4,0)) -> 石榴 | E26: =IF(C26="","",VLOOKUP(C26,[1]名單!$A$1:$Z$65536,2,0)) -> 黃俊瑋 | F26: 2247 | G26: =IF(F26="","",VLOOKUP(F26,[1]名單!$A$1:$Z$65536,4,0)) -> 僑真 | H26: =IF(F26="","",VLOOKUP(F26,[1]名單!$A$1:$Z$65536,2,0)) -> 歐昱銓 | I26: 2225 | J26: =IF(I26="","",VLOOKUP(I26,[1]名單!$A$1:$Z$65536,4,0)) -> 民生 | K26: =IF(I26="","",VLOOKUP(I26,[1]名單!$A$1:$Z$65536,2,0)) -> 林亮宇 | L26: 2267 | M26: =IF(L26="","",VLOOKUP(L26,[1]名單!$A$1:$Z$65536,4,0)) -> 大同 | N26: =IF(L26="","",VLOOKUP(L26,[1]名單!$A$1:$Z$65536,2,0)) -> 劉育劭
A27: A22 | B27: 0.42708333 | C27: 2213 | D27: =IF(C27="","",VLOOKUP(C27,[1]名單!$A$1:$Z$65536,4,0)) -> 石榴 | E27: =IF(C27="","",VLOOKUP(C27,[1]名單!$A$1:$Z$65536,2,0)) -> 廖丙富 | F27: 2248 | G27: =IF(F27="","",VLOOKUP(F27,[1]名單!$A$1:$Z$65536,4,0)) -> 僑真 | H27: =IF(F27="","",VLOOKUP(F27,[1]名單!$A$1:$Z$65536,2,0)) -> 沈郁凱 | I27: 2226 | J27: =IF(I27="","",VLOOKUP(I27,[1]名單!$A$1:$Z$65536,4,0)) -> 民生 | K27: =IF(I27="","",VLOOKUP(I27,[1]名單!$A$1:$Z$65536,2,0)) -> 洪振華 | L27: 2273 | M27: =IF(L27="","",VLOOKUP(L27,[1]名單!$A$1:$Z$65536,4,0)) -> 信義 | N27: =IF(L27="","",VLOOKUP(L27,[1]名單!$A$1:$Z$65536,2,0)) -> 吳哲穎
A28: A23 | B28: 0.43055556 | C28: 2214 | D28: =IF(C28="","",VLOOKUP(C28,[1]名單!$A$1:$Z$65536,4,0)) -> 石榴 | E28: =IF(C28="","",VLOOKUP(C28,[1]名單!$A$1:$Z$65536,2,0)) -> 張詠幀 | F28: 2243 | G28: =IF(F28="","",VLOOKUP(F28,[1]名單!$A$1:$Z$65536,4,0)) -> 僑真 | H28: =IF(F28="","",VLOOKUP(F28,[1]名單!$A$1:$Z$65536,2,0)) -> 張承禾 | I28: 2227 | J28: =IF(I28="","",VLOOKUP(I28,[1]名單!$A$1:$Z$65536,4,0)) -> 民生 | K28: =IF(I28="","",VLOOKUP(I28,[1]名單!$A$1:$Z$65536,2,0)) -> 賴昱熏 | L28: 2279 | M28: =IF(L28="","",VLOOKUP(L28,[1]名單!$A$1:$Z$65536,4,0)) -> 九芎 | N28: =IF(L28="","",VLOOKUP(L28,[1]名單!$A$1:$Z$65536,2,0)) -> 張哲維
A29: A24 | B29: 0.43402778 | C29: 2215 | D29: =IF(C29="","",VLOOKUP(C29,[1]名單!$A$1:$Z$65536,4,0)) -> 石榴 | E29: =IF(C29="","",VLOOKUP(C29,[1]名單!$A$1:$Z$65536,2,0)) -> 林子皓 | F29: 2244 | G29: =IF(F29="","",VLOOKUP(F29,[1]名單!$A$1:$Z$65536,4,0)) -> 僑真 | H29: =IF(F29="","",VLOOKUP(F29,[1]名單!$A$1:$Z$65536,2,0)) -> 張源昇 | I29: 2280 | J29: =IF(I29="","",VLOOKUP(I29,[1]名單!$A$1:$Z$65536,4,0)) -> 九芎 | K29: =IF(I29="","",VLOOKUP(I29,[1]名單!$A$1:$Z$65536,2,0)) -> 林名宏 | M29: =IF(L29="","",VLOOKUP(L29,[1]名單!$A$1:$Z$65536,4,0)) | N29: =IF(L29="","",VLOOKUP(L29,[1]名單!$A$1:$Z$65536,2,0))
A30: A25 | B30: 0.4375 | C30: 2216 | D30: =IF(C30="","",VLOOKUP(C30,[1]名單!$A$1:$Z$65536,4,0)) -> 石榴 | E30: =IF(C30="","",VLOOKUP(C30,[1]名單!$A$1:$Z$65536,2,0)) -> 陳國豪 | F30: 2245 | G30: =IF(F30="","",VLOOKUP(F30,[1]名單!$A$1:$Z$65536,4,0)) -> 僑真 | H30: =IF(F30="","",VLOOKUP(F30,[1]名單!$A$1:$Z$65536,2,0)) -> 徐瑋廷 | I30: 2274 | J30: =IF(I30="","",VLOOKUP(I30,[1]名單!$A$1:$Z$65536,4,0)) -> 信義 | K30: =IF(I30="","",VLOOKUP(I30,[1]名單!$A$1:$Z$65536,2,0)) -> 林春木 | M30: =IF(L30="","",VLOOKUP(L30,[1]名單!$A$1:$Z$65536,4,0)) | N30: =IF(L30="","",VLOOKUP(L30,[1]名單!$A$1:$Z$65536,2,0))
A31: 15 | B31: 組別 | D31: =VLOOKUP(A31,[1]組別!$A$1:$AK$65536,2,0) -> 國小四年級男童組 | P31: 裁判
A32: A26 | B32: 0.44097222 | C32: 2401 | D32: =IF(C32="","",VLOOKUP(C32,[1]名單!$A$1:$Z$65536,4,0)) -> 林內 | E32: =IF(C32="","",VLOOKUP(C32,[1]名單!$A$1:$Z$65536,2,0)) -> 林宗緯 | F32: 2407 | G32: =IF(F32="","",VLOOKUP(F32,[1]名單!$A$1:$Z$65536,4,0)) -> 九芎 | H32: =IF(F32="","",VLOOKUP(F32,[1]名單!$A$1:$Z$65536,2,0)) -> 曾韋齊 | I32: 2413 | J32: =IF(I32="","",VLOOKUP(I32,[1]名單!$A$1:$Z$65536,4,0)) -> 民生 | K32: =IF(I32="","",VLOOKUP(I32,[1]名單!$A$1:$Z$65536,2,0)) -> 張皓閔 | L32: 2437 | M32: =IF(L32="","",VLOOKUP(L32,[1]名單!$A$1:$Z$65536,4,0)) -> 大屯 | N32: =IF(L32="","",VLOOKUP(L32,[1]名單!$A$1:$Z$65536,2,0)) -> 張丞圳 | P32: =IF(O32="","",VLOOKUP(O32,[1]名單!$A$1:$Z$65536,2,0))
A33: A27 | B33: 0.44444444 | C33: 2402 | D33: =IF(C33="","",VLOOKUP(C33,[1]名單!$A$1:$Z$65536,4,0)) -> 林內 | E33: =IF(C33="","",VLOOKUP(C33,[1]名單!$A$1:$Z$65536,2,0)) -> 林庭毅 | F33: 2408 | G33: =IF(F33="","",VLOOKUP(F33,[1]名單!$A$1:$Z$65536,4,0)) -> 九芎 | H33: =IF(F33="","",VLOOKUP(F33,[1]名單!$A$1:$Z$65536,2,0)) -> 林和陞 | I33: 2414 | J33: =IF(I33="","",VLOOKUP(I33,[1]名單!$A$1:$Z$65536,4,0)) -> 民生 | K33: =IF(I33="","",VLOOKUP(I33,[1]名單!$A$1:$Z$65536,2,0)) -> 曾仁利 | L33: 2438 | M33: =IF(L33="","",VLOOKUP(L33,[1]名單!$A$1:$Z$65536,4,0)) -> 大屯 | N33: =IF(L33="","",VLOOKUP(L33,[1]名單!$A$1:$Z$65536,2,0)) -> 李善恩
A34: A28 | B34: 0.44791667 | C34: 2403 | D34: =IF(C34="","",VLOOKUP(C34,[1]名單!$A$1:$Z$65536,4,0)) -> 林內 | E34: =IF(C34="","",VLOOKUP(C34,[1]名單!$A$1:$Z$65536,2,0)) -> 薛仲均 | F34: 2409 | G34: =IF(F34="","",VLOOKUP(F34,[1]名單!$A$1:$Z$65536,4,0)) -> 九芎 | H34: =IF(F34="","",VLOOKUP(F34,[1]名單!$A$1:$Z$65536,2,0)) -> 林茗盛 | I34: 2415 | J34: =IF(I34="","",VLOOKUP(I34,[1]名單!$A$1:$Z$65536,4,0)) -> 民生 | K34: =IF(I34="","",VLOOKUP(I34,[1]名單!$A$1:$Z$65536,2,0)) -> 莊明錡 | L34: 2439 | M34: =IF(L34="","",VLOOKUP(L34,[1]名單!$A$1:$Z$65536,4,0)) -> 大屯 | N34: =IF(L34="","",VLOOKUP(L34,[1]名單!$A$1:$Z$65536,2,0)) -> 林念德
A35: A29 | B35: 0.45138889 | C35: 2404 | D35: =IF(C35="","",VLOOKUP(C35,[1]名單!$A$1:$Z$65536,4,0)) -> 林內 | E35: =IF(C35="","",VLOOKUP(C35,[1]名單!$A$1:$Z$65536,2,0)) -> 陳子瑋 | F35: 2410 | G35: =IF(F35="","",VLOOKUP(F35,[1]名單!$A$1:$Z$65536,4,0)) -> 九芎 | H35: =IF(F35="","",VLOOKUP(F35,[1]名單!$A$1:$Z$65536,2,0)) -> 蔡承儒 | I35: 2416 | J35: =IF(I35="","",VLOOKUP(I35,[1]名單!$A$1:$Z$65536,4,0)) -> 民生 | K35: =IF(I35="","",VLOOKUP(I35,[1]名單!$A$1:$Z$65536,2,0)) -> 蔡宗墿 | L35: 2440 | M35: =IF(L35="","",VLOOKUP(L35,[1]名單!$A$1:$Z$65536,4,0)) -> 大屯 | N35: =IF(L35="","",VLOOKUP(L35,[1]名單!$A$1:$Z$65536,2,0)) -> 翁健鋒
A36: A30 | B36: 0.45486111 | C36: 2405 | D36: =IF(C36="","",VLOOKUP(C36,[1]名單!$A$1:$Z$65536,4,0)) -> 林內 | E36: =IF(C36="","",VLOOKUP(C36,[1]名單!$A$1:$Z$65536,2,0)) -> 黃彥碩 | F36: 2411 | G36: =IF(F36="","",VLOOKUP(F36,[1]名單!$A$1:$Z$65536,4,0)) -> 九芎 | H36: =IF(F36="","",VLOOKUP(F36,[1]名單!$A$1:$Z$65536,2,0)) -> 謝昇博 | I36: 2424 | J36: =IF(I36="","",VLOOKUP(I36,[1]名單!$A$1:$Z$65536,4,0)) -> 僑真 | K36: =IF(I36="","",VLOOKUP(I36,[1]名單!$A$1:$Z$65536,2,0)) -> 黃威哲 | L36: 2441 | M36: =IF(L36="","",VLOOKUP(L36,[1]名單!$A$1:$Z$65536,4,0)) -> 大屯 | N36: =IF(L36="","",VLOOKUP(L36,[1]名單!$A$1:$Z$65536,2,0)) -> 許博飛
A37: A31 | B37: 0.45833333 | C37: 2406 | D37: =IF(C37="","",VLOOKUP(C37,[1]名單!$A$1:$Z$65536,4,0)) -> 林內 | E37: =IF(C37="","",VLOOKUP(C37,[1]名單!$A$1:$Z$65536,2,0)) -> 黃愷安 | F37: 2412 | G37: =IF(F37="","",VLOOKUP(F37,[1]名單!$A$1:$Z$65536,4,0)) -> 九芎 | H37: =IF(F37="","",VLOOKUP(F37,[1]名單!$A$1:$Z$65536,2,0)) -> 賴煜翔 | I37: 2425 | J37: =IF(I37="","",VLOOKUP(I37,[1]名單!$A$1:$Z$65536,4,0)) -> 僑真 | K37: =IF(I37="","",VLOOKUP(I37,[1]名單!$A$1:$Z$65536,2,0)) -> 廖溢宣 | L37: 2442 | M37: =IF(L37="","",VLOOKUP(L37,[1]名單!$A$1:$Z$65536,4,0)) -> 大屯 | N37: =IF(L37="","",VLOOKUP(L37,[1]名單!$A$1:$Z$65536,2,0)) -> 陳柏維
A38: A32 | B38: 0.46180556 | C38: 2443 | D38: =IF(C38="","",VLOOKUP(C38,[1]名單!$A$1:$Z$65536,4,0)) -> 埤腳 | E38: =IF(C38="","",VLOOKUP(C38,[1]名單!$A$1:$Z$65536,2,0)) -> 徐睿宏 | F38: 2449 | G38: =IF(F38="","",VLOOKUP(F38,[1]名單!$A$1:$Z$65536,4,0)) -> 宏崙 | H38: =IF(F38="","",VLOOKUP(F38,[1]名單!$A$1:$Z$65536,2,0)) -> 古承豫 | I38: 2417 | J38: =IF(I38="","",VLOOKUP(I38,[1]名單!$A$1:$Z$65536,4,0)) -> 民生 | K38: =IF(I38="","",VLOOKUP(I38,[1]名單!$A$1:$Z$65536,2,0)) -> 蘇照恩 | L38: 2427 | M38: =IF(L38="","",VLOOKUP(L38,[1]名單!$A$1:$Z$65536,4,0)) -> 僑真 | N38: =IF(L38="","",VLOOKUP(L38,[1]名單!$A$1:$Z$65536,2,0)) -> 蔡忠育
A39: A33 | B39: 0.46527778 | C39: 2444 | D39: =IF(C39="","",VLOOKUP(C39,[1]名單!$A$1:$Z$65536,4,0)) -> 埤腳 | E39: =IF(C39="","",VLOOKUP(C39,[1]名單!$A$1:$Z$65536,2,0)) -> 楊傑評 | F39: 2450 | G39: =IF(F39="","",VLOOKUP(F39,[1]名單!$A$1:$Z$65536,4,0)) -> 宏崙 | H39: =IF(F39="","",VLOOKUP(F39,[1]名單!$A$1:$Z$65536,2,0)) -> 吳冠宜 | I39: 2418 | J39: =IF(I39="","",VLOOKUP(I39,[1]名單!$A$1:$Z$65536,4,0)) -> 民生 | K39: =IF(I39="","",VLOOKUP(I39,[1]名單!$A$1:$Z$65536,2,0)) -> 詹士宏 | L39: 2428 | M39: =IF(L39="","",VLOOKUP(L39,[1]名單!$A$1:$Z$65536,4,0)) -> 僑真 | N39: =IF(L39="","",VLOOKUP(L39,[1]名單!$A$1:$Z$65536,2,0)) -> 蘇昱誠
A40: A34 | B40: 0.46875 | C40: 2445 | D40: =IF(C40="","",VLOOKUP(C40,[1]名單!$A$1:$Z$65536,4,0)) -> 埤腳 | E40: =IF(C40="","",VLOOKUP(C40,[1]名單!$A$1:$Z$65536,2,0)) -> 楊斌渝 | F40: 2451 | G40: =IF(F40="","",VLOOKUP(F40,[1]名單!$A$1:$Z$65536,4,0)) -> 宏崙 | H40: =IF(F40="","",VLOOKUP(F40,[1]名單!$A$1:$Z$65536,2,0)) -> 吳書維 | I40: 2466 | J40: =IF(I40="","",VLOOKUP(I40,[1]名單!$A$1:$Z$65536,4,0)) -> 信義 | K40: =IF(I40="","",VLOOKUP(I40,[1]名單!$A$1:$Z$65536,2,0)) -> 蔡秉佑 | L40: 2429 | M40: =IF(L40="","",VLOOKUP(L40,[1]名單!$A$1:$Z$65536,4,0)) -> 僑真 | N40: =IF(L40="","",VLOOKUP(L40,[1]名單!$A$1:$Z$65536,2,0)) -> 郭哲維
A41: A35 | B41: 0.47222222 | C41: 2446 | D41: =IF(C41="","",VLOOKUP(C41,[1]名單!$A$1:$Z$65536,4,0)) -> 埤腳 | E41: =IF(C41="","",VLOOKUP(C41,[1]名單!$A$1:$Z$65536,2,0)) -> 江惠宇 | F41: 2452 | G41: =IF(F41="","",VLOOKUP(F41,[1]名單!$A$1:$Z$65536,4,0)) -> 宏崙 | H41: =IF(F41="","",VLOOKUP(F41,[1]名單!$A$1:$Z$65536,2,0)) -> 吳浚瑋 | I41: 2467 | J41: =IF(I41="","",VLOOKUP(I41,[1]名單!$A$1:$Z$65536,4,0)) -> 信義 | K41: =IF(I41="","",VLOOKUP(I41,[1]名單!$A$1:$Z$65536,2,0)) -> 李冠綺 | L41: 2430 | M41: =IF(L41="","",VLOOKUP(L41,[1]名單!$A$1:$Z$65536,4,0)) -> 僑真 | N41: =IF(L41="","",VLOOKUP(L41,[1]名單!$A$1:$Z$65536,2,0)) -> 黃梓維
A42: A36 | B42: 0.47569444 | C42: 2447 | D42: =IF(C42="","",VLOOKUP(C42,[1]名單!$A$1:$Z$65536,4,0)) -> 埤腳 | E42: =IF(C42="","",VLOOKUP(C42,[1]名單!$A$1:$Z$65536,2,0)) -> 陳韋政 | F42: 2453 | G42: =IF(F42="","",VLOOKUP(F42,[1]名單!$A$1:$Z$65536,4,0)) -> 宏崙 | H42: =IF(F42="","",VLOOKUP(F42,[1]名單!$A$1:$Z$65536,2,0)) -> 林叢例 | I42: 2486 | J42: =IF(I42="","",VLOOKUP(I42,[1]名單!$A$1:$Z$65536,4,0)) -> 大同 | K42: =IF(I42="","",VLOOKUP(I42,[1]名單!$A$1:$Z$65536,2,0)) -> 林昊辰 | L42: 2426 | M42: =IF(L42="","",VLOOKUP(L42,[1]名單!$A$1:$Z$65536,4,0)) -> 僑真 | N42: =IF(L42="","",VLOOKUP(L42,[1]名單!$A$1:$Z$65536,2,0)) -> 林子恩
A43: A37 | B43: 0.47916667 | C43: 2433 | D43: =IF(C43="","",VLOOKUP(C43,[1]名單!$A$1:$Z$65536,4,0)) -> 仁和 | E43: =IF(C43="","",VLOOKUP(C43,[1]名單!$A$1:$Z$65536,2,0)) -> 張志全 | F43: 2461 | G43: =IF(F43="","",VLOOKUP(F43,[1]名單!$A$1:$Z$65536,4,0)) -> 信義 | H43: =IF(F43="","",VLOOKUP(F43,[1]名單!$A$1:$Z$65536,2,0)) -> 吳書瑋 | I43: 2485 | J43: =IF(I43="","",VLOOKUP(I43,[1]名單!$A$1:$Z$65536,4,0)) -> 大同 | K43: =IF(I43="","",VLOOKUP(I43,[1]名單!$A$1:$Z$65536,2,0)) -> 林宏展 | L43: 2419 | M43: =IF(L43="","",VLOOKUP(L43,[1]名單!$A$1:$Z$65536,4,0)) -> 僑真 | N43: =IF(L43="","",VLOOKUP(L43,[1]名單!$A$1:$Z$65536,2,0)) -> 劉賢哲
A44: A38 | B44: 0.48263889 | C44: 2434 | D44: =IF(C44="","",VLOOKUP(C44,[1]名單!$A$1:$Z$65536,4,0)) -> 仁和 | E44: =IF(C44="","",VLOOKUP(C44,[1]名單!$A$1:$Z$65536,2,0)) -> 黃俊源 | F44: 2462 | G44: =IF(F44="","",VLOOKUP(F44,[1]名單!$A$1:$Z$65536,4,0)) -> 信義 | H44: =IF(F44="","",VLOOKUP(F44,[1]名單!$A$1:$Z$65536,2,0)) -> 吳書銘 | I44: 2457 | J44: =IF(I44="","",VLOOKUP(I44,[1]名單!$A$1:$Z$65536,4,0)) -> 中和 | K44: =IF(I44="","",VLOOKUP(I44,[1]名單!$A$1:$Z$65536,2,0)) -> 林承侑 | L44: 2420 | M44: =IF(L44="","",VLOOKUP(L44,[1]名單!$A$1:$Z$65536,4,0)) -> 僑真 | N44: =IF(L44="","",VLOOKUP(L44,[1]名單!$A$1:$Z$65536,2,0)) -> 呂志朋
... A46: A40 | B46: 0.48958333 | C46: 2432 | D46: =IF(C46="","",VLOOKUP(C46,[1]名單!$A$1:$Z$65536,4,0)) -> 仁和 | E46: =IF(C46="","",VLOOKUP(C46,[1]名單!$A$1:$Z$65536,2,0)) -> 張家銓 | F46: 2464 | G46: =IF(F46="","",VLOOKUP(F46,[1]名單!$A$1:$Z$65536,4,0)) -> 信義 | H46: =IF(F46="","",VLOOKUP(F46,[1]名單!$A$1:$Z$65536,2,0)) -> 李冠頡 | I46: 2455 | J46: =IF(I46="","",VLOOKUP(I46,[1]名單!$A$1:$Z$65536,4,0)) -> 中和 | K46: =IF(I46="","",VLOOKUP(I46,[1]名單!$A$1:$Z$65536,2,0)) -> 林信宏 | L46: 2422 | M46: =IF(L46="","",VLOOKUP(L46,[1]名單!$A$1:$Z$65536,4,0)) -> 僑真 | N46: =IF(L46="","",VLOOKUP(L46,[1]名單!$A$1:$Z$65536,2,0)) -> 李宇恩
A47: A41 | B47: 0.49305556 | C47: 2479 | D47: =IF(C47="","",VLOOKUP(C47,[1]名單!$A$1:$Z$65536,4,0)) -> 中山 | E47: =IF(C47="","",VLOOKUP(C47,[1]名單!$A$1:$Z$65536,2,0)) -> 蘇泳竹 | F47: 2465 | G47: =IF(F47="","",VLOOKUP(F47,[1]名單!$A$1:$Z$65536,4,0)) -> 信義 | H47: =IF(F47="","",VLOOKUP(F47,[1]名單!$A$1:$Z$65536,2,0)) -> 沈展誼 | I47: 2456 | J47: =IF(I47="","",VLOOKUP(I47,[1]名單!$A$1:$Z$65536,4,0)) -> 中和 | K47: =IF(I47="","",VLOOKUP(I47,[1]名單!$A$1:$Z$65536,2,0)) -> 林冠宇 | M47: =IF(L47="","",VLOOKUP(L47,[1]名單!$A$1:$Z$65536,4,0)) | N47: =IF(L47="","",VLOOKUP(L47,[1]名單!$A$1:$Z$65536,2,0))
A48: A42 | B48: 0.49652778 | C48: 2473 | D48: =IF(C48="","",VLOOKUP(C48,[1]名單!$A$1:$Z$65536,4,0)) -> 溝壩 | E48: =IF(C48="","",VLOOKUP(C48,[1]名單!$A$1:$Z$65536,2,0)) -> 詹朝貴 | F48: 2459 | G48: =IF(F48="","",VLOOKUP(F48,[1]名單!$A$1:$Z$65536,4,0)) -> 中和 | H48: =IF(F48="","",VLOOKUP(F48,[1]名單!$A$1:$Z$65536,2,0)) -> 黃剴煒 | I48: 2423 | J48: =IF(I48="","",VLOOKUP(I48,[1]名單!$A$1:$Z$65536,4,0)) -> 僑真 | K48: =IF(I48="","",VLOOKUP(I48,[1]名單!$A$1:$Z$65536,2,0)) -> 沈品均 | M48: =IF(L48="","",VLOOKUP(L48,[1]名單!$A$1:$Z$65536,4,0)) | N48: =IF(L48="","",VLOOKUP(L48,[1]名單!$A$1:$Z$65536,2,0))
B49: 個人決賽 | P49: 裁判
A50: A43 | B50: 0.5625 | C50: 8049 | D50: =VLOOKUP(C50,[1]組別!$B$1:$AK$65536,2,0) -> 高女12 | F50: 8050 | G50: =VLOOKUP(F50,[1]組別!$B$1:$AK$65536,2,0) -> 高女11 | I50: 8051 | J50: =VLOOKUP(I50,[1]組別!$B$1:$AK$65536,2,0) -> 高女10 | L50: 8052 | M50: =VLOOKUP(L50,[1]組別!$B$1:$AK$65536,2,0) -> 高女9 | P50: =IF(O50="","",VLOOKUP(O50,[1]名單!$A$1:$Z$65536,2,0))
A51: A44 | B51: 0.56597222 | C51: 8053 | D51: =VLOOKUP(C51,[1]組別!$B$1:$AK$65536,2,0) -> 高女8 | F51: 8054 | G51: =VLOOKUP(F51,[1]組別!$B$1:$AK$65536,2,0) -> 高女7 | I51: 8055 | J51: =VLOOKUP(I51,[1]組別!$B$1:$AK$65536,2,0) -> 高女6 | L51: 8056 | M51: =VLOOKUP(L51,[1]組別!$B$1:$AK$65536,2,0) -> 高女5 | P51: =IF(O51="","",VLOOKUP(O51,[1]名單!$A$1:$Z$65536,2,0))
A52: A45 | B52: 0.56944444 | C52: 8057 | D52: =VLOOKUP(C52,[1]組別!$B$1:$AK$65536,2,0) -> 高女4 | F52: 8058 | G52: =VLOOKUP(F52,[1]組別!$B$1:$AK$65536,2,0) -> 高女3 | I52: 8059 | J52: =VLOOKUP(I52,[1]組別!$B$1:$AK$65536,2,0) -> 高女2 | L52: 8060 | M52: =VLOOKUP(L52,[1]組別!$B$1:$AK$65536,2,0) -> 高女1 | P52: =IF(O52="","",VLOOKUP(O52,[1]名單!$A$1:$Z$65536,2,0))
A53: A46 | B53: 0.57291667 | C53: 8094 | D53: =VLOOKUP(C53,[1]組別!$B$1:$AK$65536,2,0) -> 五女12 | F53: 8095 | G53: =VLOOKUP(F53,[1]組別!$B$1:$AK$65536,2,0) -> 五女11 | I53: 8096 | J53: =VLOOKUP(I53,[1]組別!$B$1:$AK$65536,2,0) -> 五女10 | L53: 8097 | M53: =VLOOKUP(L53,[1]組別!$B$1:$AK$65536,2,0) -> 五女9 | P53: =IF(O53="","",VLOOKUP(O53,[1]名單!$A$1:$Z$65536,2,0))
A54: A47 | B54: 0.57638889 | C54: 8098 | D54: =VLOOKUP(C54,[1]組別!$B$1:$AK$65536,2,0) -> 五女8 | F54: 8099 | G54: =VLOOKUP(F54,[1]組別!$B$1:$AK$65536,2,0) -> 五女7 | I54: 8100 | J54: =VLOOKUP(I54,[1]組別!$B$1:$AK$65536,2,0) -> 五女6 | L54: 8101 | M54: =VLOOKUP(L54,[1]組別!$B$1:$AK$65536,2,0) -> 五女5 | P54: =IF(O54="","",VLOOKUP(O54,[1]名單!$A$1:$Z$65536,2,0))
A55: A48 | B55: 0.57986111 | C55: 8102 | D55: =VLOOKUP(C55,[1]組別!$B$1:$AK$65536,2,0) -> 五女4 | F55: 8103 | G55: =VLOOKUP(F55,[1]組別!$B$1:$AK$65536,2,0) -> 五女3 | I55: 8104 | J55: =VLOOKUP(I55,[1]組別!$B$1:$AK$65536,2,0) -> 五女2 | L55: 8105 | M55: =VLOOKUP(L55,[1]組別!$B$1:$AK$65536,2,0) -> 五女1 | P55: =IF(O55="","",VLOOKUP(O55,[1]名單!$A$1:$Z$65536,2,0))
A56: A49 | B56: 0.58333333 | C56: 8109 | D56: =VLOOKUP(C56,[1]組別!$B$1:$AK$65536,2,0) -> 四女12 | F56: 8110 | G56: =VLOOKUP(F56,[1]組別!$B$1:$AK$65536,2,0) -> 四女11 | I56: 8111 | J56: =VLOOKUP(I56,[1]組別!$B$1:$AK$65536,2,0) -> 四女10 | L56: 8112 | M56: =VLOOKUP(L56,[1]組別!$B$1:$AK$65536,2,0) -> 四女9 | P56: =IF(O56="","",VLOOKUP(O56,[1]名單!$A$1:$Z$65536,2,0))
A57: A50 | B57: 0.58680556 | C57: 8113 | D57: =VLOOKUP(C57,[1]組別!$B$1:$AK$65536,2,0) -> 四女8 | F57: 8114 | G57: =VLOOKUP(F57,[1]組別!$B$1:$AK$65536,2,0) -> 四女7 | I57: 8115 | J57: =VLOOKUP(I57,[1]組別!$B$1:$AK$65536,2,0) -> 四女6 | L57: 8116 | M57: =VLOOKUP(L57,[1]組別!$B$1:$AK$65536,2,0) -> 四女5 | P57: =IF(O57="","",VLOOKUP(O57,[1]名單!$A$1:$Z$65536,2,0))
A58: A51 | B58: 0.59027778 | C58: 8117 | D58: =VLOOKUP(C58,[1]組別!$B$1:$AK$65536,2,0) -> 四女4 | F58: 8118 | G58: =VLOOKUP(F58,[1]組別!$B$1:$AK$65536,2,0) -> 四女3 | I58: 8119 | J58: =VLOOKUP(I58,[1]組別!$B$1:$AK$65536,2,0) -> 四女2 | L58: 8120 | M58: =VLOOKUP(L58,[1]組別!$B$1:$AK$65536,2,0) -> 四女1 | P58: =IF(O58="","",VLOOKUP(O58,[1]名單!$A$1:$Z$65536,2,0))
A62: =A1 -> 105年春季縣長盃木球賽賽程表
A63: 日 期 | C63: 105年4月14日（星期四）B場地
A64: 場次 | B64: 時間 | C64: 選 手 名 單
A65: 4 | B65: 組別 | D65: 機關首長組 | P65: 裁判
A66: B1 | B66: 0.33333333 | C66: 1001 | D66: =IF(C66="","",VLOOKUP(C66,[1]名單!$A$1:$Z$65536,4,0)) -> 校長 | E66: =IF(C66="","",VLOOKUP(C66,[1]名單!$A$1:$Z$65536,2,0)) -> 張祐盛 | F66: 1003 | G66: =IF(F66="","",VLOOKUP(F66,[1]名單!$A$1:$Z$65536,4,0)) -> 校長 | H66: =IF(F66="","",VLOOKUP(F66,[1]名單!$A$1:$Z$65536,2,0)) -> 許坤真 | I66: 1004 | J66: =IF(I66="","",VLOOKUP(I66,[1]名單!$A$1:$Z$65536,4,0)) -> 校長 | K66: =IF(I66="","",VLOOKUP(I66,[1]名單!$A$1:$Z$65536,2,0)) -> 陳錫欽 | L66: 1002 | M66: =IF(L66="","",VLOOKUP(L66,[1]名單!$A$1:$Z$65536,4,0)) -> 校長 | N66: =IF(L66="","",VLOOKUP(L66,[1]名單!$A$1:$Z$65536,2,0)) -> 黃育珍 | P66: =IF(O66="","",VLOOKUP(O66,[1]名單!$A$1:$Z$65536,2,0))
A67: 8 | B67: 組別 | D67: =VLOOKUP(A67,[1]組別!$A$1:$AK$65536,2,0) -> 高中女子組 | P67: 裁判
A68: B2 | B68: 0.35416667 | C68: 5401 | D68: =IF(C68="","",VLOOKUP(C68,[1]名單!$A$1:$Z$65536,4,0)) -> 土庫 | E68: =IF(C68="","",VLOOKUP(C68,[1]名單!$A$1:$Z$65536,2,0)) -> 吳惠婷 | F68: 5414 | G68: =IF(F68="","",VLOOKUP(F68,[1]名單!$A$1:$Z$65536,4,0)) -> 義峰 | H68: =IF(F68="","",VLOOKUP(F68,[1]名單!$A$1:$Z$65536,2,0)) -> 吳沈盈 | I68: 5408 | J68: =IF(I68="","",VLOOKUP(I68,[1]名單!$A$1:$Z$65536,4,0)) -> 土庫 | K68: =IF(I68="","",VLOOKUP(I68,[1]名單!$A$1:$Z$65536,2,0)) -> 吳雅婷 | L68: 5422 | M68: =IF(L68="","",VLOOKUP(L68,[1]名單!$A$1:$Z$65536,4,0)) -> 義峰 | N68: =IF(L68="","",VLOOKUP(L68,[1]名單!$A$1:$Z$65536,2,0)) -> 林惠婷 | P68: =IF(O68="","",VLOOKUP(O68,[1]名單!$A$1:$Z$65536,2,0))
A69: B3 | B69: 0.35763889 | C69: 5402 | D69: =IF(C69="","",VLOOKUP(C69,[1]名單!$A$1:$Z$65536,4,0)) -> 土庫 | E69: =IF(C69="","",VLOOKUP(C69,[1]名單!$A$1:$Z$65536,2,0)) -> 吳盈蓁 | F69: 5415 | G69: =IF(F69="","",VLOOKUP(F69,[1]名單!$A$1:$Z$65536,4,0)) -> 義峰 | H69: =IF(F69="","",VLOOKUP(F69,[1]名單!$A$1:$Z$65536,2,0)) -> 林佳瑩 | I69: 5409 | J69: =IF(I69="","",VLOOKUP(I69,[1]名單!$A$1:$Z$65536,4,0)) -> 土庫 | K69: =IF(I69="","",VLOOKUP(I69,[1]名單!$A$1:$Z$65536,2,0)) -> 廖嘉芸 | L69: 5423 | M69: =IF(L69="","",VLOOKUP(L69,[1]名單!$A$1:$Z$65536,4,0)) -> 義峰 | N69: =IF(L69="","",VLOOKUP(L69,[1]名單!$A$1:$Z$65536,2,0)) -> 鄭宛甄
A70: B4 | B70: 0.36111111 | C70: 5403 | D70: =IF(C70="","",VLOOKUP(C70,[1]名單!$A$1:$Z$65536,4,0)) -> 土庫 | E70: =IF(C70="","",VLOOKUP(C70,[1]名單!$A$1:$Z$65536,2,0)) -> 林紫玲 | F70: 5416 | G70: =IF(F70="","",VLOOKUP(F70,[1]名單!$A$1:$Z$65536,4,0)) -> 義峰 | H70: =IF(F70="","",VLOOKUP(F70,[1]名單!$A$1:$Z$65536,2,0)) -> 林羿岑 | I70: 5410 | J70: =IF(I70="","",VLOOKUP(I70,[1]名單!$A$1:$Z$65536,4,0)) -> 土庫 | K70: =IF(I70="","",VLOOKUP(I70,[1]名單!$A$1:$Z$65536,2,0)) -> 沈芳如 | L70: 5424 | M70: =IF(L70="","",VLOOKUP(L70,[1]名單!$A$1:$Z$65536,4,0)) -> 義峰 | N70: =IF(L70="","",VLOOKUP(L70,[1]名單!$A$1:$Z$65536,2,0)) -> 陳慧峮
A71: B5 | B71: 0.36458333 | C71: 5404 | D71: =IF(C71="","",VLOOKUP(C71,[1]名單!$A$1:$Z$65536,4,0)) -> 土庫 | E71: =IF(C71="","",VLOOKUP(C71,[1]名單!$A$1:$Z$65536,2,0)) -> 王佳琪 | F71: 5417 | G71: =IF(F71="","",VLOOKUP(F71,[1]名單!$A$1:$Z$65536,4,0)) -> 義峰 | H71: =IF(F71="","",VLOOKUP(F71,[1]名單!$A$1:$Z$65536,2,0)) -> 簡于瑄 | I71: 5411 | J71: =IF(I71="","",VLOOKUP(I71,[1]名單!$A$1:$Z$65536,4,0)) -> 土庫 | K71: =IF(I71="","",VLOOKUP(I71,[1]名單!$A$1:$Z$65536,2,0)) -> 熊怡惠 | L71: 5413 | M71: =IF(L71="","",VLOOKUP(L71,[1]名單!$A$1:$Z$65536,4,0)) -> 義峰 | N71: =IF(L71="","",VLOOKUP(L71,[1]名單!$A$1:$Z$65536,2,0)) -> 何宣宣
A72: B6 | B72: 0.36805556 | C72: 5405 | D72: =IF(C72="","",VLOOKUP(C72,[1]名單!$A$1:$Z$65536,4,0)) -> 土庫 | E72: =IF(C72="","",VLOOKUP(C72,[1]名單!$A$1:$Z$65536,2,0)) -> 陳芷彤 | F72: 5418 | G72: =IF(F72="","",VLOOKUP(F72,[1]名單!$A$1:$Z$65536,4,0)) -> 義峰 | H72: =IF(F72="","",VLOOKUP(F72,[1]名單!$A$1:$Z$65536,2,0)) -> 許毓庭 | I72: 5406 | J72: =IF(I72="","",VLOOKUP(I72,[1]名單!$A$1:$Z$65536,4,0)) -> 土庫 | K72: =IF(I72="","",VLOOKUP(I72,[1]名單!$A$1:$Z$65536,2,0)) -> 陳鈺萱 | L72: 5420 | M72: =IF(L72="","",VLOOKUP(L72,[1]名單!$A$1:$Z$65536,4,0)) -> 義峰 | N72: =IF(L72="","",VLOOKUP(L72,[1]名單!$A$1:$Z$65536,2,0)) -> 戴邑媚
A73: B7 | B73: 0.37152778 | C73: 5425 | D73: =IF(C73="","",VLOOKUP(C73,[1]名單!$A$1:$Z$65536,4,0)) -> 西螺 | E73: =IF(C73="","",VLOOKUP(C73,[1]名單!$A$1:$Z$65536,2,0)) -> 鄭鈺潔 | F73: 5419 | G73: =IF(F73="","",VLOOKUP(F73,[1]名單!$A$1:$Z$65536,4,0)) -> 義峰 | H73: =IF(F73="","",VLOOKUP(F73,[1]名單!$A$1:$Z$65536,2,0)) -> 張雅茜 | I73: 5407 | J73: =IF(I73="","",VLOOKUP(I73,[1]名單!$A$1:$Z$65536,4,0)) -> 土庫 | K73: =IF(I73="","",VLOOKUP(I73,[1]名單!$A$1:$Z$65536,2,0)) -> 吳佳瓴 | L73: 5421 | M73: =IF(L73="","",VLOOKUP(L73,[1]名單!$A$1:$Z$65536,4,0)) -> 義峰 | N73: =IF(L73="","",VLOOKUP(L73,[1]名單!$A$1:$Z$65536,2,0)) -> 李欣潔
A74: 14 | B74: 組別 | D74: =VLOOKUP(A74,[1]組別!$A$1:$AK$65536,2,0) -> 國小五年級女童組 | P74: 裁判
A75: B8 | B75: 0.375 | C75: 6001 | D75: =IF(C75="","",VLOOKUP(C75,[1]名單!$A$1:$Z$65536,4,0)) -> 溝壩 | E75: =IF(C75="","",VLOOKUP(C75,[1]名單!$A$1:$Z$65536,2,0)) -> 廖佳容 | F75: 6055 | G75: =IF(F75="","",VLOOKUP(F75,[1]名單!$A$1:$Z$65536,4,0)) -> 石龜 | H75: =IF(F75="","",VLOOKUP(F75,[1]名單!$A$1:$Z$65536,2,0)) -> 林惠茹 | I75: 6061 | J75: =IF(I75="","",VLOOKUP(I75,[1]名單!$A$1:$Z$65536,4,0)) -> 僑真 | K75: =IF(I75="","",VLOOKUP(I75,[1]名單!$A$1:$Z$65536,2,0)) -> 江詠綺 | L75: 6047 | M75: =IF(L75="","",VLOOKUP(L75,[1]名單!$A$1:$Z$65536,4,0)) -> 民生 | N75: =IF(L75="","",VLOOKUP(L75,[1]名單!$A$1:$Z$65536,2,0)) -> 鄭雅珮 | P75: =IF(O75="","",VLOOKUP(O75,[1]名單!$A$1:$Z$65536,2,0))
A76: B9 | B76: 0.37847222 | C76: 6002 | D76: =IF(C76="","",VLOOKUP(C76,[1]名單!$A$1:$Z$65536,4,0)) -> 溝壩 | E76: =IF(C76="","",VLOOKUP(C76,[1]名單!$A$1:$Z$65536,2,0)) -> 廖勻翎 | F76: 6056 | G76: =IF(F76="","",VLOOKUP(F76,[1]名單!$A$1:$Z$65536,4,0)) -> 石龜 | H76: =IF(F76="","",VLOOKUP(F76,[1]名單!$A$1:$Z$65536,2,0)) -> 鄭美雪 | I76: 6062 | J76: =IF(I76="","",VLOOKUP(I76,[1]名單!$A$1:$Z$65536,4,0)) -> 僑真 | K76: =IF(I76="","",VLOOKUP(I76,[1]名單!$A$1:$Z$65536,2,0)) -> 沈家瑜 | L76: 6048 | M76: =IF(L76="","",VLOOKUP(L76,[1]名單!$A$1:$Z$65536,4,0)) -> 民生 | N76: =IF(L76="","",VLOOKUP(L76,[1]名單!$A$1:$Z$65536,2,0)) -> 黃盈芳 | P76: =IF(O76="","",VLOOKUP(O76,[1]名單!$A$1:$Z$65536,2,0))
A77: B10 | B77: 0.38194444 | C77: 6003 | D77: =IF(C77="","",VLOOKUP(C77,[1]名單!$A$1:$Z$65536,4,0)) -> 溝壩 | E77: =IF(C77="","",VLOOKUP(C77,[1]名單!$A$1:$Z$65536,2,0)) -> 張貽茜 | F77: 6049 | G77: =IF(F77="","",VLOOKUP(F77,[1]名單!$A$1:$Z$65536,4,0)) -> 石龜 | H77: =IF(F77="","",VLOOKUP(F77,[1]名單!$A$1:$Z$65536,2,0)) -> 廖翊岑 | I77: 6063 | J77: =IF(I77="","",VLOOKUP(I77,[1]名單!$A$1:$Z$65536,4,0)) -> 僑真 | K77: =IF(I77="","",VLOOKUP(I77,[1]名單!$A$1:$Z$65536,2,0)) -> 游淑瑜 | L77: 6043 | M77: =IF(L77="","",VLOOKUP(L77,[1]名單!$A$1:$Z$65536,4,0)) -> 民生 | N77: =IF(L77="","",VLOOKUP(L77,[1]名單!$A$1:$Z$65536,2,0)) -> 吳玉雲
A78: B11 | B78: 0.38541667 | C78: 6004 | D78: =IF(C78="","",VLOOKUP(C78,[1]名單!$A$1:$Z$65536,4,0)) -> 溝壩 | E78: =IF(C78="","",VLOOKUP(C78,[1]名單!$A$1:$Z$65536,2,0)) -> 蕭翊君 | F78: 6050 | G78: =IF(F78="","",VLOOKUP(F78,[1]名單!$A$1:$Z$65536,4,0)) -> 石龜 | H78: =IF(F78="","",VLOOKUP(F78,[1]名單!$A$1:$Z$65536,2,0)) -> 蔡依庭 | I78: 6064 | J78: =IF(I78="","",VLOOKUP(I78,[1]名單!$A$1:$Z$65536,4,0)) -> 僑真 | K78: =IF(I78="","",VLOOKUP(I78,[1]名單!$A$1:$Z$65536,2,0)) -> 蘇郁庭 | L78: 6044 | M78: =IF(L78="","",VLOOKUP(L78,[1]名單!$A$1:$Z$65536,4,0)) -> 民生 | N78: =IF(L78="","",VLOOKUP(L78,[1]名單!$A$1:$Z$65536,2,0)) -> 吳睄褕
A79: B12 | B79: 0.38888889 | C79: 6005 | D79: =IF(C79="","",VLOOKUP(C79,[1]名單!$A$1:$Z$65536,4,0)) -> 溝壩 | E79: =IF(C79="","",VLOOKUP(C79,[1]名單!$A$1:$Z$65536,2,0)) -> 郭佳曄 | F79: 6051 | G79: =IF(F79="","",VLOOKUP(F79,[1]名單!$A$1:$Z$65536,4,0)) -> 石龜 | H79: =IF(F79="","",VLOOKUP(F79,[1]名單!$A$1:$Z$65536,2,0)) -> 薛菀琳 | I79: 6065 | J79: =IF(I79="","",VLOOKUP(I79,[1]名單!$A$1:$Z$65536,4,0)) -> 僑真 | K79: =IF(I79="","",VLOOKUP(I79,[1]名單!$A$1:$Z$65536,2,0)) -> 陳芊豫 | L79: 6045 | M79: =IF(L79="","",VLOOKUP(L79,[1]名單!$A$1:$Z$65536,4,0)) -> 民生 | N79: =IF(L79="","",VLOOKUP(L79,[1]名單!$A$1:$Z$65536,2,0)) -> 蔡亦晴
A80: B13 | B80: 0.39236111 | C80: 6006 | D80: =IF(C80="","",VLOOKUP(C80,[1]名單!$A$1:$Z$65536,4,0)) -> 溝壩 | E80: =IF(C80="","",VLOOKUP(C80,[1]名單!$A$1:$Z$65536,2,0)) -> 陳畇緁 | F80: 6052 | G80: =IF(F80="","",VLOOKUP(F80,[1]名單!$A$1:$Z$65536,4,0)) -> 石龜 | H80: =IF(F80="","",VLOOKUP(F80,[1]名單!$A$1:$Z$65536,2,0)) -> 黃佩珊 | I80: 6067 | J80: =IF(I80="","",VLOOKUP(I80,[1]名單!$A$1:$Z$65536,4,0)) -> 宏崙 | K80: =IF(I80="","",VLOOKUP(I80,[1]名單!$A$1:$Z$65536,2,0)) -> 周品馨 | L80: 6046 | M80: =IF(L80="","",VLOOKUP(L80,[1]名單!$A$1:$Z$65536,4,0)) -> 民生 | N80: =IF(L80="","",VLOOKUP(L80,[1]名單!$A$1:$Z$65536,2,0)) -> 詹婉婷
A81: B14 | B81: 0.39583333 | C81: 6007 | D81: =IF(C81="","",VLOOKUP(C81,[1]名單!$A$1:$Z$65536,4,0)) -> 石榴 | E81: =IF(C81="","",VLOOKUP(C81,[1]名單!$A$1:$Z$65536,2,0)) -> 傅欣婷 | F81: 6053 | G81: =IF(F81="","",VLOOKUP(F81,[1]名單!$A$1:$Z$65536,4,0)) -> 石龜 | H81: =IF(F81="","",VLOOKUP(F81,[1]名單!$A$1:$Z$65536,2,0)) -> 黃小娟 | I81: 6068 | J81: =IF(I81="","",VLOOKUP(I81,[1]名單!$A$1:$Z$65536,4,0)) -> 宏崙 | K81: =IF(I81="","",VLOOKUP(I81,[1]名單!$A$1:$Z$65536,2,0)) -> 周文心 | L81: 6028 | M81: =IF(L81="","",VLOOKUP(L81,[1]名單!$A$1:$Z$65536,4,0)) -> 林內 | N81: =IF(L81="","",VLOOKUP(L81,[1]名單!$A$1:$Z$65536,2,0)) -> 葉家妤
A82: B15 | B82: 0.39930556 | C82: 6008 | D82: =IF(C82="","",VLOOKUP(C82,[1]名單!$A$1:$Z$65536,4,0)) -> 石榴 | E82: =IF(C82="","",VLOOKUP(C82,[1]名單!$A$1:$Z$65536,2,0)) -> 劉思妤 | F82: 6054 | G82: =IF(F82="","",VLOOKUP(F82,[1]名單!$A$1:$Z$65536,4,0)) -> 石龜 | H82: =IF(F82="","",VLOOKUP(F82,[1]名單!$A$1:$Z$65536,2,0)) -> 黃郁晴 | I82: 6069 | J82: =IF(I82="","",VLOOKUP(I82,[1]名單!$A$1:$Z$65536,4,0)) -> 宏崙 | K82: =IF(I82="","",VLOOKUP(I82,[1]名單!$A$1:$Z$65536,2,0)) -> 李宜柔 | L82: 6029 | M82: =IF(L82="","",VLOOKUP(L82,[1]名單!$A$1:$Z$65536,4,0)) -> 林內 | N82: =IF(L82="","",VLOOKUP(L82,[1]名單!$A$1:$Z$65536,2,0)) -> 詹喬茵
A83: B16 | B83: 0.40277778 | C83: 6009 | D83: =IF(C83="","",VLOOKUP(C83,[1]名單!$A$1:$Z$65536,4,0)) -> 石榴 | E83: =IF(C83="","",VLOOKUP(C83,[1]名單!$A$1:$Z$65536,2,0)) -> 張燕橋 | F83: 6037 | G83: =IF(F83="","",VLOOKUP(F83,[1]名單!$A$1:$Z$65536,4,0)) -> 九芎 | H83: =IF(F83="","",VLOOKUP(F83,[1]名單!$A$1:$Z$65536,2,0)) -> 張育甄 | I83: 6070 | J83: =IF(I83="","",VLOOKUP(I83,[1]名單!$A$1:$Z$65536,4,0)) -> 宏崙 | K83: =IF(I83="","",VLOOKUP(I83,[1]名單!$A$1:$Z$65536,2,0)) -> 林盈君 | L83: 6021 | M83: =IF(L83="","",VLOOKUP(L83,[1]名單!$A$1:$Z$65536,4,0)) -> 林內 | N83: =IF(L83="","",VLOOKUP(L83,[1]名單!$A$1:$Z$65536,2,0)) -> 張姿婷
A84: B17 | B84: 0.40625 | C84: 6010 | D84: =IF(C84="","",VLOOKUP(C84,[1]名單!$A$1:$Z$65536,4,0)) -> 石榴 | E84: =IF(C84="","",VLOOKUP(C84,[1]名單!$A$1:$Z$65536,2,0)) -> 張育瑄 | F84: 6038 | G84: =IF(F84="","",VLOOKUP(F84,[1]名單!$A$1:$Z$65536,4,0)) -> 九芎 | H84: =IF(F84="","",VLOOKUP(F84,[1]名單!$A$1:$Z$65536,2,0)) -> 李昱姍 | I84: 6071 | J84: =IF(I84="","",VLOOKUP(I84,[1]名單!$A$1:$Z$65536,4,0)) -> 宏崙 | K84: =IF(I84="","",VLOOKUP(I84,[1]名單!$A$1:$Z$65536,2,0)) -> 楊培玉 | L84: 6022 | M84: =IF(L84="","",VLOOKUP(L84,[1]名單!$A$1:$Z$65536,4,0)) -> 林內 | N84: =IF(L84="","",VLOOKUP(L84,[1]名單!$A$1:$Z$65536,2,0)) -> 陳彥伶
A85: B18 | B85: 0.40972222 | C85: 6011 | D85: =IF(C85="","",VLOOKUP(C85,[1]名單!$A$1:$Z$65536,4,0)) -> 石榴 | E85: =IF(C85="","",VLOOKUP(C85,[1]名單!$A$1:$Z$65536,2,0)) -> 湯謹瑀 | F85: 6039 | G85: =IF(F85="","",VLOOKUP(F85,[1]名單!$A$1:$Z$65536,4,0)) -> 九芎 | H85: =IF(F85="","",VLOOKUP(F85,[1]名單!$A$1:$Z$65536,2,0)) -> 楊瑩瑩 | I85: 6072 | J85: =IF(I85="","",VLOOKUP(I85,[1]名單!$A$1:$Z$65536,4,0)) -> 宏崙 | K85: =IF(I85="","",VLOOKUP(I85,[1]名單!$A$1:$Z$65536,2,0)) -> 陳慈昕 | L85: 6023 | M85: =IF(L85="","",VLOOKUP(L85,[1]名單!$A$1:$Z$65536,4,0)) -> 林內 | N85: =IF(L85="","",VLOOKUP(L85,[1]名單!$A$1:$Z$65536,2,0)) -> 陳慧倫
A86: B19 | B86: 0.41319444 | C86: 6012 | D86: =IF(C86="","",VLOOKUP(C86,[1]名單!$A$1:$Z$65536,4,0)) -> 石榴 | E86: =IF(C86="","",VLOOKUP(C86,[1]名單!$A$1:$Z$65536,2,0)) -> 蕭淨涵 | F86: 6040 | G86: =IF(F86="","",VLOOKUP(F86,[1]名單!$A$1:$Z$65536,4,0)) -> 九芎 | H86: =IF(F86="","",VLOOKUP(F86,[1]名單!$A$1:$Z$65536,2,0)) -> 石宜絃 | I86: 6079 | J86: =IF(I86="","",VLOOKUP(I86,[1]名單!$A$1:$Z$65536,4,0)) -> 中和 | K86: =IF(I86="","",VLOOKUP(I86,[1]名單!$A$1:$Z$65536,2,0)) -> 李佩芬 | L86: 6024 | M86: =IF(L86="","",VLOOKUP(L86,[1]名單!$A$1:$Z$65536,4,0)) -> 林內 | N86: =IF(L86="","",VLOOKUP(L86,[1]名單!$A$1:$Z$65536,2,0)) -> 陳郁如
A87: B20 | B87: 0.41666667 | C87: 6013 | D87: =IF(C87="","",VLOOKUP(C87,[1]名單!$A$1:$Z$65536,4,0)) -> 石榴 | E87: =IF(C87="","",VLOOKUP(C87,[1]名單!$A$1:$Z$65536,2,0)) -> 侯曉月 | F87: 6041 | G87: =IF(F87="","",VLOOKUP(F87,[1]名單!$A$1:$Z$65536,4,0)) -> 九芎 | H87: =IF(F87="","",VLOOKUP(F87,[1]名單!$A$1:$Z$65536,2,0)) -> 紀惠心 | I87: 6080 | J87: =IF(I87="","",VLOOKUP(I87,[1]名單!$A$1:$Z$65536,4,0)) -> 中和 | K87: =IF(I87="","",VLOOKUP(I87,[1]名單!$A$1:$Z$65536,2,0)) -> 林姵妤 | L87: 6025 | M87: =IF(L87="","",VLOOKUP(L87,[1]名單!$A$1:$Z$65536,4,0)) -> 林內 | N87: =IF(L87="","",VLOOKUP(L87,[1]名單!$A$1:$Z$65536,2,0)) -> 李屏儒
A88: B21 | B88: 0.42013889 | C88: 6014 | D88: =IF(C88="","",VLOOKUP(C88,[1]名單!$A$1:$Z$65536,4,0)) -> 石榴 | E88: =IF(C88="","",VLOOKUP(C88,[1]名單!$A$1:$Z$65536,2,0)) -> 吳欣倪 | F88: 6042 | G88: =IF(F88="","",VLOOKUP(F88,[1]名單!$A$1:$Z$65536,4,0)) -> 九芎 | H88: =IF(F88="","",VLOOKUP(F88,[1]名單!$A$1:$Z$65536,2,0)) -> 蔡謹伃 | I88: 6081 | J88: =IF(I88="","",VLOOKUP(I88,[1]名單!$A$1:$Z$65536,4,0)) -> 中和 | K88: =IF(I88="","",VLOOKUP(I88,[1]名單!$A$1:$Z$65536,2,0)) -> 林巧陵 | L88: 6026 | M88: =IF(L88="","",VLOOKUP(L88,[1]名單!$A$1:$Z$65536,4,0)) -> 林內 | N88: =IF(L88="","",VLOOKUP(L88,[1]名單!$A$1:$Z$65536,2,0)) -> 湯堰羽
... A95: B28 | B95: 0.44444444 | C95: 6097 | D95: =IF(C95="","",VLOOKUP(C95,[1]名單!$A$1:$Z$65536,4,0)) -> 信義 | E95: =IF(C95="","",VLOOKUP(C95,[1]名單!$A$1:$Z$65536,2,0)) -> 張湘梅 | F95: 6092 | G95: =IF(F95="","",VLOOKUP(F95,[1]名單!$A$1:$Z$65536,4,0)) -> 埤腳 | H95: =IF(F95="","",VLOOKUP(F95,[1]名單!$A$1:$Z$65536,2,0)) -> 謝沛妤 | I95: 6075 | J95: =IF(I95="","",VLOOKUP(I95,[1]名單!$A$1:$Z$65536,4,0)) -> 大同 | K95: =IF(I95="","",VLOOKUP(I95,[1]名單!$A$1:$Z$65536,2,0)) -> 王筠婷 | L95: 6091 | M95: =IF(L95="","",VLOOKUP(L95,[1]名單!$A$1:$Z$65536,4,0)) -> 埤腳 | N95: =IF(L95="","",VLOOKUP(L95,[1]名單!$A$1:$Z$65536,2,0)) -> 許筑翕
A96: 16 | B96: 組別 | D96: =VLOOKUP(A96,[1]組別!$A$1:$AK$65536,2,0) -> 國小四年級女童組 | P96: 裁判
A97: B29 | B97: 0.44791667 | C97: 6301 | D97: =IF(C97="","",VLOOKUP(C97,[1]名單!$A$1:$Z$65536,4,0)) -> 水碓 | E97: =IF(C97="","",VLOOKUP(C97,[1]名單!$A$1:$Z$65536,2,0)) -> 張庭瑀 | F97: 6343 | G97: =IF(F97="","",VLOOKUP(F97,[1]名單!$A$1:$Z$65536,4,0)) -> 仁和 | H97: =IF(F97="","",VLOOKUP(F97,[1]名單!$A$1:$Z$65536,2,0)) -> 劉恬杉 | I97: 6349 | J97: =IF(I97="","",VLOOKUP(I97,[1]名單!$A$1:$Z$65536,4,0)) -> 大屯 | K97: =IF(I97="","",VLOOKUP(I97,[1]名單!$A$1:$Z$65536,2,0)) -> 吳宜蓁 | L97: 6307 | M97: =IF(L97="","",VLOOKUP(L97,[1]名單!$A$1:$Z$65536,4,0)) -> 林內 | N97: =IF(L97="","",VLOOKUP(L97,[1]名單!$A$1:$Z$65536,2,0)) -> 曾薇榛 | P97: =IF(O97="","",VLOOKUP(O97,[1]名單!$A$1:$Z$65536,2,0))
A98: B30 | B98: 0.45138889 | C98: 6302 | D98: =IF(C98="","",VLOOKUP(C98,[1]名單!$A$1:$Z$65536,4,0)) -> 水碓 | E98: =IF(C98="","",VLOOKUP(C98,[1]名單!$A$1:$Z$65536,2,0)) -> 朱唯嫩 | F98: 6344 | G98: =IF(F98="","",VLOOKUP(F98,[1]名單!$A$1:$Z$65536,4,0)) -> 仁和 | H98: =IF(F98="","",VLOOKUP(F98,[1]名單!$A$1:$Z$65536,2,0)) -> 徐麗婷 | I98: 6350 | J98: =IF(I98="","",VLOOKUP(I98,[1]名單!$A$1:$Z$65536,4,0)) -> 大屯 | K98: =IF(I98="","",VLOOKUP(I98,[1]名單!$A$1:$Z$65536,2,0)) -> 方妍鑫 | L98: 6308 | M98: =IF(L98="","",VLOOKUP(L98,[1]名單!$A$1:$Z$65536,4,0)) -> 林內 | N98: =IF(L98="","",VLOOKUP(L98,[1]名單!$A$1:$Z$65536,2,0)) -> 蔡吟佳
A99: B31 | B99: 0.45486111 | C99: 6303 | D99: =IF(C99="","",VLOOKUP(C99,[1]名單!$A$1:$Z$65536,4,0)) -> 水碓 | E99: =IF(C99="","",VLOOKUP(C99,[1]名單!$A$1:$Z$65536,2,0)) -> 林旻璇 | F99: 6345 | G99: =IF(F99="","",VLOOKUP(F99,[1]名單!$A$1:$Z$65536,4,0)) -> 仁和 | H99: =IF(F99="","",VLOOKUP(F99,[1]名單!$A$1:$Z$65536,2,0)) -> 葉芷涵 | I99: 6351 | J99: =IF(I99="","",VLOOKUP(I99,[1]名單!$A$1:$Z$65536,4,0)) -> 大屯 | K99: =IF(I99="","",VLOOKUP(I99,[1]名單!$A$1:$Z$65536,2,0)) -> 王佾薰 | L99: 6309 | M99: =IF(L99="","",VLOOKUP(L99,[1]名單!$A$1:$Z$65536,4,0)) -> 林內 | N99: =IF(L99="","",VLOOKUP(L99,[1]名單!$A$1:$Z$65536,2,0)) -> 蕭琬靜
A100: B32 | B100: 0.45833333 | C100: 6304 | D100: =IF(C100="","",VLOOKUP(C100,[1]名單!$A$1:$Z$65536,4,0)) -> 水碓 | E100: =IF(C100="","",VLOOKUP(C100,[1]名單!$A$1:$Z$65536,2,0)) -> 林詩恩 | F100: 6346 | G100: =IF(F100="","",VLOOKUP(F100,[1]名單!$A$1:$Z$65536,4,0)) -> 仁和 | H100: =IF(F100="","",VLOOKUP(F100,[1]名單!$A$1:$Z$65536,2,0)) -> 陳妙婷 | I100: 6352 | J100: =IF(I100="","",VLOOKUP(I100,[1]名單!$A$1:$Z$65536,4,0)) -> 大屯 | K100: =IF(I100="","",VLOOKUP(I100,[1]名單!$A$1:$Z$65536,2,0)) -> 王怡晴 | L100: 6310 | M100: =IF(L100="","",VLOOKUP(L100,[1]名單!$A$1:$Z$65536,4,0)) -> 林內 | N100: =IF(L100="","",VLOOKUP(L100,[1]名單!$A$1:$Z$65536,2,0)) -> 鄭如君
A101: B33 | B101: 0.46180556 | C101: 6305 | D101: =IF(C101="","",VLOOKUP(C101,[1]名單!$A$1:$Z$65536,4,0)) -> 水碓 | E101: =IF(C101="","",VLOOKUP(C101,[1]名單!$A$1:$Z$65536,2,0)) -> 黃宥茹 | F101: 6347 | G101: =IF(F101="","",VLOOKUP(F101,[1]名單!$A$1:$Z$65536,4,0)) -> 仁和 | H101: =IF(F101="","",VLOOKUP(F101,[1]名單!$A$1:$Z$65536,2,0)) -> 黃庭韵 | I101: 6353 | J101: =IF(I101="","",VLOOKUP(I101,[1]名單!$A$1:$Z$65536,4,0)) -> 大屯 | K101: =IF(I101="","",VLOOKUP(I101,[1]名單!$A$1:$Z$65536,2,0)) -> 王育棋 | L101: 6311 | M101: =IF(L101="","",VLOOKUP(L101,[1]名單!$A$1:$Z$65536,4,0)) -> 林內 | N101: =IF(L101="","",VLOOKUP(L101,[1]名單!$A$1:$Z$65536,2,0)) -> 鄭宸聆
A102: B34 | B102: 0.46527778 | C102: 6306 | D102: =IF(C102="","",VLOOKUP(C102,[1]名單!$A$1:$Z$65536,4,0)) -> 水碓 | E102: =IF(C102="","",VLOOKUP(C102,[1]名單!$A$1:$Z$65536,2,0)) -> 黃昱雯 | F102: 6373 | G102: =IF(F102="","",VLOOKUP(F102,[1]名單!$A$1:$Z$65536,4,0)) -> 中和 | H102: =IF(F102="","",VLOOKUP(F102,[1]名單!$A$1:$Z$65536,2,0)) -> 廖姿涵 | I102: 6354 | J102: =IF(I102="","",VLOOKUP(I102,[1]名單!$A$1:$Z$65536,4,0)) -> 大屯 | K102: =IF(I102="","",VLOOKUP(I102,[1]名單!$A$1:$Z$65536,2,0)) -> 陳薏如 | L102: 6312 | M102: =IF(L102="","",VLOOKUP(L102,[1]名單!$A$1:$Z$65536,4,0)) -> 林內 | N102: =IF(L102="","",VLOOKUP(L102,[1]名單!$A$1:$Z$65536,2,0)) -> 陳雯琪
A103: B35 | B103: 0.46875 | C103: 6331 | D103: =IF(C103="","",VLOOKUP(C103,[1]名單!$A$1:$Z$65536,4,0)) -> 僑真 | E103: =IF(C103="","",VLOOKUP(C103,[1]名單!$A$1:$Z$65536,2,0)) -> 丁乙禎 | F103: 6374 | G103: =IF(F103="","",VLOOKUP(F103,[1]名單!$A$1:$Z$65536,4,0)) -> 中和 | H103: =IF(F103="","",VLOOKUP(F103,[1]名單!$A$1:$Z$65536,2,0)) -> 廖晨希 | I103: 6355 | J103: =IF(I103="","",VLOOKUP(I103,[1]名單!$A$1:$Z$65536,4,0)) -> 大屯 | K103: =IF(I103="","",VLOOKUP(I103,[1]名單!$A$1:$Z$65536,2,0)) -> 劉家妤 | L103: 6313 | M103: =IF(L103="","",VLOOKUP(L103,[1]名單!$A$1:$Z$65536,4,0)) -> 林內 | N103: =IF(L103="","",VLOOKUP(L103,[1]名單!$A$1:$Z$65536,2,0)) -> 吳敏嘉
A104: B36 | B104: 0.47222222 | C104: 6332 | D104: =IF(C104="","",VLOOKUP(C104,[1]名單!$A$1:$Z$65536,4,0)) -> 僑真 | E104: =IF(C104="","",VLOOKUP(C104,[1]名單!$A$1:$Z$65536,2,0)) -> 劉佳憓 | F104: 6375 | G104: =IF(F104="","",VLOOKUP(F104,[1]名單!$A$1:$Z$65536,4,0)) -> 中和 | H104: =IF(F104="","",VLOOKUP(F104,[1]名單!$A$1:$Z$65536,2,0)) -> 林佳臻 | I104: 6356 | J104: =IF(I104="","",VLOOKUP(I104,[1]名單!$A$1:$Z$65536,4,0)) -> 大屯 | K104: =IF(I104="","",VLOOKUP(I104,[1]名單!$A$1:$Z$65536,2,0)) -> 趙怡婷 | L104: 6314 | M104: =IF(L104="","",VLOOKUP(L104,[1]名單!$A$1:$Z$65536,4,0)) -> 林內 | N104: =IF(L104="","",VLOOKUP(L104,[1]名單!$A$1:$Z$65536,2,0)) -> 朱淑芳
A105: B37 | B105: 0.47569444 | C105: 6333 | D105: =IF(C105="","",VLOOKUP(C105,[1]名單!$A$1:$Z$65536,4,0)) -> 僑真 | E105: =IF(C105="","",VLOOKUP(C105,[1]名單!$A$1:$Z$65536,2,0)) -> 吳翊莛 | F105: 6376 | G105: =IF(F105="","",VLOOKUP(F105,[1]名單!$A$1:$Z$65536,4,0)) -> 中和 | H105: =IF(F105="","",VLOOKUP(F105,[1]名單!$A$1:$Z$65536,2,0)) -> 林品君 | I105: 6379 | J105: =IF(I105="","",VLOOKUP(I105,[1]名單!$A$1:$Z$65536,4,0)) -> 信義 | K105: =IF(I105="","",VLOOKUP(I105,[1]名單!$A$1:$Z$65536,2,0)) -> 吳筱筠 | L105: 6315 | M105: =IF(L105="","",VLOOKUP(L105,[1]名單!$A$1:$Z$65536,4,0)) -> 林內 | N105: =IF(L105="","",VLOOKUP(L105,[1]名單!$A$1:$Z$65536,2,0)) -> 李紀廷
A106: B38 | B106: 0.47916667 | C106: 6334 | D106: =IF(C106="","",VLOOKUP(C106,[1]名單!$A$1:$Z$65536,4,0)) -> 僑真 | E106: =IF(C106="","",VLOOKUP(C106,[1]名單!$A$1:$Z$65536,2,0)) -> 陳芯瑩 | F106: 6377 | G106: =IF(F106="","",VLOOKUP(F106,[1]名單!$A$1:$Z$65536,4,0)) -> 中和 | H106: =IF(F106="","",VLOOKUP(F106,[1]名單!$A$1:$Z$65536,2,0)) -> 林欣儒 | I106: 6380 | J106: =IF(I106="","",VLOOKUP(I106,[1]名單!$A$1:$Z$65536,4,0)) -> 信義 | K106: =IF(I106="","",VLOOKUP(I106,[1]名單!$A$1:$Z$65536,2,0)) -> 李品憶 | L106: 6316 | M106: =IF(L106="","",VLOOKUP(L106,[1]名單!$A$1:$Z$65536,4,0)) -> 林內 | N106: =IF(L106="","",VLOOKUP(L106,[1]名單!$A$1:$Z$65536,2,0)) -> 鄭汶翎
A107: B39 | B107: 0.48263889 | C107: 6335 | D107: =IF(C107="","",VLOOKUP(C107,[1]名單!$A$1:$Z$65536,4,0)) -> 僑真 | E107: =IF(C107="","",VLOOKUP(C107,[1]名單!$A$1:$Z$65536,2,0)) -> 黃勤淳 | F107: 6378 | G107: =IF(F107="","",VLOOKUP(F107,[1]名單!$A$1:$Z$65536,4,0)) -> 中和 | H107: =IF(F107="","",VLOOKUP(F107,[1]名單!$A$1:$Z$65536,2,0)) -> 鄭沛珊 | I107: 6381 | J107: =IF(I107="","",VLOOKUP(I107,[1]名單!$A$1:$Z$65536,4,0)) -> 信義 | K107: =IF(I107="","",VLOOKUP(I107,[1]名單!$A$1:$Z$65536,2,0)) -> 蔡洳君 | L107: 6317 | M107: =IF(L107="","",VLOOKUP(L107,[1]名單!$A$1:$Z$65536,4,0)) -> 林內 | N107: =IF(L107="","",VLOOKUP(L107,[1]名單!$A$1:$Z$65536,2,0)) -> 陳 佾
A108: B40 | B108: 0.48611111 | C108: 6336 | D108: =IF(C108="","",VLOOKUP(C108,[1]名單!$A$1:$Z$65536,4,0)) -> 僑真 | E108: =IF(C108="","",VLOOKUP(C108,[1]名單!$A$1:$Z$65536,2,0)) -> 黃瑀婕 | F108: 6365 | G108: =IF(F108="","",VLOOKUP(F108,[1]名單!$A$1:$Z$65536,4,0)) -> 宏崙 | H108: =IF(F108="","",VLOOKUP(F108,[1]名單!$A$1:$Z$65536,2,0)) -> 陳玟綺 | I108: 6382 | J108: =IF(I108="","",VLOOKUP(I108,[1]名單!$A$1:$Z$65536,4,0)) -> 信義 | K108: =IF(I108="","",VLOOKUP(I108,[1]名單!$A$1:$Z$65536,2,0)) -> 許又亓 | L108: 6318 | M108: =IF(L108="","",VLOOKUP(L108,[1]名單!$A$1:$Z$65536,4,0)) -> 林內 | N108: =IF(L108="","",VLOOKUP(L108,[1]名單!$A$1:$Z$65536,2,0)) -> 陳芷秝
A109: B41 | B109: 0.48958333 | C109: 6337 | D109: =IF(C109="","",VLOOKUP(C109,[1]名單!$A$1:$Z$65536,4,0)) -> 僑真 | E109: =IF(C109="","",VLOOKUP(C109,[1]名單!$A$1:$Z$65536,2,0)) -> 劉亭均 | F109: 6368 | G109: =IF(F109="","",VLOOKUP(F109,[1]名單!$A$1:$Z$65536,4,0)) -> 大同 | H109: =IF(F109="","",VLOOKUP(F109,[1]名單!$A$1:$Z$65536,2,0)) -> 李禹豌 | I109: 6383 | J109: =IF(I109="","",VLOOKUP(I109,[1]名單!$A$1:$Z$65536,4,0)) -> 信義 | K109: =IF(I109="","",VLOOKUP(I109,[1]名單!$A$1:$Z$65536,2,0)) -> 邱語雯 | L109: 6319 | M109: =IF(L109="","",VLOOKUP(L109,[1]名單!$A$1:$Z$65536,4,0)) -> 林內 | N109: =IF(L109="","",VLOOKUP(L109,[1]名單!$A$1:$Z$65536,2,0)) -> 鄭惠愉*
... A113: B45 | B113: 0.50347222 | C113: 6341 | D113: =IF(C113="","",VLOOKUP(C113,[1]名單!$A$1:$Z$65536,4,0)) -> 僑真 | E113: =IF(C113="","",VLOOKUP(C113,[1]名單!$A$1:$Z$65536,2,0)) -> 林詩庭 | F113: 6367 | G113: =IF(F113="","",VLOOKUP(F113,[1]名單!$A$1:$Z$65536,4,0)) -> 大同 | H113: =IF(F113="","",VLOOKUP(F113,[1]名單!$A$1:$Z$65536,2,0)) -> 廖苡媃 | I113: 6363 | J113: =IF(I113="","",VLOOKUP(I113,[1]名單!$A$1:$Z$65536,4,0)) -> 宏崙 | K113: =IF(I113="","",VLOOKUP(I113,[1]名單!$A$1:$Z$65536,2,0)) -> 王玟騥 | L113: 6328 | M113: =IF(L113="","",VLOOKUP(L113,[1]名單!$A$1:$Z$65536,4,0)) -> 九芎 | N113: =IF(L113="","",VLOOKUP(L113,[1]名單!$A$1:$Z$65536,2,0)) -> 鄭雯憶
...

Sheet 0415
A1: 105年春季縣長盃木球賽賽程表
A2: 日 期 | C2: 105年4月15日（星期五）A場地
A3: 場次 | B3: 時間 | C3: 選 手 名 單
A4: 9 | B4: 組別 | D4: =VLOOKUP(A4,[1]組別!$A$1:$AK$65536,2,0) -> 國中男子組 | P4: 裁判
A5: A1 | B5: 0.35416667 | C5: 1601 | D5: =IF(C5="","",VLOOKUP(C5,[1]名單!$A$1:$Z$65536,4,0)) -> 大埤 | E5: =IF(C5="","",VLOOKUP(C5,[1]名單!$A$1:$Z$65536,2,0)) -> 劉志威 | F5: 1638 | G5: =IF(F5="","",VLOOKUP(F5,[1]名單!$A$1:$Z$65536,4,0)) -> 馬光 | H5: =IF(F5="","",VLOOKUP(F5,[1]名單!$A$1:$Z$65536,2,0)) -> 張景昇 | I5: 1675 | J5: =IF(I5="","",VLOOKUP(I5,[1]名單!$A$1:$Z$65536,4,0)) -> 林內 | K5: =IF(I5="","",VLOOKUP(I5,[1]名單!$A$1:$Z$65536,2,0)) -> 林季磊 | L5: 1655 | M5: =IF(L5="","",VLOOKUP(L5,[1]名單!$A$1:$Z$65536,4,0)) -> 石榴 | N5: =IF(L5="","",VLOOKUP(L5,[1]名單!$A$1:$Z$65536,2,0)) -> 何仁傑 | P5: =IF(O5="","",VLOOKUP(O5,[1]名單!$A$1:$Z$65536,2,0))
A6: A2 | B6: 0.35763889 | C6: 1602 | D6: =IF(C6="","",VLOOKUP(C6,[1]名單!$A$1:$Z$65536,4,0)) -> 大埤 | E6: =IF(C6="","",VLOOKUP(C6,[1]名單!$A$1:$Z$65536,2,0)) -> 劉訓丞 | F6: 1639 | G6: =IF(F6="","",VLOOKUP(F6,[1]名單!$A$1:$Z$65536,4,0)) -> 馬光 | H6: =IF(F6="","",VLOOKUP(F6,[1]名單!$A$1:$Z$65536,2,0)) -> 張盛豐 | I6: 1676 | J6: =IF(I6="","",VLOOKUP(I6,[1]名單!$A$1:$Z$65536,4,0)) -> 林內 | K6: =IF(I6="","",VLOOKUP(I6,[1]名單!$A$1:$Z$65536,2,0)) -> 林晉融 | L6: 1656 | M6: =IF(L6="","",VLOOKUP(L6,[1]名單!$A$1:$Z$65536,4,0)) -> 石榴 | N6: =IF(L6="","",VLOOKUP(L6,[1]名單!$A$1:$Z$65536,2,0)) -> 何子承 | P6: =IF(O6="","",VLOOKUP(O6,[1]名單!$A$1:$Z$65536,2,0))
A7: A3 | B7: 0.36111111 | C7: 1603 | D7: =IF(C7="","",VLOOKUP(C7,[1]名單!$A$1:$Z$65536,4,0)) -> 大埤 | E7: =IF(C7="","",VLOOKUP(C7,[1]名單!$A$1:$Z$65536,2,0)) -> 張珈銘 | F7: 1640 | G7: =IF(F7="","",VLOOKUP(F7,[1]名單!$A$1:$Z$65536,4,0)) -> 馬光 | H7: =IF(F7="","",VLOOKUP(F7,[1]名單!$A$1:$Z$65536,2,0)) -> 洪若凱 | I7: 1677 | J7: =IF(I7="","",VLOOKUP(I7,[1]名單!$A$1:$Z$65536,4,0)) -> 林內 | K7: =IF(I7="","",VLOOKUP(I7,[1]名單!$A$1:$Z$65536,2,0)) -> 王政裕 | L7: 1657 | M7: =IF(L7="","",VLOOKUP(L7,[1]名單!$A$1:$Z$65536,4,0)) -> 石榴 | N7: =IF(L7="","",VLOOKUP(L7,[1]名單!$A$1:$Z$65536,2,0)) -> 何育豪 | P7: =IF(O7="","",VLOOKUP(O7,[1]名單!$A$1:$Z$65536,2,0))
A8: A4 | B8: 0.36458333 | C8: 1604 | D8: =IF(C8="","",VLOOKUP(C8,[1]名單!$A$1:$Z$65536,4,0)) -> 大埤 | E8: =IF(C8="","",VLOOKUP(C8,[1]名單!$A$1:$Z$65536,2,0)) -> 蔡世偉 | F8: 1641 | G8: =IF(F8="","",VLOOKUP(F8,[1]名單!$A$1:$Z$65536,4,0)) -> 馬光 | H8: =IF(F8="","",VLOOKUP(F8,[1]名單!$A$1:$Z$65536,2,0)) -> 黃煜展 | I8: 1678 | J8: =IF(I8="","",VLOOKUP(I8,[1]名單!$A$1:$Z$65536,4,0)) -> 林內 | K8: =IF(I8="","",VLOOKUP(I8,[1]名單!$A$1:$Z$65536,2,0)) -> 賴以恩 | L8: 1658 | M8: =IF(L8="","",VLOOKUP(L8,[1]名單!$A$1:$Z$65536,4,0)) -> 石榴 | N8: =IF(L8="","",VLOOKUP(L8,[1]名單!$A$1:$Z$65536,2,0)) -> 張呈陽 | P8: =IF(O8="","",VLOOKUP(O8,[1]名單!$A$1:$Z$65536,2,0))
A9: A5 | B9: 0.36805556 | C9: 1605 | D9: =IF(C9="","",VLOOKUP(C9,[1]名單!$A$1:$Z$65536,4,0)) -> 大埤 | E9: =IF(C9="","",VLOOKUP(C9,[1]名單!$A$1:$Z$65536,2,0)) -> 邱定宏 | F9: 1642 | G9: =IF(F9="","",VLOOKUP(F9,[1]名單!$A$1:$Z$65536,4,0)) -> 馬光 | H9: =IF(F9="","",VLOOKUP(F9,[1]名單!$A$1:$Z$65536,2,0)) -> 吳睿祥 | I9: 1679 | J9: =IF(I9="","",VLOOKUP(I9,[1]名單!$A$1:$Z$65536,4,0)) -> 林內 | K9: =IF(I9="","",VLOOKUP(I9,[1]名單!$A$1:$Z$65536,2,0)) -> 李承翰 | L9: 1659 | M9: =IF(L9="","",VLOOKUP(L9,[1]名單!$A$1:$Z$65536,4,0)) -> 石榴 | N9: =IF(L9="","",VLOOKUP(L9,[1]名單!$A$1:$Z$65536,2,0)) -> 張惟堯 | P9: =IF(O9="","",VLOOKUP(O9,[1]名單!$A$1:$Z$65536,2,0))
A10: A6 | B10: 0.37152778 | C10: 1606 | D10: =IF(C10="","",VLOOKUP(C10,[1]名單!$A$1:$Z$65536,4,0)) -> 大埤 | E10: =IF(C10="","",VLOOKUP(C10,[1]名單!$A$1:$Z$65536,2,0)) -> 魏永安 | F10: 1643 | G10: =IF(F10="","",VLOOKUP(F10,[1]名單!$A$1:$Z$65536,4,0)) -> 馬光 | H10: =IF(F10="","",VLOOKUP(F10,[1]名單!$A$1:$Z$65536,2,0)) -> 吳亭皚 | I10: 1680 | J10: =IF(I10="","",VLOOKUP(I10,[1]名單!$A$1:$Z$65536,4,0)) -> 林內 | K10: =IF(I10="","",VLOOKUP(I10,[1]名單!$A$1:$Z$65536,2,0)) -> 林松儒 | L10: 1660 | M10: =IF(L10="","",VLOOKUP(L10,[1]名單!$A$1:$Z$65536,4,0)) -> 石榴 | N10: =IF(L10="","",VLOOKUP(L10,[1]名單!$A$1:$Z$65536,2,0)) -> 饒書享 | P10: =IF(O10="","",VLOOKUP(O10,[1]名單!$A$1:$Z$65536,2,0))
A11: A7 | B11: 0.375 | C11: 1607 | D11: =IF(C11="","",VLOOKUP(C11,[1]名單!$A$1:$Z$65536,4,0)) -> 大埤 | E11: =IF(C11="","",VLOOKUP(C11,[1]名單!$A$1:$Z$65536,2,0)) -> 劉柏承 | F11: 1644 | G11: =IF(F11="","",VLOOKUP(F11,[1]名單!$A$1:$Z$65536,4,0)) -> 馬光 | H11: =IF(F11="","",VLOOKUP(F11,[1]名單!$A$1:$Z$65536,2,0)) -> 吳瑞文 | I11: 1681 | J11: =IF(I11="","",VLOOKUP(I11,[1]名單!$A$1:$Z$65536,4,0)) -> 林內 | K11: =IF(I11="","",VLOOKUP(I11,[1]名單!$A$1:$Z$65536,2,0)) -> 林松諭 | L11: 1661 | M11: =IF(L11="","",VLOOKUP(L11,[1]名單!$A$1:$Z$65536,4,0)) -> 石榴 | N11: =IF(L11="","",VLOOKUP(L11,[1]名單!$A$1:$Z$65536,2,0)) -> 張閔翔 | P11: =IF(O11="","",VLOOKUP(O11,[1]名單!$A$1:$Z$65536,2,0))
A12: A8 | B12: 0.37847222 | C12: 1608 | D12: =IF(C12="","",VLOOKUP(C12,[1]名單!$A$1:$Z$65536,4,0)) -> 大埤 | E12: =IF(C12="","",VLOOKUP(C12,[1]名單!$A$1:$Z$65536,2,0)) -> 吳信願 | F12: 1645 | G12: =IF(F12="","",VLOOKUP(F12,[1]名單!$A$1:$Z$65536,4,0)) -> 馬光 | H12: =IF(F12="","",VLOOKUP(F12,[1]名單!$A$1:$Z$65536,2,0)) -> 吳致瑋 | I12: 1682 | J12: =IF(I12="","",VLOOKUP(I12,[1]名單!$A$1:$Z$65536,4,0)) -> 林內 | K12: =IF(I12="","",VLOOKUP(I12,[1]名單!$A$1:$Z$65536,2,0)) -> 石安順 | L12: 1662 | M12: =IF(L12="","",VLOOKUP(L12,[1]名單!$A$1:$Z$65536,4,0)) -> 石榴 | N12: =IF(L12="","",VLOOKUP(L12,[1]名單!$A$1:$Z$65536,2,0)) -> 林致宇 | P12: =IF(O12="","",VLOOKUP(O12,[1]名單!$A$1:$Z$65536,2,0))
A13: A9 | B13: 0.38194444 | C13: 1609 | D13: =IF(C13="","",VLOOKUP(C13,[1]名單!$A$1:$Z$65536,4,0)) -> 大埤 | E13: =IF(C13="","",VLOOKUP(C13,[1]名單!$A$1:$Z$65536,2,0)) -> 張克豐 | F13: 1646 | G13: =IF(F13="","",VLOOKUP(F13,[1]名單!$A$1:$Z$65536,4,0)) -> 馬光 | H13: =IF(F13="","",VLOOKUP(F13,[1]名單!$A$1:$Z$65536,2,0)) -> 許連發 | I13: 1683 | J13: =IF(I13="","",VLOOKUP(I13,[1]名單!$A$1:$Z$65536,4,0)) -> 林內 | K13: =IF(I13="","",VLOOKUP(I13,[1]名單!$A$1:$Z$65536,2,0)) -> 莊吉峯 | L13: 1663 | M13: =IF(L13="","",VLOOKUP(L13,[1]名單!$A$1:$Z$65536,4,0)) -> 石榴 | N13: =IF(L13="","",VLOOKUP(L13,[1]名單!$A$1:$Z$65536,2,0)) -> 王俊麟 | P13: =IF(O13="","",VLOOKUP(O13,[1]名單!$A$1:$Z$65536,2,0))
A14: A10 | B14: 0.38541667 | C14: 1610 | D14: =IF(C14="","",VLOOKUP(C14,[1]名單!$A$1:$Z$65536,4,0)) -> 大埤 | E14: =IF(C14="","",VLOOKUP(C14,[1]名單!$A$1:$Z$65536,2,0)) -> 徐宥為 | F14: 1647 | G14: =IF(F14="","",VLOOKUP(F14,[1]名單!$A$1:$Z$65536,4,0)) -> 馬光 | H14: =IF(F14="","",VLOOKUP(F14,[1]名單!$A$1:$Z$65536,2,0)) -> 黃偉傑 | I14: 1684 | J14: =IF(I14="","",VLOOKUP(I14,[1]名單!$A$1:$Z$65536,4,0)) -> 林內 | K14: =IF(I14="","",VLOOKUP(I14,[1]名單!$A$1:$Z$65536,2,0)) -> 黃義墀 | L14: 1664 | M14: =IF(L14="","",VLOOKUP(L14,[1]名單!$A$1:$Z$65536,4,0)) -> 石榴 | N14: =IF(L14="","",VLOOKUP(L14,[1]名單!$A$1:$Z$65536,2,0)) -> 王忠翔 | P14: =IF(O14="","",VLOOKUP(O14,[1]名單!$A$1:$Z$65536,2,0))
A15: A11 | B15: 0.38888889 | C15: 1611 | D15: =IF(C15="","",VLOOKUP(C15,[1]名單!$A$1:$Z$65536,4,0)) -> 大埤 | E15: =IF(C15="","",VLOOKUP(C15,[1]名單!$A$1:$Z$65536,2,0)) -> 蕭文德 | F15: 1648 | G15: =IF(F15="","",VLOOKUP(F15,[1]名單!$A$1:$Z$65536,4,0)) -> 馬光 | H15: =IF(F15="","",VLOOKUP(F15,[1]名單!$A$1:$Z$65536,2,0)) -> 黃元龍 | I15: 1685 | J15: =IF(I15="","",VLOOKUP(I15,[1]名單!$A$1:$Z$65536,4,0)) -> 林內 | K15: =IF(I15="","",VLOOKUP(I15,[1]名單!$A$1:$Z$65536,2,0)) -> 廖聖佑* | L15: 1665 | M15: =IF(L15="","",VLOOKUP(L15,[1]名單!$A$1:$Z$65536,4,0)) -> 石榴 | N15: =IF(L15="","",VLOOKUP(L15,[1]名單!$A$1:$Z$65536,2,0)) -> 譚敬達
A16: A12 | B16: 0.39236111 | C16: 1612 | D16: =IF(C16="","",VLOOKUP(C16,[1]名單!$A$1:$Z$65536,4,0)) -> 大埤 | E16: =IF(C16="","",VLOOKUP(C16,[1]名單!$A$1:$Z$65536,2,0)) -> 徐建甫 | F16: 1649 | G16: =IF(F16="","",VLOOKUP(F16,[1]名單!$A$1:$Z$65536,4,0)) -> 馬光 | H16: =IF(F16="","",VLOOKUP(F16,[1]名單!$A$1:$Z$65536,2,0)) -> 吳光仁* | I16: 1686 | J16: =IF(I16="","",VLOOKUP(I16,[1]名單!$A$1:$Z$65536,4,0)) -> 林內 | K16: =IF(I16="","",VLOOKUP(I16,[1]名單!$A$1:$Z$65536,2,0)) -> 王裕達* | L16: 1666 | M16: =IF(L16="","",VLOOKUP(L16,[1]名單!$A$1:$Z$65536,4,0)) -> 石榴 | N16: =IF(L16="","",VLOOKUP(L16,[1]名單!$A$1:$Z$65536,2,0)) -> 陳奕瑋
A17: A13 | B17: 0.39583333 | C17: 1699 | D17: =IF(C17="","",VLOOKUP(C17,[1]名單!$A$1:$Z$65536,4,0)) -> 淵明 | E17: =IF(C17="","",VLOOKUP(C17,[1]名單!$A$1:$Z$65536,2,0)) -> 施仁傑 | F17: 1650 | G17: =IF(F17="","",VLOOKUP(F17,[1]名單!$A$1:$Z$65536,4,0)) -> 馬光 | H17: =IF(F17="","",VLOOKUP(F17,[1]名單!$A$1:$Z$65536,2,0)) -> 林坤賢* | I17: 1687 | J17: =IF(I17="","",VLOOKUP(I17,[1]名單!$A$1:$Z$65536,4,0)) -> 林內 | K17: =IF(I17="","",VLOOKUP(I17,[1]名單!$A$1:$Z$65536,2,0)) -> 蔡俊宏* | L17: 1667 | M17: =IF(L17="","",VLOOKUP(L17,[1]名單!$A$1:$Z$65536,4,0)) -> 石榴 | N17: =IF(L17="","",VLOOKUP(L17,[1]名單!$A$1:$Z$65536,2,0)) -> 何忠原*
A18: A14 | B18: 0.39930556 | C18: 1700 | D18: =IF(C18="","",VLOOKUP(C18,[1]名單!$A$1:$Z$65536,4,0)) -> 淵明 | E18: =IF(C18="","",VLOOKUP(C18,[1]名單!$A$1:$Z$65536,2,0)) -> 蘇弘展 | F18: 1637 | G18: =IF(F18="","",VLOOKUP(F18,[1]名單!$A$1:$Z$65536,4,0)) -> 馬光 | H18: =IF(F18="","",VLOOKUP(F18,[1]名單!$A$1:$Z$65536,2,0)) -> 周文麒 | I18: 1688 | J18: =IF(I18="","",VLOOKUP(I18,[1]名單!$A$1:$Z$65536,4,0)) -> 林內 | K18: =IF(I18="","",VLOOKUP(I18,[1]名單!$A$1:$Z$65536,2,0)) -> 蔡柏慶* | L18: 1668 | M18: =IF(L18="","",VLOOKUP(L18,[1]名單!$A$1:$Z$65536,4,0)) -> 石榴 | N18: =IF(L18="","",VLOOKUP(L18,[1]名單!$A$1:$Z$65536,2,0)) -> 何昆佑*
A19: A15 | B19: 0.40277778 | C19: 1615 | D19: =IF(C19="","",VLOOKUP(C19,[1]名單!$A$1:$Z$65536,4,0)) -> 大埤 | E19: =IF(C19="","",VLOOKUP(C19,[1]名單!$A$1:$Z$65536,2,0)) -> 王宜安* | F19: 1701 | G19: =IF(F19="","",VLOOKUP(F19,[1]名單!$A$1:$Z$65536,4,0)) -> 淵明 | H19: =IF(F19="","",VLOOKUP(F19,[1]名單!$A$1:$Z$65536,2,0)) -> 鄭智勝 | I19: 1689 | J19: =IF(I19="","",VLOOKUP(I19,[1]名單!$A$1:$Z$65536,4,0)) -> 林內 | K19: =IF(I19="","",VLOOKUP(I19,[1]名單!$A$1:$Z$65536,2,0)) -> 鄭延彬* | L19: 1669 | M19: =IF(L19="","",VLOOKUP(L19,[1]名單!$A$1:$Z$65536,4,0)) -> 石榴 | N19: =IF(L19="","",VLOOKUP(L19,[1]名單!$A$1:$Z$65536,2,0)) -> 張宸豪*
A20: A16 | B20: 0.40625 | C20: 1616 | D20: =IF(C20="","",VLOOKUP(C20,[1]名單!$A$1:$Z$65536,4,0)) -> 大埤 | E20: =IF(C20="","",VLOOKUP(C20,[1]名單!$A$1:$Z$65536,2,0)) -> 郭達宏* | F20: 1702 | G20: =IF(F20="","",VLOOKUP(F20,[1]名單!$A$1:$Z$65536,4,0)) -> 淵明 | H20: =IF(F20="","",VLOOKUP(F20,[1]名單!$A$1:$Z$65536,2,0)) -> 黃裕綸 | I20: 1690 | J20: =IF(I20="","",VLOOKUP(I20,[1]名單!$A$1:$Z$65536,4,0)) -> 林內 | K20: =IF(I20="","",VLOOKUP(I20,[1]名單!$A$1:$Z$65536,2,0)) -> 陳立昌* | L20: 1670 | M20: =IF(L20="","",VLOOKUP(L20,[1]名單!$A$1:$Z$65536,4,0)) -> 石榴 | N20: =IF(L20="","",VLOOKUP(L20,[1]名單!$A$1:$Z$65536,2,0)) -> 蔡宗育*
A21: A17 | B21: 0.40972222 | C21: 1613 | D21: =IF(C21="","",VLOOKUP(C21,[1]名單!$A$1:$Z$65536,4,0)) -> 大埤 | E21: =IF(C21="","",VLOOKUP(C21,[1]名單!$A$1:$Z$65536,2,0)) -> 張峻瑋* | F21: 1622 | G21: =IF(F21="","",VLOOKUP(F21,[1]名單!$A$1:$Z$65536,4,0)) -> 二崙 | H21: =IF(F21="","",VLOOKUP(F21,[1]名單!$A$1:$Z$65536,2,0)) -> 李憲昌 | I21: 1627 | J21: =IF(I21="","",VLOOKUP(I21,[1]名單!$A$1:$Z$65536,4,0)) -> 元長 | K21: =IF(I21="","",VLOOKUP(I21,[1]名單!$A$1:$Z$65536,2,0)) -> 蔡宗桓 | L21: 1691 | M21: =IF(L21="","",VLOOKUP(L21,[1]名單!$A$1:$Z$65536,4,0)) -> 淵明 | N21: =IF(L21="","",VLOOKUP(L21,[1]名單!$A$1:$Z$65536,2,0)) -> 張展豪
A22: A18 | B22: 0.41319444 | C22: 1614 | D22: =IF(C22="","",VLOOKUP(C22,[1]名單!$A$1:$Z$65536,4,0)) -> 大埤 | E22: =IF(C22="","",VLOOKUP(C22,[1]名單!$A$1:$Z$65536,2,0)) -> 張健庭* | F22: 1619 | G22: =IF(F22="","",VLOOKUP(F22,[1]名單!$A$1:$Z$65536,4,0)) -> 二崙 | H22: =IF(F22="","",VLOOKUP(F22,[1]名單!$A$1:$Z$65536,2,0)) -> 廖弘凱 | I22: 1628 | J22: =IF(I22="","",VLOOKUP(I22,[1]名單!$A$1:$Z$65536,4,0)) -> 元長 | K22: =IF(I22="","",VLOOKUP(I22,[1]名單!$A$1:$Z$65536,2,0)) -> 李化郁 | L22: 1692 | M22: =IF(L22="","",VLOOKUP(L22,[1]名單!$A$1:$Z$65536,4,0)) -> 淵明 | N22: =IF(L22="","",VLOOKUP(L22,[1]名單!$A$1:$Z$65536,2,0)) -> 張景懋
A23: A19 | B23: 0.41666667 | C23: 1630 | D23: =IF(C23="","",VLOOKUP(C23,[1]名單!$A$1:$Z$65536,4,0)) -> 元長 | E23: =IF(C23="","",VLOOKUP(C23,[1]名單!$A$1:$Z$65536,2,0)) -> 林弘御 | F23: 1623 | G23: =IF(F23="","",VLOOKUP(F23,[1]名單!$A$1:$Z$65536,4,0)) -> 二崙 | H23: =IF(F23="","",VLOOKUP(F23,[1]名單!$A$1:$Z$65536,2,0)) -> 江良育 | I23: 1673 | J23: =IF(I23="","",VLOOKUP(I23,[1]名單!$A$1:$Z$65536,4,0)) -> 林內 | K23: =IF(I23="","",VLOOKUP(I23,[1]名單!$A$1:$Z$65536,2,0)) -> 丁翊軒 | L23: 1693 | M23: =IF(L23="","",VLOOKUP(L23,[1]名單!$A$1:$Z$65536,4,0)) -> 淵明 | N23: =IF(L23="","",VLOOKUP(L23,[1]名單!$A$1:$Z$65536,2,0)) -> 施仁翔
A24: A20 | B24: 0.42013889 | C24: 1631 | D24: =IF(C24="","",VLOOKUP(C24,[1]名單!$A$1:$Z$65536,4,0)) -> 元長 | E24: =IF(C24="","",VLOOKUP(C24,[1]名單!$A$1:$Z$65536,2,0)) -> 李伯禹 | F24: 1624 | G24: =IF(F24="","",VLOOKUP(F24,[1]名單!$A$1:$Z$65536,4,0)) -> 二崙 | H24: =IF(F24="","",VLOOKUP(F24,[1]名單!$A$1:$Z$65536,2,0)) -> 蔡博守 | I24: 1674 | J24: =IF(I24="","",VLOOKUP(I24,[1]名單!$A$1:$Z$65536,4,0)) -> 林內 | K24: =IF(I24="","",VLOOKUP(I24,[1]名單!$A$1:$Z$65536,2,0)) -> 施建甫 | L24: 1694 | M24: =IF(L24="","",VLOOKUP(L24,[1]名單!$A$1:$Z$65536,4,0)) -> 淵明 | N24: =IF(L24="","",VLOOKUP(L24,[1]名單!$A$1:$Z$65536,2,0)) -> 林煒凱
A25: A21 | B25: 0.42361111 | C25: 1625 | D25: =IF(C25="","",VLOOKUP(C25,[1]名單!$A$1:$Z$65536,4,0)) -> 元長 | E25: =IF(C25="","",VLOOKUP(C25,[1]名單!$A$1:$Z$65536,2,0)) -> 吳勁賢 | F25: 1620 | G25: =IF(F25="","",VLOOKUP(F25,[1]名單!$A$1:$Z$65536,4,0)) -> 二崙 | H25: =IF(F25="","",VLOOKUP(F25,[1]名單!$A$1:$Z$65536,2,0)) -> 廖銘展 | I25: 1721 | J25: =IF(I25="","",VLOOKUP(I25,[1]名單!$A$1:$Z$65536,4,0)) -> 雲林 | K25: =IF(I25="","",VLOOKUP(I25,[1]名單!$A$1:$Z$65536,2,0)) -> 周紹霆 | L25: 1695 | M25: =IF(L25="","",VLOOKUP(L25,[1]名單!$A$1:$Z$65536,4,0)) -> 淵明 | N25: =IF(L25="","",VLOOKUP(L25,[1]名單!$A$1:$Z$65536,2,0)) -> 黃志翔
A26: A22 | B26: 0.42708333 | C26: 1626 | D26: =IF(C26="","",VLOOKUP(C26,[1]名單!$A$1:$Z$65536,4,0)) -> 元長 | E26: =IF(C26="","",VLOOKUP(C26,[1]名單!$A$1:$Z$65536,2,0)) -> 姚宏燁 | F26: 1621 | G26: =IF(F26="","",VLOOKUP(F26,[1]名單!$A$1:$Z$65536,4,0)) -> 二崙 | H26: =IF(F26="","",VLOOKUP(F26,[1]名單!$A$1:$Z$65536,2,0)) -> 徐為民 | I26: 1697 | J26: =IF(I26="","",VLOOKUP(I26,[1]名單!$A$1:$Z$65536,4,0)) -> 淵明 | K26: =IF(I26="","",VLOOKUP(I26,[1]名單!$A$1:$Z$65536,2,0)) -> 張景評 | L26: 1715 | M26: =IF(L26="","",VLOOKUP(L26,[1]名單!$A$1:$Z$65536,4,0)) -> 崙背 | N26: =IF(L26="","",VLOOKUP(L26,[1]名單!$A$1:$Z$65536,2,0)) -> 林冠宏
A27: A23 | B27: 0.43055556 | C27: 1629 | D27: =IF(C27="","",VLOOKUP(C27,[1]名單!$A$1:$Z$65536,4,0)) -> 元長 | E27: =IF(C27="","",VLOOKUP(C27,[1]名單!$A$1:$Z$65536,2,0)) -> 李星緯 | F27: 1703 | G27: =IF(F27="","",VLOOKUP(F27,[1]名單!$A$1:$Z$65536,4,0)) -> 正心 | H27: =IF(F27="","",VLOOKUP(F27,[1]名單!$A$1:$Z$65536,2,0)) -> 朱翊豪 | I27: 1710 | J27: =IF(I27="","",VLOOKUP(I27,[1]名單!$A$1:$Z$65536,4,0)) -> 東明 | K27: =IF(I27="","",VLOOKUP(I27,[1]名單!$A$1:$Z$65536,2,0)) -> 楊迪硯 | M27: =IF(L27="","",VLOOKUP(L27,[1]名單!$A$1:$Z$65536,4,0)) | N27: =IF(L27="","",VLOOKUP(L27,[1]名單!$A$1:$Z$65536,2,0))
A28: A24 | B28: 0.43402778 | C28: 1632 | D28: =IF(C28="","",VLOOKUP(C28,[1]名單!$A$1:$Z$65536,4,0)) -> 元長 | E28: =IF(C28="","",VLOOKUP(C28,[1]名單!$A$1:$Z$65536,2,0)) -> 陳暵祥 | F28: 1698 | G28: =IF(F28="","",VLOOKUP(F28,[1]名單!$A$1:$Z$65536,4,0)) -> 淵明 | H28: =IF(F28="","",VLOOKUP(F28,[1]名單!$A$1:$Z$65536,2,0)) -> 張智揚 | I28: 1709 | J28: =IF(I28="","",VLOOKUP(I28,[1]名單!$A$1:$Z$65536,4,0)) -> 東明 | K28: =IF(I28="","",VLOOKUP(I28,[1]名單!$A$1:$Z$65536,2,0)) -> 張峻維 | M28: =IF(L28="","",VLOOKUP(L28,[1]名單!$A$1:$Z$65536,4,0)) | N28: =IF(L28="","",VLOOKUP(L28,[1]名單!$A$1:$Z$65536,2,0))
A29: 11 | B29: 組別 | D29: =VLOOKUP(A29,[1]組別!$A$1:$AK$65536,2,0) -> 國小六年級男童組 | P29: 裁判
A30: A25 | B30: 0.4375 | C30: 1901 | D30: =IF(C30="","",VLOOKUP(C30,[1]名單!$A$1:$Z$65536,4,0)) -> 林內 | E30: =IF(C30="","",VLOOKUP(C30,[1]名單!$A$1:$Z$65536,2,0)) -> 吳棋宏 | F30: 1947 | G30: =IF(F30="","",VLOOKUP(F30,[1]名單!$A$1:$Z$65536,4,0)) -> 僑真 | H30: =IF(F30="","",VLOOKUP(F30,[1]名單!$A$1:$Z$65536,2,0)) -> 蕭傑宸 | I30: 1987 | J30: =IF(I30="","",VLOOKUP(I30,[1]名單!$A$1:$Z$65536,4,0)) -> 大同 | K30: =IF(I30="","",VLOOKUP(I30,[1]名單!$A$1:$Z$65536,2,0)) -> 楊健弘 | L30: 1907 | M30: =IF(L30="","",VLOOKUP(L30,[1]名單!$A$1:$Z$65536,4,0)) -> 重興 | N30: =IF(L30="","",VLOOKUP(L30,[1]名單!$A$1:$Z$65536,2,0)) -> 廖偉傑 | P30: =IF(O30="","",VLOOKUP(O30,[1]名單!$A$1:$Z$65536,2,0))
A31: A26 | B31: 0.44097222 | C31: 1902 | D31: =IF(C31="","",VLOOKUP(C31,[1]名單!$A$1:$Z$65536,4,0)) -> 林內 | E31: =IF(C31="","",VLOOKUP(C31,[1]名單!$A$1:$Z$65536,2,0)) -> 張克誠 | F31: 1948 | G31: =IF(F31="","",VLOOKUP(F31,[1]名單!$A$1:$Z$65536,4,0)) -> 僑真 | H31: =IF(F31="","",VLOOKUP(F31,[1]名單!$A$1:$Z$65536,2,0)) -> 陳翔宇 | I31: 1988 | J31: =IF(I31="","",VLOOKUP(I31,[1]名單!$A$1:$Z$65536,4,0)) -> 大同 | K31: =IF(I31="","",VLOOKUP(I31,[1]名單!$A$1:$Z$65536,2,0)) -> 楊敦勛 | L31: 1908 | M31: =IF(L31="","",VLOOKUP(L31,[1]名單!$A$1:$Z$65536,4,0)) -> 重興 | N31: =IF(L31="","",VLOOKUP(L31,[1]名單!$A$1:$Z$65536,2,0)) -> 張宇霖 | P31: =IF(O31="","",VLOOKUP(O31,[1]名單!$A$1:$Z$65536,2,0))
A32: A27 | B32: 0.44444444 | C32: 1903 | D32: =IF(C32="","",VLOOKUP(C32,[1]名單!$A$1:$Z$65536,4,0)) -> 林內 | E32: =IF(C32="","",VLOOKUP(C32,[1]名單!$A$1:$Z$65536,2,0)) -> 李柏勳 | F32: 1943 | G32: =IF(F32="","",VLOOKUP(F32,[1]名單!$A$1:$Z$65536,4,0)) -> 僑真 | H32: =IF(F32="","",VLOOKUP(F32,[1]名單!$A$1:$Z$65536,2,0)) -> 何柏輊 | I32: 1989 | J32: =IF(I32="","",VLOOKUP(I32,[1]名單!$A$1:$Z$65536,4,0)) -> 大同 | K32: =IF(I32="","",VLOOKUP(I32,[1]名單!$A$1:$Z$65536,2,0)) -> 鄭登薰 | L32: 1909 | M32: =IF(L32="","",VLOOKUP(L32,[1]名單!$A$1:$Z$65536,4,0)) -> 重興 | N32: =IF(L32="","",VLOOKUP(L32,[1]名單!$A$1:$Z$65536,2,0)) -> 張守鎮 | P32: =IF(O32="","",VLOOKUP(O32,[1]名單!$A$1:$Z$65536,2,0))
A33: A28 | B33: 0.44791667 | C33: 1904 | D33: =IF(C33="","",VLOOKUP(C33,[1]名單!$A$1:$Z$65536,4,0)) -> 林內 | E33: =IF(C33="","",VLOOKUP(C33,[1]名單!$A$1:$Z$65536,2,0)) -> 蔡仕昌 | F33: 1944 | G33: =IF(F33="","",VLOOKUP(F33,[1]名單!$A$1:$Z$65536,4,0)) -> 僑真 | H33: =IF(F33="","",VLOOKUP(F33,[1]名單!$A$1:$Z$65536,2,0)) -> 張家維 | I33: 1990 | J33: =IF(I33="","",VLOOKUP(I33,[1]名單!$A$1:$Z$65536,4,0)) -> 大同 | K33: =IF(I33="","",VLOOKUP(I33,[1]名單!$A$1:$Z$65536,2,0)) -> 鍾元耀 | L33: 1910 | M33: =IF(L33="","",VLOOKUP(L33,[1]名單!$A$1:$Z$65536,4,0)) -> 重興 | N33: =IF(L33="","",VLOOKUP(L33,[1]名單!$A$1:$Z$65536,2,0)) -> 張正煜 | P33: =IF(O33="","",VLOOKUP(O33,[1]名單!$A$1:$Z$65536,2,0))
A34: A29 | B34: 0.45138889 | C34: 1905 | D34: =IF(C34="","",VLOOKUP(C34,[1]名單!$A$1:$Z$65536,4,0)) -> 林內 | E34: =IF(C34="","",VLOOKUP(C34,[1]名單!$A$1:$Z$65536,2,0)) -> 蘇鈺傑 | F34: 1945 | G34: =IF(F34="","",VLOOKUP(F34,[1]名單!$A$1:$Z$65536,4,0)) -> 僑真 | H34: =IF(F34="","",VLOOKUP(F34,[1]名單!$A$1:$Z$65536,2,0)) -> 林佳賢 | I34: 1985 | J34: =IF(I34="","",VLOOKUP(I34,[1]名單!$A$1:$Z$65536,4,0)) -> 大同 | K34: =IF(I34="","",VLOOKUP(I34,[1]名單!$A$1:$Z$65536,2,0)) -> 廖昭貴 | L34: 1911 | M34: =IF(L34="","",VLOOKUP(L34,[1]名單!$A$1:$Z$65536,4,0)) -> 重興 | N34: =IF(L34="","",VLOOKUP(L34,[1]名單!$A$1:$Z$65536,2,0)) -> 鄭景旻 | P34: =IF(O34="","",VLOOKUP(O34,[1]名單!$A$1:$Z$65536,2,0))
A35: A30 | B35: 0.45486111 | C35: 1906 | D35: =IF(C35="","",VLOOKUP(C35,[1]名單!$A$1:$Z$65536,4,0)) -> 林內 | E35: =IF(C35="","",VLOOKUP(C35,[1]名單!$A$1:$Z$65536,2,0)) -> 陳彥辰 | F35: 1946 | G35: =IF(F35="","",VLOOKUP(F35,[1]名單!$A$1:$Z$65536,4,0)) -> 僑真 | H35: =IF(F35="","",VLOOKUP(F35,[1]名單!$A$1:$Z$65536,2,0)) -> 林建銘 | I35: 1986 | J35: =IF(I35="","",VLOOKUP(I35,[1]名單!$A$1:$Z$65536,4,0)) -> 大同 | K35: =IF(I35="","",VLOOKUP(I35,[1]名單!$A$1:$Z$65536,2,0)) -> 林煒倫 | L35: 1912 | M35: =IF(L35="","",VLOOKUP(L35,[1]名單!$A$1:$Z$65536,4,0)) -> 重興 | N35: =IF(L35="","",VLOOKUP(L35,[1]名單!$A$1:$Z$65536,2,0)) -> 陳聖毅 | P35: =IF(O35="","",VLOOKUP(O35,[1]名單!$A$1:$Z$65536,2,0))
A36: A31 | B36: 0.45833333 | C36: 1941 | D36: =IF(C36="","",VLOOKUP(C36,[1]名單!$A$1:$Z$65536,4,0)) -> 重光 | E36: =IF(C36="","",VLOOKUP(C36,[1]名單!$A$1:$Z$65536,2,0)) -> 陳致遠 | F36: 1952 | G36: =IF(F36="","",VLOOKUP(F36,[1]名單!$A$1:$Z$65536,4,0)) -> 仁和 | H36: =IF(F36="","",VLOOKUP(F36,[1]名單!$A$1:$Z$65536,2,0)) -> 李宥樑 | I36: 1991 | J36: =IF(I36="","",VLOOKUP(I36,[1]名單!$A$1:$Z$65536,4,0)) -> 信義 | K36: =IF(I36="","",VLOOKUP(I36,[1]名單!$A$1:$Z$65536,2,0)) -> 吳宜達 | L36: 1913 | M36: =IF(L36="","",VLOOKUP(L36,[1]名單!$A$1:$Z$65536,4,0)) -> 重興 | N36: =IF(L36="","",VLOOKUP(L36,[1]名單!$A$1:$Z$65536,2,0)) -> 戴鑫樺 | P36: =IF(O36="","",VLOOKUP(O36,[1]名單!$A$1:$Z$65536,2,0))
A37: A32 | B37: 0.46180556 | C37: 1942 | D37: =IF(C37="","",VLOOKUP(C37,[1]名單!$A$1:$Z$65536,4,0)) -> 重光 | E37: =IF(C37="","",VLOOKUP(C37,[1]名單!$A$1:$Z$65536,2,0)) -> 黃致盛 | F37: 1953 | G37: =IF(F37="","",VLOOKUP(F37,[1]名單!$A$1:$Z$65536,4,0)) -> 仁和 | H37: =IF(F37="","",VLOOKUP(F37,[1]名單!$A$1:$Z$65536,2,0)) -> 陳炳璋 | I37: 1992 | J37: =IF(I37="","",VLOOKUP(I37,[1]名單!$A$1:$Z$65536,4,0)) -> 信義 | K37: =IF(I37="","",VLOOKUP(I37,[1]名單!$A$1:$Z$65536,2,0)) -> 吳旻峻 | L37: 1914 | M37: =IF(L37="","",VLOOKUP(L37,[1]名單!$A$1:$Z$65536,4,0)) -> 重興 | N37: =IF(L37="","",VLOOKUP(L37,[1]名單!$A$1:$Z$65536,2,0)) -> 葉淯蜂 | P37: =IF(O37="","",VLOOKUP(O37,[1]名單!$A$1:$Z$65536,2,0))
A38: A33 | B38: 0.46527778 | C38: 1937 | D38: =IF(C38="","",VLOOKUP(C38,[1]名單!$A$1:$Z$65536,4,0)) -> 重光 | E38: =IF(C38="","",VLOOKUP(C38,[1]名單!$A$1:$Z$65536,2,0)) -> 翁聖德 | F38: 1949 | G38: =IF(F38="","",VLOOKUP(F38,[1]名單!$A$1:$Z$65536,4,0)) -> 仁和 | H38: =IF(F38="","",VLOOKUP(F38,[1]名單!$A$1:$Z$65536,2,0)) -> 周昆宏 | I38: 1993 | J38: =IF(I38="","",VLOOKUP(I38,[1]名單!$A$1:$Z$65536,4,0)) -> 信義 | K38: =IF(I38="","",VLOOKUP(I38,[1]名單!$A$1:$Z$65536,2,0)) -> 李武竣 | L38: 1919 | M38: =IF(L38="","",VLOOKUP(L38,[1]名單!$A$1:$Z$65536,4,0)) -> 大東 | N38: =IF(L38="","",VLOOKUP(L38,[1]名單!$A$1:$Z$65536,2,0)) -> 劉昆憲 | P38: =IF(O38="","",VLOOKUP(O38,[1]名單!$A$1:$Z$65536,2,0))
A39: A34 | B39: 0.46875 | C39: 1938 | D39: =IF(C39="","",VLOOKUP(C39,[1]名單!$A$1:$Z$65536,4,0)) -> 重光 | E39: =IF(C39="","",VLOOKUP(C39,[1]名單!$A$1:$Z$65536,2,0)) -> 葉翔偉 | F39: 1950 | G39: =IF(F39="","",VLOOKUP(F39,[1]名單!$A$1:$Z$65536,4,0)) -> 仁和 | H39: =IF(F39="","",VLOOKUP(F39,[1]名單!$A$1:$Z$65536,2,0)) -> 張嘉升 | I39: 1994 | J39: =IF(I39="","",VLOOKUP(I39,[1]名單!$A$1:$Z$65536,4,0)) -> 信義 | K39: =IF(I39="","",VLOOKUP(I39,[1]名單!$A$1:$Z$65536,2,0)) -> 蔡奇峰 | L39: 1920 | M39: =IF(L39="","",VLOOKUP(L39,[1]名單!$A$1:$Z$65536,4,0)) -> 大東 | N39: =IF(L39="","",VLOOKUP(L39,[1]名單!$A$1:$Z$65536,2,0)) -> 張益維 | P39: =IF(O39="","",VLOOKUP(O39,[1]名單!$A$1:$Z$65536,2,0))
A40: A35 | B40: 0.47222222 | C40: 1939 | D40: =IF(C40="","",VLOOKUP(C40,[1]名單!$A$1:$Z$65536,4,0)) -> 重光 | E40: =IF(C40="","",VLOOKUP(C40,[1]名單!$A$1:$Z$65536,2,0)) -> 陳建宏 | F40: 1951 | G40: =IF(F40="","",VLOOKUP(F40,[1]名單!$A$1:$Z$65536,4,0)) -> 仁和 | H40: =IF(F40="","",VLOOKUP(F40,[1]名單!$A$1:$Z$65536,2,0)) -> 張永諭 | I40: 1931 | J40: =IF(I40="","",VLOOKUP(I40,[1]名單!$A$1:$Z$65536,4,0)) -> 石龜 | K40: =IF(I40="","",VLOOKUP(I40,[1]名單!$A$1:$Z$65536,2,0)) -> 徐治瀚 | L40: 1921 | M40: =IF(L40="","",VLOOKUP(L40,[1]名單!$A$1:$Z$65536,4,0)) -> 大東 | N40: =IF(L40="","",VLOOKUP(L40,[1]名單!$A$1:$Z$65536,2,0)) -> 沈佑任 | P40: =IF(O40="","",VLOOKUP(O40,[1]名單!$A$1:$Z$65536,2,0))
A41: A36 | B41: 0.47569444 | C41: 1940 | D41: =IF(C41="","",VLOOKUP(C41,[1]名單!$A$1:$Z$65536,4,0)) -> 重光 | E41: =IF(C41="","",VLOOKUP(C41,[1]名單!$A$1:$Z$65536,2,0)) -> 陳振庭 | F41: 1973 | G41: =IF(F41="","",VLOOKUP(F41,[1]名單!$A$1:$Z$65536,4,0)) -> 宏崙 | H41: =IF(F41="","",VLOOKUP(F41,[1]名單!$A$1:$Z$65536,2,0)) -> 吳書睿 | I41: 1932 | J41: =IF(I41="","",VLOOKUP(I41,[1]名單!$A$1:$Z$65536,4,0)) -> 石龜 | K41: =IF(I41="","",VLOOKUP(I41,[1]名單!$A$1:$Z$65536,2,0)) -> 曾慶翔 | L41: 1922 | M41: =IF(L41="","",VLOOKUP(L41,[1]名單!$A$1:$Z$65536,4,0)) -> 大東 | N41: =IF(L41="","",VLOOKUP(L41,[1]名單!$A$1:$Z$65536,2,0)) -> 沈庭毅 | P41: =IF(O41="","",VLOOKUP(O41,[1]名單!$A$1:$Z$65536,2,0))
... A49: A44 | B49: 0.50347222 | C49: 1968 | D49: =IF(C49="","",VLOOKUP(C49,[1]名單!$A$1:$Z$65536,4,0)) -> 光復 | E49: =IF(C49="","",VLOOKUP(C49,[1]名單!$A$1:$Z$65536,2,0)) -> 陳科儒 | F49: 1981 | G49: =IF(F49="","",VLOOKUP(F49,[1]名單!$A$1:$Z$65536,4,0)) -> 三和 | H49: =IF(F49="","",VLOOKUP(F49,[1]名單!$A$1:$Z$65536,2,0)) -> 廖彥鈞 | I49: 1997 | J49: =IF(I49="","",VLOOKUP(I49,[1]名單!$A$1:$Z$65536,4,0)) -> 民生 | K49: =IF(I49="","",VLOOKUP(I49,[1]名單!$A$1:$Z$65536,2,0)) -> 林廷諺 | L49: 1955 | M49: =IF(L49="","",VLOOKUP(L49,[1]名單!$A$1:$Z$65536,4,0)) -> 大屯 | N49: =IF(L49="","",VLOOKUP(L49,[1]名單!$A$1:$Z$65536,2,0)) -> 沈俊諺 | P49: =IF(O49="","",VLOOKUP(O49,[1]名單!$A$1:$Z$65536,2,0))
A50: A45 | B50: 0.50694444 | C50: 1956 | D50: =IF(C50="","",VLOOKUP(C50,[1]名單!$A$1:$Z$65536,4,0)) -> 大屯 | E50: =IF(C50="","",VLOOKUP(C50,[1]名單!$A$1:$Z$65536,2,0)) -> 王學鈞 | F50: 1982 | G50: =IF(F50="","",VLOOKUP(F50,[1]名單!$A$1:$Z$65536,4,0)) -> 三和 | H50: =IF(F50="","",VLOOKUP(F50,[1]名單!$A$1:$Z$65536,2,0)) -> 廖澤閎 | I50: 1998 | J50: =IF(I50="","",VLOOKUP(I50,[1]名單!$A$1:$Z$65536,4,0)) -> 民生 | K50: =IF(I50="","",VLOOKUP(I50,[1]名單!$A$1:$Z$65536,2,0)) -> 蔡景文 | M50: =IF(L50="","",VLOOKUP(L50,[1]名單!$A$1:$Z$65536,4,0)) | N50: =IF(L50="","",VLOOKUP(L50,[1]名單!$A$1:$Z$65536,2,0)) | P50: =IF(O50="","",VLOOKUP(O50,[1]名單!$A$1:$Z$65536,2,0))
B51: 個人決賽 | P51: 裁判
A52: A46 | B52: 0.5625 | C52: 8064 | D52: =VLOOKUP(C52,[1]組別!$B$1:$AK$65536,2,0) -> 國女12 | F52: 8065 | G52: =VLOOKUP(F52,[1]組別!$B$1:$AK$65536,2,0) -> 國女11 | I52: 8066 | J52: =VLOOKUP(I52,[1]組別!$B$1:$AK$65536,2,0) -> 國女10 | L52: 8067 | M52: =VLOOKUP(L52,[1]組別!$B$1:$AK$65536,2,0) -> 國女9 | P52: =IF(O52="","",VLOOKUP(O52,[1]名單!$A$1:$Z$65536,2,0))
A53: A47 | B53: 0.56597222 | C53: 8068 | D53: =VLOOKUP(C53,[1]組別!$B$1:$AK$65536,2,0) -> 國女8 | F53: 8069 | G53: =VLOOKUP(F53,[1]組別!$B$1:$AK$65536,2,0) -> 國女7 | I53: 8070 | J53: =VLOOKUP(I53,[1]組別!$B$1:$AK$65536,2,0) -> 國女6 | L53: 8071 | M53: =VLOOKUP(L53,[1]組別!$B$1:$AK$65536,2,0) -> 國女5 | P53: =IF(O53="","",VLOOKUP(O53,[1]名單!$A$1:$Z$65536,2,0))
A54: A48 | B54: 0.56944444 | C54: 8072 | D54: =VLOOKUP(C54,[1]組別!$B$1:$AK$65536,2,0) -> 國女4 | F54: 8073 | G54: =VLOOKUP(F54,[1]組別!$B$1:$AK$65536,2,0) -> 國女3 | I54: 8074 | J54: =VLOOKUP(I54,[1]組別!$B$1:$AK$65536,2,0) -> 國女2 | L54: 8075 | M54: =VLOOKUP(L54,[1]組別!$B$1:$AK$65536,2,0) -> 國女1 | P54: =IF(O54="","",VLOOKUP(O54,[1]名單!$A$1:$Z$65536,2,0))
A55: A49 | B55: 0.57291667 | C55: 8079 | D55: =VLOOKUP(C55,[1]組別!$B$1:$AK$65536,2,0) -> 六女12 | F55: 8080 | G55: =VLOOKUP(F55,[1]組別!$B$1:$AK$65536,2,0) -> 六女11 | I55: 8081 | J55: =VLOOKUP(I55,[1]組別!$B$1:$AK$65536,2,0) -> 六女10 | L55: 8082 | M55: =VLOOKUP(L55,[1]組別!$B$1:$AK$65536,2,0) -> 六女9 | P55: =IF(O55="","",VLOOKUP(O55,[1]名單!$A$1:$Z$65536,2,0))
A56: A50 | B56: 0.57638889 | C56: 8083 | D56: =VLOOKUP(C56,[1]組別!$B$1:$AK$65536,2,0) -> 六女8 | F56: 8084 | G56: =VLOOKUP(F56,[1]組別!$B$1:$AK$65536,2,0) -> 六女7 | I56: 8085 | J56: =VLOOKUP(I56,[1]組別!$B$1:$AK$65536,2,0) -> 六女6 | L56: 8086 | M56: =VLOOKUP(L56,[1]組別!$B$1:$AK$65536,2,0) -> 六女5 | P56: =IF(O56="","",VLOOKUP(O56,[1]名單!$A$1:$Z$65536,2,0))
A57: A51 | B57: 0.57986111 | C57: 8087 | D57: =VLOOKUP(C57,[1]組別!$B$1:$AK$65536,2,0) -> 六女4 | F57: 8088 | G57: =VLOOKUP(F57,[1]組別!$B$1:$AK$65536,2,0) -> 六女3 | I57: 8089 | J57: =VLOOKUP(I57,[1]組別!$B$1:$AK$65536,2,0) -> 六女2 | L57: 8090 | M57: =VLOOKUP(L57,[1]組別!$B$1:$AK$65536,2,0) -> 六女1 | P57: =IF(O57="","",VLOOKUP(O57,[1]名單!$A$1:$Z$65536,2,0))
A62: =A1 -> 105年春季縣長盃木球賽賽程表
A63: 日 期 | C63: 105年4月15日（星期五）B場地
A64: 場次 | B64: 時間 | C64: 選 手 名 單
A65: 10 | B65: 組別 | D65: =VLOOKUP(A65,[1]組別!$A$1:$AK$65536,2,0) -> 國中女子組 | P65: 裁判
A66: B1 | B66: 0.35416667 | C66: 5501 | D66: =IF(C66="","",VLOOKUP(C66,[1]名單!$A$1:$Z$65536,4,0)) -> 大埤 | E66: =IF(C66="","",VLOOKUP(C66,[1]名單!$A$1:$Z$65536,2,0)) -> 劉怡雯 | F66: 5565 | G66: =IF(F66="","",VLOOKUP(F66,[1]名單!$A$1:$Z$65536,4,0)) -> 石榴 | H66: =IF(F66="","",VLOOKUP(F66,[1]名單!$A$1:$Z$65536,2,0)) -> 賴宛瑜 | I66: 5573 | J66: =IF(I66="","",VLOOKUP(I66,[1]名單!$A$1:$Z$65536,4,0)) -> 林內 | K66: =IF(I66="","",VLOOKUP(I66,[1]名單!$A$1:$Z$65536,2,0)) -> 丁婉芯 | L66: 5537 | M66: =IF(L66="","",VLOOKUP(L66,[1]名單!$A$1:$Z$65536,4,0)) -> 馬光 | N66: =IF(L66="","",VLOOKUP(L66,[1]名單!$A$1:$Z$65536,2,0)) -> 劉凱棋 | P66: =IF(O66="","",VLOOKUP(O66,[1]名單!$A$1:$Z$65536,2,0))
A67: B2 | B67: 0.35763889 | C67: 5502 | D67: =IF(C67="","",VLOOKUP(C67,[1]名單!$A$1:$Z$65536,4,0)) -> 大埤 | E67: =IF(C67="","",VLOOKUP(C67,[1]名單!$A$1:$Z$65536,2,0)) -> 張晏菱 | F67: 5566 | G67: =IF(F67="","",VLOOKUP(F67,[1]名單!$A$1:$Z$65536,4,0)) -> 石榴 | H67: =IF(F67="","",VLOOKUP(F67,[1]名單!$A$1:$Z$65536,2,0)) -> 陳誌玟 | I67: 5574 | J67: =IF(I67="","",VLOOKUP(I67,[1]名單!$A$1:$Z$65536,4,0)) -> 林內 | K67: =IF(I67="","",VLOOKUP(I67,[1]名單!$A$1:$Z$65536,2,0)) -> 劉心儀 | L67: 5538 | M67: =IF(L67="","",VLOOKUP(L67,[1]名單!$A$1:$Z$65536,4,0)) -> 馬光 | N67: =IF(L67="","",VLOOKUP(L67,[1]名單!$A$1:$Z$65536,2,0)) -> 吳佩蓉 | P67: =IF(O67="","",VLOOKUP(O67,[1]名單!$A$1:$Z$65536,2,0))
A68: B3 | B68: 0.36111111 | C68: 5503 | D68: =IF(C68="","",VLOOKUP(C68,[1]名單!$A$1:$Z$65536,4,0)) -> 大埤 | E68: =IF(C68="","",VLOOKUP(C68,[1]名單!$A$1:$Z$65536,2,0)) -> 簡苡媜 | F68: 5567 | G68: =IF(F68="","",VLOOKUP(F68,[1]名單!$A$1:$Z$65536,4,0)) -> 石榴 | H68: =IF(F68="","",VLOOKUP(F68,[1]名單!$A$1:$Z$65536,2,0)) -> 何羽婕* | I68: 5575 | J68: =IF(I68="","",VLOOKUP(I68,[1]名單!$A$1:$Z$65536,4,0)) -> 林內 | K68: =IF(I68="","",VLOOKUP(I68,[1]名單!$A$1:$Z$65536,2,0)) -> 張惠菁 | L68: 5539 | M68: =IF(L68="","",VLOOKUP(L68,[1]名單!$A$1:$Z$65536,4,0)) -> 馬光 | N68: =IF(L68="","",VLOOKUP(L68,[1]名單!$A$1:$Z$65536,2,0)) -> 吳沂蒨 | P68: =IF(O68="","",VLOOKUP(O68,[1]名單!$A$1:$Z$65536,2,0))
A69: B4 | B69: 0.36458333 | C69: 5504 | D69: =IF(C69="","",VLOOKUP(C69,[1]名單!$A$1:$Z$65536,4,0)) -> 大埤 | E69: =IF(C69="","",VLOOKUP(C69,[1]名單!$A$1:$Z$65536,2,0)) -> 謝沅臻 | F69: 5568 | G69: =IF(F69="","",VLOOKUP(F69,[1]名單!$A$1:$Z$65536,4,0)) -> 石榴 | H69: =IF(F69="","",VLOOKUP(F69,[1]名單!$A$1:$Z$65536,2,0)) -> 劉姿儀* | I69: 5576 | J69: =IF(I69="","",VLOOKUP(I69,[1]名單!$A$1:$Z$65536,4,0)) -> 林內 | K69: =IF(I69="","",VLOOKUP(I69,[1]名單!$A$1:$Z$65536,2,0)) -> 林均蓓 | L69: 5540 | M69: =IF(L69="","",VLOOKUP(L69,[1]名單!$A$1:$Z$65536,4,0)) -> 馬光 | N69: =IF(L69="","",VLOOKUP(L69,[1]名單!$A$1:$Z$65536,2,0)) -> 林盈淑
A70: B5 | B70: 0.36805556 | C70: 5505 | D70: =IF(C70="","",VLOOKUP(C70,[1]名單!$A$1:$Z$65536,4,0)) -> 大埤 | E70: =IF(C70="","",VLOOKUP(C70,[1]名單!$A$1:$Z$65536,2,0)) -> 陳國色 | F70: 5569 | G70: =IF(F70="","",VLOOKUP(F70,[1]名單!$A$1:$Z$65536,4,0)) -> 石榴 | H70: =IF(F70="","",VLOOKUP(F70,[1]名單!$A$1:$Z$65536,2,0)) -> 詹雅晴* | I70: 5577 | J70: =IF(I70="","",VLOOKUP(I70,[1]名單!$A$1:$Z$65536,4,0)) -> 林內 | K70: =IF(I70="","",VLOOKUP(I70,[1]名單!$A$1:$Z$65536,2,0)) -> 楊偲苹 | L70: 5541 | M70: =IF(L70="","",VLOOKUP(L70,[1]名單!$A$1:$Z$65536,4,0)) -> 馬光 | N70: =IF(L70="","",VLOOKUP(L70,[1]名單!$A$1:$Z$65536,2,0)) -> 許悅倫
A71: B6 | B71: 0.37152778 | C71: 5506 | D71: =IF(C71="","",VLOOKUP(C71,[1]名單!$A$1:$Z$65536,4,0)) -> 大埤 | E71: =IF(C71="","",VLOOKUP(C71,[1]名單!$A$1:$Z$65536,2,0)) -> 陳圓圓 | F71: 5570 | G71: =IF(F71="","",VLOOKUP(F71,[1]名單!$A$1:$Z$65536,4,0)) -> 石榴 | H71: =IF(F71="","",VLOOKUP(F71,[1]名單!$A$1:$Z$65536,2,0)) -> 陳倩誼* | I71: 5578 | J71: =IF(I71="","",VLOOKUP(I71,[1]名單!$A$1:$Z$65536,4,0)) -> 林內 | K71: =IF(I71="","",VLOOKUP(I71,[1]名單!$A$1:$Z$65536,2,0)) -> 王羽旋 | L71: 5542 | M71: =IF(L71="","",VLOOKUP(L71,[1]名單!$A$1:$Z$65536,4,0)) -> 馬光 | N71: =IF(L71="","",VLOOKUP(L71,[1]名單!$A$1:$Z$65536,2,0)) -> 陳葦芸
A72: B7 | B72: 0.375 | C72: 5507 | D72: =IF(C72="","",VLOOKUP(C72,[1]名單!$A$1:$Z$65536,4,0)) -> 大埤 | E72: =IF(C72="","",VLOOKUP(C72,[1]名單!$A$1:$Z$65536,2,0)) -> 張維珍 | F72: 5555 | G72: =IF(F72="","",VLOOKUP(F72,[1]名單!$A$1:$Z$65536,4,0)) -> 石榴 | H72: =IF(F72="","",VLOOKUP(F72,[1]名單!$A$1:$Z$65536,2,0)) -> 劉姿慧 | I72: 5579 | J72: =IF(I72="","",VLOOKUP(I72,[1]名單!$A$1:$Z$65536,4,0)) -> 林內 | K72: =IF(I72="","",VLOOKUP(I72,[1]名單!$A$1:$Z$65536,2,0)) -> 吳慈芳 | L72: 5543 | M72: =IF(L72="","",VLOOKUP(L72,[1]名單!$A$1:$Z$65536,4,0)) -> 馬光 | N72: =IF(L72="","",VLOOKUP(L72,[1]名單!$A$1:$Z$65536,2,0)) -> 吳宜蓁
A73: B8 | B73: 0.37847222 | C73: 5508 | D73: =IF(C73="","",VLOOKUP(C73,[1]名單!$A$1:$Z$65536,4,0)) -> 大埤 | E73: =IF(C73="","",VLOOKUP(C73,[1]名單!$A$1:$Z$65536,2,0)) -> 徐佩妏 | F73: 5556 | G73: =IF(F73="","",VLOOKUP(F73,[1]名單!$A$1:$Z$65536,4,0)) -> 石榴 | H73: =IF(F73="","",VLOOKUP(F73,[1]名單!$A$1:$Z$65536,2,0)) -> 林佑柔 | I73: 5580 | J73: =IF(I73="","",VLOOKUP(I73,[1]名單!$A$1:$Z$65536,4,0)) -> 林內 | K73: =IF(I73="","",VLOOKUP(I73,[1]名單!$A$1:$Z$65536,2,0)) -> 王郁嵋 | L73: 5544 | M73: =IF(L73="","",VLOOKUP(L73,[1]名單!$A$1:$Z$65536,4,0)) -> 馬光 | N73: =IF(L73="","",VLOOKUP(L73,[1]名單!$A$1:$Z$65536,2,0)) -> 林盈萱
A74: B9 | B74: 0.38194444 | C74: 5509 | D74: =IF(C74="","",VLOOKUP(C74,[1]名單!$A$1:$Z$65536,4,0)) -> 大埤 | E74: =IF(C74="","",VLOOKUP(C74,[1]名單!$A$1:$Z$65536,2,0)) -> 林佳穎 | F74: 5557 | G74: =IF(F74="","",VLOOKUP(F74,[1]名單!$A$1:$Z$65536,4,0)) -> 石榴 | H74: =IF(F74="","",VLOOKUP(F74,[1]名單!$A$1:$Z$65536,2,0)) -> 林邑庭 | I74: 5581 | J74: =IF(I74="","",VLOOKUP(I74,[1]名單!$A$1:$Z$65536,4,0)) -> 林內 | K74: =IF(I74="","",VLOOKUP(I74,[1]名單!$A$1:$Z$65536,2,0)) -> 鄭湘錞 | L74: 5545 | M74: =IF(L74="","",VLOOKUP(L74,[1]名單!$A$1:$Z$65536,4,0)) -> 馬光 | N74: =IF(L74="","",VLOOKUP(L74,[1]名單!$A$1:$Z$65536,2,0)) -> 林育瑛
A75: B10 | B75: 0.38541667 | C75: 5510 | D75: =IF(C75="","",VLOOKUP(C75,[1]名單!$A$1:$Z$65536,4,0)) -> 大埤 | E75: =IF(C75="","",VLOOKUP(C75,[1]名單!$A$1:$Z$65536,2,0)) -> 林詩涵 | F75: 5558 | G75: =IF(F75="","",VLOOKUP(F75,[1]名單!$A$1:$Z$65536,4,0)) -> 石榴 | H75: =IF(F75="","",VLOOKUP(F75,[1]名單!$A$1:$Z$65536,2,0)) -> 羅悦瑜 | I75: 5582 | J75: =IF(I75="","",VLOOKUP(I75,[1]名單!$A$1:$Z$65536,4,0)) -> 林內 | K75: =IF(I75="","",VLOOKUP(I75,[1]名單!$A$1:$Z$65536,2,0)) -> 陳心玫 | L75: 5546 | M75: =IF(L75="","",VLOOKUP(L75,[1]名單!$A$1:$Z$65536,4,0)) -> 馬光 | N75: =IF(L75="","",VLOOKUP(L75,[1]名單!$A$1:$Z$65536,2,0)) -> 許右甄
A76: B11 | B76: 0.38888889 | C76: 5511 | D76: =IF(C76="","",VLOOKUP(C76,[1]名單!$A$1:$Z$65536,4,0)) -> 大埤 | E76: =IF(C76="","",VLOOKUP(C76,[1]名單!$A$1:$Z$65536,2,0)) -> 林鈺芳 | F76: 5559 | G76: =IF(F76="","",VLOOKUP(F76,[1]名單!$A$1:$Z$65536,4,0)) -> 石榴 | H76: =IF(F76="","",VLOOKUP(F76,[1]名單!$A$1:$Z$65536,2,0)) -> 陳玟娟 | I76: 5583 | J76: =IF(I76="","",VLOOKUP(I76,[1]名單!$A$1:$Z$65536,4,0)) -> 林內 | K76: =IF(I76="","",VLOOKUP(I76,[1]名單!$A$1:$Z$65536,2,0)) -> 陳玟瑜 | L76: 5547 | M76: =IF(L76="","",VLOOKUP(L76,[1]名單!$A$1:$Z$65536,4,0)) -> 馬光 | N76: =IF(L76="","",VLOOKUP(L76,[1]名單!$A$1:$Z$65536,2,0)) -> 邱芷萱
A77: B12 | B77: 0.39236111 | C77: 5512 | D77: =IF(C77="","",VLOOKUP(C77,[1]名單!$A$1:$Z$65536,4,0)) -> 大埤 | E77: =IF(C77="","",VLOOKUP(C77,[1]名單!$A$1:$Z$65536,2,0)) -> 黃鈺甯 | F77: 5560 | G77: =IF(F77="","",VLOOKUP(F77,[1]名單!$A$1:$Z$65536,4,0)) -> 石榴 | H77: =IF(F77="","",VLOOKUP(F77,[1]名單!$A$1:$Z$65536,2,0)) -> 黎羿君 | I77: 5584 | J77: =IF(I77="","",VLOOKUP(I77,[1]名單!$A$1:$Z$65536,4,0)) -> 林內 | K77: =IF(I77="","",VLOOKUP(I77,[1]名單!$A$1:$Z$65536,2,0)) -> 黃昱恩 | L77: 5548 | M77: =IF(L77="","",VLOOKUP(L77,[1]名單!$A$1:$Z$65536,4,0)) -> 馬光 | N77: =IF(L77="","",VLOOKUP(L77,[1]名單!$A$1:$Z$65536,2,0)) -> 黃竹竟
A78: B13 | B78: 0.39583333 | C78: 5513 | D78: =IF(C78="","",VLOOKUP(C78,[1]名單!$A$1:$Z$65536,4,0)) -> 大埤 | E78: =IF(C78="","",VLOOKUP(C78,[1]名單!$A$1:$Z$65536,2,0)) -> 林佩萱* | F78: 5561 | G78: =IF(F78="","",VLOOKUP(F78,[1]名單!$A$1:$Z$65536,4,0)) -> 石榴 | H78: =IF(F78="","",VLOOKUP(F78,[1]名單!$A$1:$Z$65536,2,0)) -> 周珮淇 | I78: 5585 | J78: =IF(I78="","",VLOOKUP(I78,[1]名單!$A$1:$Z$65536,4,0)) -> 林內 | K78: =IF(I78="","",VLOOKUP(I78,[1]名單!$A$1:$Z$65536,2,0)) -> 周佩誼* | L78: 5549 | M78: =IF(L78="","",VLOOKUP(L78,[1]名單!$A$1:$Z$65536,4,0)) -> 馬光 | N78: =IF(L78="","",VLOOKUP(L78,[1]名單!$A$1:$Z$65536,2,0)) -> 王曉君*
A79: B14 | B79: 0.39930556 | C79: 5514 | D79: =IF(C79="","",VLOOKUP(C79,[1]名單!$A$1:$Z$65536,4,0)) -> 大埤 | E79: =IF(C79="","",VLOOKUP(C79,[1]名單!$A$1:$Z$65536,2,0)) -> 楊云萱* | F79: 5562 | G79: =IF(F79="","",VLOOKUP(F79,[1]名單!$A$1:$Z$65536,4,0)) -> 石榴 | H79: =IF(F79="","",VLOOKUP(F79,[1]名單!$A$1:$Z$65536,2,0)) -> 李于君 | I79: 5586 | J79: =IF(I79="","",VLOOKUP(I79,[1]名單!$A$1:$Z$65536,4,0)) -> 林內 | K79: =IF(I79="","",VLOOKUP(I79,[1]名單!$A$1:$Z$65536,2,0)) -> 張瑀芩* | L79: 5521 | M79: =IF(L79="","",VLOOKUP(L79,[1]名單!$A$1:$Z$65536,4,0)) -> 二崙 | N79: =IF(L79="","",VLOOKUP(L79,[1]名單!$A$1:$Z$65536,2,0)) -> 程郁捷
A80: B15 | B80: 0.40277778 | C80: 5515 | D80: =IF(C80="","",VLOOKUP(C80,[1]名單!$A$1:$Z$65536,4,0)) -> 大埤 | E80: =IF(C80="","",VLOOKUP(C80,[1]名單!$A$1:$Z$65536,2,0)) -> 甘智誼* | F80: 5563 | G80: =IF(F80="","",VLOOKUP(F80,[1]名單!$A$1:$Z$65536,4,0)) -> 石榴 | H80: =IF(F80="","",VLOOKUP(F80,[1]名單!$A$1:$Z$65536,2,0)) -> 林麗貞 | I80: 5587 | J80: =IF(I80="","",VLOOKUP(I80,[1]名單!$A$1:$Z$65536,4,0)) -> 林內 | K80: =IF(I80="","",VLOOKUP(I80,[1]名單!$A$1:$Z$65536,2,0)) -> 蔡幸妤* | L80: 5522 | M80: =IF(L80="","",VLOOKUP(L80,[1]名單!$A$1:$Z$65536,4,0)) -> 二崙 | N80: =IF(L80="","",VLOOKUP(L80,[1]名單!$A$1:$Z$65536,2,0)) -> 鄭伊捷
... A85: B20 | B85: 0.42013889 | C85: 5518 | D85: =IF(C85="","",VLOOKUP(C85,[1]名單!$A$1:$Z$65536,4,0)) -> 大埤 | E85: =IF(C85="","",VLOOKUP(C85,[1]名單!$A$1:$Z$65536,2,0)) -> 陳天香* | F85: 5534 | G85: =IF(F85="","",VLOOKUP(F85,[1]名單!$A$1:$Z$65536,4,0)) -> 元長 | H85: =IF(F85="","",VLOOKUP(F85,[1]名單!$A$1:$Z$65536,2,0)) -> 黃雅涵 | I85: 5592 | J85: =IF(I85="","",VLOOKUP(I85,[1]名單!$A$1:$Z$65536,4,0)) -> 東明 | K85: =IF(I85="","",VLOOKUP(I85,[1]名單!$A$1:$Z$65536,2,0)) -> 歐雅珺 | L85: 5527 | M85: =IF(L85="","",VLOOKUP(L85,[1]名單!$A$1:$Z$65536,4,0)) -> 崙背 | N85: =IF(L85="","",VLOOKUP(L85,[1]名單!$A$1:$Z$65536,2,0)) -> 吳憶汝
A86: B21 | B86: 0.42361111 | C86: 5526 | D86: =IF(C86="","",VLOOKUP(C86,[1]名單!$A$1:$Z$65536,4,0)) -> 崙背 | E86: =IF(C86="","",VLOOKUP(C86,[1]名單!$A$1:$Z$65536,2,0)) -> 丁郁芳 | F86: 5531 | G86: =IF(F86="","",VLOOKUP(F86,[1]名單!$A$1:$Z$65536,4,0)) -> 元長 | H86: =IF(F86="","",VLOOKUP(F86,[1]名單!$A$1:$Z$65536,2,0)) -> 吳佳涓 | I86: 5528 | J86: =IF(I86="","",VLOOKUP(I86,[1]名單!$A$1:$Z$65536,4,0)) -> 崙背 | K86: =IF(I86="","",VLOOKUP(I86,[1]名單!$A$1:$Z$65536,2,0)) -> 林雅惠 | M86: =IF(L86="","",VLOOKUP(L86,[1]名單!$A$1:$Z$65536,4,0)) | N86: =IF(L86="","",VLOOKUP(L86,[1]名單!$A$1:$Z$65536,2,0))
A87: 12 | B87: 組別 | D87: =VLOOKUP(A87,[1]組別!$A$1:$AK$65536,2,0) -> 國小六年級女童組 | P87: 裁判
A88: B22 | B88: 0.42708333 | C88: 5701 | D88: =IF(C88="","",VLOOKUP(C88,[1]名單!$A$1:$Z$65536,4,0)) -> 林內 | E88: =IF(C88="","",VLOOKUP(C88,[1]名單!$A$1:$Z$65536,2,0)) -> 朱霈嫻 | F88: 5755 | G88: =IF(F88="","",VLOOKUP(F88,[1]名單!$A$1:$Z$65536,4,0)) -> 大同 | H88: =IF(F88="","",VLOOKUP(F88,[1]名單!$A$1:$Z$65536,2,0)) -> 劉芷菱 | I88: 5743 | J88: =IF(I88="","",VLOOKUP(I88,[1]名單!$A$1:$Z$65536,4,0)) -> 大屯 | K88: =IF(I88="","",VLOOKUP(I88,[1]名單!$A$1:$Z$65536,2,0)) -> 李欣晏 | L88: 5725 | M88: =IF(L88="","",VLOOKUP(L88,[1]名單!$A$1:$Z$65536,4,0)) -> 重光 | N88: =IF(L88="","",VLOOKUP(L88,[1]名單!$A$1:$Z$65536,2,0)) -> 吳宜潔
A89: B23 | B89: 0.43055556 | C89: 5702 | D89: =IF(C89="","",VLOOKUP(C89,[1]名單!$A$1:$Z$65536,4,0)) -> 林內 | E89: =IF(C89="","",VLOOKUP(C89,[1]名單!$A$1:$Z$65536,2,0)) -> 蔡宜蓁 | F89: 5756 | G89: =IF(F89="","",VLOOKUP(F89,[1]名單!$A$1:$Z$65536,4,0)) -> 大同 | H89: =IF(F89="","",VLOOKUP(F89,[1]名單!$A$1:$Z$65536,2,0)) -> 廖彩容 | I89: 5744 | J89: =IF(I89="","",VLOOKUP(I89,[1]名單!$A$1:$Z$65536,4,0)) -> 大屯 | K89: =IF(I89="","",VLOOKUP(I89,[1]名單!$A$1:$Z$65536,2,0)) -> 江芷晏 | L89: 5726 | M89: =IF(L89="","",VLOOKUP(L89,[1]名單!$A$1:$Z$65536,4,0)) -> 重光 | N89: =IF(L89="","",VLOOKUP(L89,[1]名單!$A$1:$Z$65536,2,0)) -> 徐偉淋
A90: B24 | B90: 0.43402778 | C90: 5703 | D90: =IF(C90="","",VLOOKUP(C90,[1]名單!$A$1:$Z$65536,4,0)) -> 林內 | E90: =IF(C90="","",VLOOKUP(C90,[1]名單!$A$1:$Z$65536,2,0)) -> 薛勻婷 | F90: 5757 | G90: =IF(F90="","",VLOOKUP(F90,[1]名單!$A$1:$Z$65536,4,0)) -> 大同 | H90: =IF(F90="","",VLOOKUP(F90,[1]名單!$A$1:$Z$65536,2,0)) -> 張雅茹 | I90: 5745 | J90: =IF(I90="","",VLOOKUP(I90,[1]名單!$A$1:$Z$65536,4,0)) -> 大屯 | K90: =IF(I90="","",VLOOKUP(I90,[1]名單!$A$1:$Z$65536,2,0)) -> 王芃婷 | L90: 5727 | M90: =IF(L90="","",VLOOKUP(L90,[1]名單!$A$1:$Z$65536,4,0)) -> 重光 | N90: =IF(L90="","",VLOOKUP(L90,[1]名單!$A$1:$Z$65536,2,0)) -> 曾妮
A91: B25 | B91: 0.4375 | C91: 5704 | D91: =IF(C91="","",VLOOKUP(C91,[1]名單!$A$1:$Z$65536,4,0)) -> 林內 | E91: =IF(C91="","",VLOOKUP(C91,[1]名單!$A$1:$Z$65536,2,0)) -> 陳羽萱 | F91: 5758 | G91: =IF(F91="","",VLOOKUP(F91,[1]名單!$A$1:$Z$65536,4,0)) -> 大同 | H91: =IF(F91="","",VLOOKUP(F91,[1]名單!$A$1:$Z$65536,2,0)) -> 李汶庭 | I91: 5746 | J91: =IF(I91="","",VLOOKUP(I91,[1]名單!$A$1:$Z$65536,4,0)) -> 大屯 | K91: =IF(I91="","",VLOOKUP(I91,[1]名單!$A$1:$Z$65536,2,0)) -> 蔡菁華 | L91: 5728 | M91: =IF(L91="","",VLOOKUP(L91,[1]名單!$A$1:$Z$65536,4,0)) -> 重光 | N91: =IF(L91="","",VLOOKUP(L91,[1]名單!$A$1:$Z$65536,2,0)) -> 蔡綵孺 | P91: =IF(O91="","",VLOOKUP(O91,[1]名單!$A$1:$Z$65536,2,0))
A92: B26 | B92: 0.44097222 | C92: 5705 | D92: =IF(C92="","",VLOOKUP(C92,[1]名單!$A$1:$Z$65536,4,0)) -> 林內 | E92: =IF(C92="","",VLOOKUP(C92,[1]名單!$A$1:$Z$65536,2,0)) -> 陳靜芬 | F92: 5759 | G92: =IF(F92="","",VLOOKUP(F92,[1]名單!$A$1:$Z$65536,4,0)) -> 大同 | H92: =IF(F92="","",VLOOKUP(F92,[1]名單!$A$1:$Z$65536,2,0)) -> 林昀臻 | I92: 5747 | J92: =IF(I92="","",VLOOKUP(I92,[1]名單!$A$1:$Z$65536,4,0)) -> 大屯 | K92: =IF(I92="","",VLOOKUP(I92,[1]名單!$A$1:$Z$65536,2,0)) -> 許鈞蕙 | L92: 5729 | M92: =IF(L92="","",VLOOKUP(L92,[1]名單!$A$1:$Z$65536,4,0)) -> 重光 | N92: =IF(L92="","",VLOOKUP(L92,[1]名單!$A$1:$Z$65536,2,0)) -> 謝仙玟 | P92: =IF(O92="","",VLOOKUP(O92,[1]名單!$A$1:$Z$65536,2,0))
A93: B27 | B93: 0.44444444 | C93: 5706 | D93: =IF(C93="","",VLOOKUP(C93,[1]名單!$A$1:$Z$65536,4,0)) -> 林內 | E93: =IF(C93="","",VLOOKUP(C93,[1]名單!$A$1:$Z$65536,2,0)) -> 黃脩雲 | F93: 5760 | G93: =IF(F93="","",VLOOKUP(F93,[1]名單!$A$1:$Z$65536,4,0)) -> 大同 | H93: =IF(F93="","",VLOOKUP(F93,[1]名單!$A$1:$Z$65536,2,0)) -> 蔡淑全 | I93: 5731 | J93: =IF(I93="","",VLOOKUP(I93,[1]名單!$A$1:$Z$65536,4,0)) -> 僑真 | K93: =IF(I93="","",VLOOKUP(I93,[1]名單!$A$1:$Z$65536,2,0)) -> 嚴奕婷 | L93: 5730 | M93: =IF(L93="","",VLOOKUP(L93,[1]名單!$A$1:$Z$65536,4,0)) -> 重光 | N93: =IF(L93="","",VLOOKUP(L93,[1]名單!$A$1:$Z$65536,2,0)) -> 黃宜佳 | P93: =IF(O93="","",VLOOKUP(O93,[1]名單!$A$1:$Z$65536,2,0))
A94: B28 | B94: 0.44791667 | C94: 5707 | D94: =IF(C94="","",VLOOKUP(C94,[1]名單!$A$1:$Z$65536,4,0)) -> 林內 | E94: =IF(C94="","",VLOOKUP(C94,[1]名單!$A$1:$Z$65536,2,0)) -> 張珉綺 | F94: 5754 | G94: =IF(F94="","",VLOOKUP(F94,[1]名單!$A$1:$Z$65536,4,0)) -> 宏崙 | H94: =IF(F94="","",VLOOKUP(F94,[1]名單!$A$1:$Z$65536,2,0)) -> 陳恩恩 | I94: 5732 | J94: =IF(I94="","",VLOOKUP(I94,[1]名單!$A$1:$Z$65536,4,0)) -> 僑真 | K94: =IF(I94="","",VLOOKUP(I94,[1]名單!$A$1:$Z$65536,2,0)) -> 林靜宜 | L94: 5713 | M94: =IF(L94="","",VLOOKUP(L94,[1]名單!$A$1:$Z$65536,4,0)) -> 重興 | N94: =IF(L94="","",VLOOKUP(L94,[1]名單!$A$1:$Z$65536,2,0)) -> 張如萱 | P94: =IF(O94="","",VLOOKUP(O94,[1]名單!$A$1:$Z$65536,2,0))
A95: B29 | B95: 0.45138889 | C95: 5708 | D95: =IF(C95="","",VLOOKUP(C95,[1]名單!$A$1:$Z$65536,4,0)) -> 林內 | E95: =IF(C95="","",VLOOKUP(C95,[1]名單!$A$1:$Z$65536,2,0)) -> 盧渼蓁 | F95: 5749 | G95: =IF(F95="","",VLOOKUP(F95,[1]名單!$A$1:$Z$65536,4,0)) -> 宏崙 | H95: =IF(F95="","",VLOOKUP(F95,[1]名單!$A$1:$Z$65536,2,0)) -> 劉季璇 | I95: 5733 | J95: =IF(I95="","",VLOOKUP(I95,[1]名單!$A$1:$Z$65536,4,0)) -> 僑真 | K95: =IF(I95="","",VLOOKUP(I95,[1]名單!$A$1:$Z$65536,2,0)) -> 江亦雯 | L95: 5714 | M95: =IF(L95="","",VLOOKUP(L95,[1]名單!$A$1:$Z$65536,4,0)) -> 重興 | N95: =IF(L95="","",VLOOKUP(L95,[1]名單!$A$1:$Z$65536,2,0)) -> 張心怡 | P95: =IF(O95="","",VLOOKUP(O95,[1]名單!$A$1:$Z$65536,2,0))
A96: B30 | B96: 0.45486111 | C96: 5737 | D96: =IF(C96="","",VLOOKUP(C96,[1]名單!$A$1:$Z$65536,4,0)) -> 仁和 | E96: =IF(C96="","",VLOOKUP(C96,[1]名單!$A$1:$Z$65536,2,0)) -> 劉玉梅 | F96: 5750 | G96: =IF(F96="","",VLOOKUP(F96,[1]名單!$A$1:$Z$65536,4,0)) -> 宏崙 | H96: =IF(F96="","",VLOOKUP(F96,[1]名單!$A$1:$Z$65536,2,0)) -> 吳姵緹 | I96: 5734 | J96: =IF(I96="","",VLOOKUP(I96,[1]名單!$A$1:$Z$65536,4,0)) -> 僑真 | K96: =IF(I96="","",VLOOKUP(I96,[1]名單!$A$1:$Z$65536,2,0)) -> 謝宜軒 | L96: 5715 | M96: =IF(L96="","",VLOOKUP(L96,[1]名單!$A$1:$Z$65536,4,0)) -> 重興 | N96: =IF(L96="","",VLOOKUP(L96,[1]名單!$A$1:$Z$65536,2,0)) -> 蔡明秀 | P96: =IF(O96="","",VLOOKUP(O96,[1]名單!$A$1:$Z$65536,2,0))
A97: B31 | B97: 0.45833333 | C97: 5738 | D97: =IF(C97="","",VLOOKUP(C97,[1]名單!$A$1:$Z$65536,4,0)) -> 仁和 | E97: =IF(C97="","",VLOOKUP(C97,[1]名單!$A$1:$Z$65536,2,0)) -> 劉玉蝶 | F97: 5751 | G97: =IF(F97="","",VLOOKUP(F97,[1]名單!$A$1:$Z$65536,4,0)) -> 宏崙 | H97: =IF(F97="","",VLOOKUP(F97,[1]名單!$A$1:$Z$65536,2,0)) -> 吳心慈 | I97: 5735 | J97: =IF(I97="","",VLOOKUP(I97,[1]名單!$A$1:$Z$65536,4,0)) -> 僑真 | K97: =IF(I97="","",VLOOKUP(I97,[1]名單!$A$1:$Z$65536,2,0)) -> 賴慈昕 | L97: 5716 | M97: =IF(L97="","",VLOOKUP(L97,[1]名單!$A$1:$Z$65536,4,0)) -> 重興 | N97: =IF(L97="","",VLOOKUP(L97,[1]名單!$A$1:$Z$65536,2,0)) -> 陳芳玫 | P97: =IF(O97="","",VLOOKUP(O97,[1]名單!$A$1:$Z$65536,2,0))
A98: B32 | B98: 0.46180556 | C98: 5739 | D98: =IF(C98="","",VLOOKUP(C98,[1]名單!$A$1:$Z$65536,4,0)) -> 仁和 | E98: =IF(C98="","",VLOOKUP(C98,[1]名單!$A$1:$Z$65536,2,0)) -> 連晏甄 | F98: 5752 | G98: =IF(F98="","",VLOOKUP(F98,[1]名單!$A$1:$Z$65536,4,0)) -> 宏崙 | H98: =IF(F98="","",VLOOKUP(F98,[1]名單!$A$1:$Z$65536,2,0)) -> 林岑鎂 | I98: 5721 | J98: =IF(I98="","",VLOOKUP(I98,[1]名單!$A$1:$Z$65536,4,0)) -> 民生 | K98: =IF(I98="","",VLOOKUP(I98,[1]名單!$A$1:$Z$65536,2,0)) -> 蘇姿云 | M98: =IF(L98="","",VLOOKUP(L98,[1]名單!$A$1:$Z$65536,4,0)) | N98: =IF(L98="","",VLOOKUP(L98,[1]名單!$A$1:$Z$65536,2,0)) | P98: =IF(O98="","",VLOOKUP(O98,[1]名單!$A$1:$Z$65536,2,0))
A99: B33 | B99: 0.46527778 | C99: 5740 | D99: =IF(C99="","",VLOOKUP(C99,[1]名單!$A$1:$Z$65536,4,0)) -> 仁和 | E99: =IF(C99="","",VLOOKUP(C99,[1]名單!$A$1:$Z$65536,2,0)) -> 陳昱如 | F99: 5753 | G99: =IF(F99="","",VLOOKUP(F99,[1]名單!$A$1:$Z$65536,4,0)) -> 宏崙 | H99: =IF(F99="","",VLOOKUP(F99,[1]名單!$A$1:$Z$65536,2,0)) -> 許右茹 | I99: 5722 | J99: =IF(I99="","",VLOOKUP(I99,[1]名單!$A$1:$Z$65536,4,0)) -> 民生 | K99: =IF(I99="","",VLOOKUP(I99,[1]名單!$A$1:$Z$65536,2,0)) -> 賴昱淇 | M99: =IF(L99="","",VLOOKUP(L99,[1]名單!$A$1:$Z$65536,4,0)) | N99: =IF(L99="","",VLOOKUP(L99,[1]名單!$A$1:$Z$65536,2,0)) | P99: =IF(O99="","",VLOOKUP(O99,[1]名單!$A$1:$Z$65536,2,0))
A100: B34 | B100: 0.46875 | C100: 5719 | D100: =IF(C100="","",VLOOKUP(C100,[1]名單!$A$1:$Z$65536,4,0)) -> 民生 | E100: =IF(C100="","",VLOOKUP(C100,[1]名單!$A$1:$Z$65536,2,0)) -> 丁婉嬿 | F100: 5767 | G100: =IF(F100="","",VLOOKUP(F100,[1]名單!$A$1:$Z$65536,4,0)) -> 信義 | H100: =IF(F100="","",VLOOKUP(F100,[1]名單!$A$1:$Z$65536,2,0)) -> 施岳辰 | I100: 5717 | J100: =IF(I100="","",VLOOKUP(I100,[1]名單!$A$1:$Z$65536,4,0)) -> 重興 | K100: =IF(I100="","",VLOOKUP(I100,[1]名單!$A$1:$Z$65536,2,0)) -> 黃楷伶 | M100: =IF(L100="","",VLOOKUP(L100,[1]名單!$A$1:$Z$65536,4,0)) | N100: =IF(L100="","",VLOOKUP(L100,[1]名單!$A$1:$Z$65536,2,0)) | P100: =IF(O100="","",VLOOKUP(O100,[1]名單!$A$1:$Z$65536,2,0))
A101: B35 | B101: 0.47222222 | C101: 5720 | D101: =IF(C101="","",VLOOKUP(C101,[1]名單!$A$1:$Z$65536,4,0)) -> 民生 | E101: =IF(C101="","",VLOOKUP(C101,[1]名單!$A$1:$Z$65536,2,0)) -> 蔡芯惠 | F101: 5761 | G101: =IF(F101="","",VLOOKUP(F101,[1]名單!$A$1:$Z$65536,4,0)) -> 石龜 | H101: =IF(F101="","",VLOOKUP(F101,[1]名單!$A$1:$Z$65536,2,0)) -> 謝堰羽 | I101: 5718 | J101: =IF(I101="","",VLOOKUP(I101,[1]名單!$A$1:$Z$65536,4,0)) -> 重興 | K101: =IF(I101="","",VLOOKUP(I101,[1]名單!$A$1:$Z$65536,2,0)) -> 黃筱茹 | M101: =IF(L101="","",VLOOKUP(L101,[1]名單!$A$1:$Z$65536,4,0)) | N101: =IF(L101="","",VLOOKUP(L101,[1]名單!$A$1:$Z$65536,2,0)) | P101: =IF(O101="","",VLOOKUP(O101,[1]名單!$A$1:$Z$65536,2,0))
B102: 個人決賽 | P102: 裁判
A103: B36 | B103: 0.5625 | C103: 7064 | D103: =VLOOKUP(C103,[1]組別!$B$1:$AK$65536,2,0) -> 國男12 | F103: 7065 | G103: =VLOOKUP(F103,[1]組別!$B$1:$AK$65536,2,0) -> 國男11 | I103: 7066 | J103: =VLOOKUP(I103,[1]組別!$B$1:$AK$65536,2,0) -> 國男10 | L103: 7067 | M103: =VLOOKUP(L103,[1]組別!$B$1:$AK$65536,2,0) -> 國男9 | P103: =IF(O103="","",VLOOKUP(O103,[1]名單!$A$1:$Z$65536,2,0))
A104: B37 | B104: 0.56597222 | C104: 7068 | D104: =VLOOKUP(C104,[1]組別!$B$1:$AK$65536,2,0) -> 國男8 | F104: 7069 | G104: =VLOOKUP(F104,[1]組別!$B$1:$AK$65536,2,0) -> 國男7 | I104: 7070 | J104: =VLOOKUP(I104,[1]組別!$B$1:$AK$65536,2,0) -> 國男6 | L104: 7071 | M104: =VLOOKUP(L104,[1]組別!$B$1:$AK$65536,2,0) -> 國男5 | P104: =IF(O104="","",VLOOKUP(O104,[1]名單!$A$1:$Z$65536,2,0))
A105: B38 | B105: 0.56944444 | C105: 7072 | D105: =VLOOKUP(C105,[1]組別!$B$1:$AK$65536,2,0) -> 國男4 | F105: 7073 | G105: =VLOOKUP(F105,[1]組別!$B$1:$AK$65536,2,0) -> 國男3 | I105: 7074 | J105: =VLOOKUP(I105,[1]組別!$B$1:$AK$65536,2,0) -> 國男2 | L105: 7075 | M105: =VLOOKUP(L105,[1]組別!$B$1:$AK$65536,2,0) -> 國男1 | P105: =IF(O105="","",VLOOKUP(O105,[1]名單!$A$1:$Z$65536,2,0))
A106: B39 | B106: 0.57291667 | C106: 7079 | D106: =VLOOKUP(C106,[1]組別!$B$1:$AK$65536,2,0) -> 六男12 | F106: 7080 | G106: =VLOOKUP(F106,[1]組別!$B$1:$AK$65536,2,0) -> 六男11 | I106: 7081 | J106: =VLOOKUP(I106,[1]組別!$B$1:$AK$65536,2,0) -> 六男10 | L106: 7082 | M106: =VLOOKUP(L106,[1]組別!$B$1:$AK$65536,2,0) -> 六男9 | P106: =IF(O106="","",VLOOKUP(O106,[1]名單!$A$1:$Z$65536,2,0))
A107: B40 | B107: 0.57638889 | C107: 7083 | D107: =VLOOKUP(C107,[1]組別!$B$1:$AK$65536,2,0) -> 六男8 | F107: 7084 | G107: =VLOOKUP(F107,[1]組別!$B$1:$AK$65536,2,0) -> 六男7 | I107: 7085 | J107: =VLOOKUP(I107,[1]組別!$B$1:$AK$65536,2,0) -> 六男6 | L107: 7086 | M107: =VLOOKUP(L107,[1]組別!$B$1:$AK$65536,2,0) -> 六男5 | P107: =IF(O107="","",VLOOKUP(O107,[1]名單!$A$1:$Z$65536,2,0))
A108: B41 | B108: 0.57986111 | C108: 7087 | D108: =VLOOKUP(C108,[1]組別!$B$1:$AK$65536,2,0) -> 六男4 | F108: 7088 | G108: =VLOOKUP(F108,[1]組別!$B$1:$AK$65536,2,0) -> 六男3 | I108: 7089 | J108: =VLOOKUP(I108,[1]組別!$B$1:$AK$65536,2,0) -> 六男2 | L108: 7090 | M108: =VLOOKUP(L108,[1]組別!$B$1:$AK$65536,2,0) -> 六男1 | P108: =IF(O108="","",VLOOKUP(O108,[1]名單!$A$1:$Z$65536,2,0))

Sheet 0416
A1: 105年秋季縣長盃木球賽賽程表
A2: 日 期 | C2: 105年4月16日（星期六）A場地
A3: 場次 | B3: 時間 | C3: 選 手 名 單
A4: 3 | B4: 組別 | D4: =VLOOKUP(A4,[1]組別!$A$1:$AK$65536,2,0) -> 社會男子組 | P4: 裁判
A5: A1 | B5: 0.33333333 | C5: 1201 | D5: =IF(C5="","",VLOOKUP(C5,[1]名單!$A$1:$Z$65536,4,0)) -> 重興 | E5: =IF(C5="","",VLOOKUP(C5,[1]名單!$A$1:$Z$65536,2,0)) -> 施錫勳 | F5: 1231 | G5: =IF(F5="","",VLOOKUP(F5,[1]名單!$A$1:$Z$65536,4,0)) -> 義賢 | H5: =IF(F5="","",VLOOKUP(F5,[1]名單!$A$1:$Z$65536,2,0)) -> 林俊吉 | I5: 1225 | J5: =IF(I5="","",VLOOKUP(I5,[1]名單!$A$1:$Z$65536,4,0)) -> 西平 | K5: =IF(I5="","",VLOOKUP(I5,[1]名單!$A$1:$Z$65536,2,0)) -> 謝培田 | L5: 1212 | M5: =IF(L5="","",VLOOKUP(L5,[1]名單!$A$1:$Z$65536,4,0)) -> 重興 | N5: =IF(L5="","",VLOOKUP(L5,[1]名單!$A$1:$Z$65536,2,0)) -> 廖信雄
A6: A2 | B6: 0.3375 | C6: 1202 | D6: =IF(C6="","",VLOOKUP(C6,[1]名單!$A$1:$Z$65536,4,0)) -> 重興 | E6: =IF(C6="","",VLOOKUP(C6,[1]名單!$A$1:$Z$65536,2,0)) -> 張建成 | F6: 1232 | G6: =IF(F6="","",VLOOKUP(F6,[1]名單!$A$1:$Z$65536,4,0)) -> 義賢 | H6: =IF(F6="","",VLOOKUP(F6,[1]名單!$A$1:$Z$65536,2,0)) -> 蔡健邦 | I6: 1226 | J6: =IF(I6="","",VLOOKUP(I6,[1]名單!$A$1:$Z$65536,4,0)) -> 西平 | K6: =IF(I6="","",VLOOKUP(I6,[1]名單!$A$1:$Z$65536,2,0)) -> 林約三 | L6: 1218 | M6: =IF(L6="","",VLOOKUP(L6,[1]名單!$A$1:$Z$65536,4,0)) -> 義峰 | N6: =IF(L6="","",VLOOKUP(L6,[1]名單!$A$1:$Z$65536,2,0)) -> 彭建睿
A7: A3 | B7: 0.34166667 | C7: 1203 | D7: =IF(C7="","",VLOOKUP(C7,[1]名單!$A$1:$Z$65536,4,0)) -> 重興 | E7: =IF(C7="","",VLOOKUP(C7,[1]名單!$A$1:$Z$65536,2,0)) -> 林如龍 | F7: 1233 | G7: =IF(F7="","",VLOOKUP(F7,[1]名單!$A$1:$Z$65536,4,0)) -> 義賢 | H7: =IF(F7="","",VLOOKUP(F7,[1]名單!$A$1:$Z$65536,2,0)) -> 黃本宗 | I7: 1227 | J7: =IF(I7="","",VLOOKUP(I7,[1]名單!$A$1:$Z$65536,4,0)) -> 西平 | K7: =IF(I7="","",VLOOKUP(I7,[1]名單!$A$1:$Z$65536,2,0)) -> 陳俊烽 | L7: 1222 | M7: =IF(L7="","",VLOOKUP(L7,[1]名單!$A$1:$Z$65536,4,0)) -> 元長 | N7: =IF(L7="","",VLOOKUP(L7,[1]名單!$A$1:$Z$65536,2,0)) -> 李承威
A8: A4 | B8: 0.34583333 | C8: 1204 | D8: =IF(C8="","",VLOOKUP(C8,[1]名單!$A$1:$Z$65536,4,0)) -> 重興 | E8: =IF(C8="","",VLOOKUP(C8,[1]名單!$A$1:$Z$65536,2,0)) -> 林學發 | F8: 1234 | G8: =IF(F8="","",VLOOKUP(F8,[1]名單!$A$1:$Z$65536,4,0)) -> 義賢 | H8: =IF(F8="","",VLOOKUP(F8,[1]名單!$A$1:$Z$65536,2,0)) -> 鄭吉成 | I8: 1228 | J8: =IF(I8="","",VLOOKUP(I8,[1]名單!$A$1:$Z$65536,4,0)) -> 西平 | K8: =IF(I8="","",VLOOKUP(I8,[1]名單!$A$1:$Z$65536,2,0)) -> 黃元龍 | L8: 1223 | M8: =IF(L8="","",VLOOKUP(L8,[1]名單!$A$1:$Z$65536,4,0)) -> 元長 | N8: =IF(L8="","",VLOOKUP(L8,[1]名單!$A$1:$Z$65536,2,0)) -> 李政澤
A9: A5 | B9: 0.35 | C9: 1205 | D9: =IF(C9="","",VLOOKUP(C9,[1]名單!$A$1:$Z$65536,4,0)) -> 重興 | E9: =IF(C9="","",VLOOKUP(C9,[1]名單!$A$1:$Z$65536,2,0)) -> 張文生 | F9: 1235 | G9: =IF(F9="","",VLOOKUP(F9,[1]名單!$A$1:$Z$65536,4,0)) -> 義賢 | H9: =IF(F9="","",VLOOKUP(F9,[1]名單!$A$1:$Z$65536,2,0)) -> 郭郁含 | I9: 1216 | J9: =IF(I9="","",VLOOKUP(I9,[1]名單!$A$1:$Z$65536,4,0)) -> 義峰 | K9: =IF(I9="","",VLOOKUP(I9,[1]名單!$A$1:$Z$65536,2,0)) -> 陳韋佑 | L9: 1219 | M9: =IF(L9="","",VLOOKUP(L9,[1]名單!$A$1:$Z$65536,4,0)) -> 元長 | N9: =IF(L9="","",VLOOKUP(L9,[1]名單!$A$1:$Z$65536,2,0)) -> 吳冠穎
A10: A6 | B10: 0.35416667 | C10: 1206 | D10: =IF(C10="","",VLOOKUP(C10,[1]名單!$A$1:$Z$65536,4,0)) -> 重興 | E10: =IF(C10="","",VLOOKUP(C10,[1]名單!$A$1:$Z$65536,2,0)) -> 施欽鐘 | F10: 1236 | G10: =IF(F10="","",VLOOKUP(F10,[1]名單!$A$1:$Z$65536,4,0)) -> 義賢 | H10: =IF(F10="","",VLOOKUP(F10,[1]名單!$A$1:$Z$65536,2,0)) -> 廖琦正 | I10: 1211 | J10: =IF(I10="","",VLOOKUP(I10,[1]名單!$A$1:$Z$65536,4,0)) -> 重興 | K10: =IF(I10="","",VLOOKUP(I10,[1]名單!$A$1:$Z$65536,2,0)) -> 蔡孟宏 | L10: 1217 | M10: =IF(L10="","",VLOOKUP(L10,[1]名單!$A$1:$Z$65536,4,0)) -> 義峰 | N10: =IF(L10="","",VLOOKUP(L10,[1]名單!$A$1:$Z$65536,2,0)) -> 邱子倫
A11: A7 | B11: 0.35833333 | C11: 1207 | D11: =IF(C11="","",VLOOKUP(C11,[1]名單!$A$1:$Z$65536,4,0)) -> 重興 | E11: =IF(C11="","",VLOOKUP(C11,[1]名單!$A$1:$Z$65536,2,0)) -> 鄭詠耀 | F11: 1213 | G11: =IF(F11="","",VLOOKUP(F11,[1]名單!$A$1:$Z$65536,4,0)) -> 義峰 | H11: =IF(F11="","",VLOOKUP(F11,[1]名單!$A$1:$Z$65536,2,0)) -> 張世杰 | I11: 1220 | J11: =IF(I11="","",VLOOKUP(I11,[1]名單!$A$1:$Z$65536,4,0)) -> 元長 | K11: =IF(I11="","",VLOOKUP(I11,[1]名單!$A$1:$Z$65536,2,0)) -> 石智淵 | M11: =IF(L11="","",VLOOKUP(L11,[1]名單!$A$1:$Z$65536,4,0)) | N11: =IF(L11="","",VLOOKUP(L11,[1]名單!$A$1:$Z$65536,2,0))
A12: A8 | B12: 0.3625 | C12: 1208 | D12: =IF(C12="","",VLOOKUP(C12,[1]名單!$A$1:$Z$65536,4,0)) -> 重興 | E12: =IF(C12="","",VLOOKUP(C12,[1]名單!$A$1:$Z$65536,2,0)) -> 丁哲民 | F12: 1214 | G12: =IF(F12="","",VLOOKUP(F12,[1]名單!$A$1:$Z$65536,4,0)) -> 義峰 | H12: =IF(F12="","",VLOOKUP(F12,[1]名單!$A$1:$Z$65536,2,0)) -> 劉顯誠 | I12: 1221 | J12: =IF(I12="","",VLOOKUP(I12,[1]名單!$A$1:$Z$65536,4,0)) -> 元長 | K12: =IF(I12="","",VLOOKUP(I12,[1]名單!$A$1:$Z$65536,2,0)) -> 楊敬城 | M12: =IF(L12="","",VLOOKUP(L12,[1]名單!$A$1:$Z$65536,4,0)) | N12: =IF(L12="","",VLOOKUP(L12,[1]名單!$A$1:$Z$65536,2,0))
A13: A9 | B13: 0.36666667 | C13: 1209 | D13: =IF(C13="","",VLOOKUP(C13,[1]名單!$A$1:$Z$65536,4,0)) -> 重興 | E13: =IF(C13="","",VLOOKUP(C13,[1]名單!$A$1:$Z$65536,2,0)) -> 張惟翔 | F13: 1215 | G13: =IF(F13="","",VLOOKUP(F13,[1]名單!$A$1:$Z$65536,4,0)) -> 義峰 | H13: =IF(F13="","",VLOOKUP(F13,[1]名單!$A$1:$Z$65536,2,0)) -> 蔡堡樺 | I13: 1210 | J13: =IF(I13="","",VLOOKUP(I13,[1]名單!$A$1:$Z$65536,4,0)) -> 重興 | K13: =IF(I13="","",VLOOKUP(I13,[1]名單!$A$1:$Z$65536,2,0)) -> 劉炘衢 | M13: =IF(L13="","",VLOOKUP(L13,[1]名單!$A$1:$Z$65536,4,0)) | N13: =IF(L13="","",VLOOKUP(L13,[1]名單!$A$1:$Z$65536,2,0))
A14: 1 | B14: 組別 | D14: =VLOOKUP(A14,[1]組別!$A$1:$AK$65536,2,0) -> 長青男組 | P14: 裁判
A15: A10 | B15: 0.37083333 | C15: 1101 | D15: =IF(C15="","",VLOOKUP(C15,[1]名單!$A$1:$Z$65536,4,0)) -> 元長 | E15: =IF(C15="","",VLOOKUP(C15,[1]名單!$A$1:$Z$65536,2,0)) -> 蔡連慶 | F15: 1109 | G15: =IF(F15="","",VLOOKUP(F15,[1]名單!$A$1:$Z$65536,4,0)) -> 馬光 | H15: =IF(F15="","",VLOOKUP(F15,[1]名單!$A$1:$Z$65536,2,0)) -> 林明生 | I15: 1107 | J15: =IF(I15="","",VLOOKUP(I15,[1]名單!$A$1:$Z$65536,4,0)) -> 馬光 | K15: =IF(I15="","",VLOOKUP(I15,[1]名單!$A$1:$Z$65536,2,0)) -> 許鼎林 | L15: 1115 | M15: =IF(L15="","",VLOOKUP(L15,[1]名單!$A$1:$Z$65536,4,0)) -> 馬光 | N15: =IF(L15="","",VLOOKUP(L15,[1]名單!$A$1:$Z$65536,2,0)) -> 張井南
A16: A11 | B16: 0.375 | C16: 1102 | D16: =IF(C16="","",VLOOKUP(C16,[1]名單!$A$1:$Z$65536,4,0)) -> 元長 | E16: =IF(C16="","",VLOOKUP(C16,[1]名單!$A$1:$Z$65536,2,0)) -> 蔡三碧 | F16: 1110 | G16: =IF(F16="","",VLOOKUP(F16,[1]名單!$A$1:$Z$65536,4,0)) -> 馬光 | H16: =IF(F16="","",VLOOKUP(F16,[1]名單!$A$1:$Z$65536,2,0)) -> 王銘賢 | I16: 1108 | J16: =IF(I16="","",VLOOKUP(I16,[1]名單!$A$1:$Z$65536,4,0)) -> 馬光 | K16: =IF(I16="","",VLOOKUP(I16,[1]名單!$A$1:$Z$65536,2,0)) -> 林金生 | L16: 1121 | M16: =IF(L16="","",VLOOKUP(L16,[1]名單!$A$1:$Z$65536,4,0)) -> 大東 | N16: =IF(L16="","",VLOOKUP(L16,[1]名單!$A$1:$Z$65536,2,0)) -> 沈萬福
A17: A12 | B17: 0.37916667 | C17: 1103 | D17: =IF(C17="","",VLOOKUP(C17,[1]名單!$A$1:$Z$65536,4,0)) -> 元長 | E17: =IF(C17="","",VLOOKUP(C17,[1]名單!$A$1:$Z$65536,2,0)) -> 吳俊雄 | F17: 1111 | G17: =IF(F17="","",VLOOKUP(F17,[1]名單!$A$1:$Z$65536,4,0)) -> 馬光 | H17: =IF(F17="","",VLOOKUP(F17,[1]名單!$A$1:$Z$65536,2,0)) -> 張添丁 | I17: 1105 | J17: =IF(I17="","",VLOOKUP(I17,[1]名單!$A$1:$Z$65536,4,0)) -> 元長 | K17: =IF(I17="","",VLOOKUP(I17,[1]名單!$A$1:$Z$65536,2,0)) -> 黃寶元 | L17: 1120 | M17: =IF(L17="","",VLOOKUP(L17,[1]名單!$A$1:$Z$65536,4,0)) -> 大東 | N17: =IF(L17="","",VLOOKUP(L17,[1]名單!$A$1:$Z$65536,2,0)) -> 沈聰明
A18: A13 | B18: 0.38333333 | C18: 1104 | D18: =IF(C18="","",VLOOKUP(C18,[1]名單!$A$1:$Z$65536,4,0)) -> 元長 | E18: =IF(C18="","",VLOOKUP(C18,[1]名單!$A$1:$Z$65536,2,0)) -> 黃延輝 | F18: 1112 | G18: =IF(F18="","",VLOOKUP(F18,[1]名單!$A$1:$Z$65536,4,0)) -> 馬光 | H18: =IF(F18="","",VLOOKUP(F18,[1]名單!$A$1:$Z$65536,2,0)) -> 黃新營 | I18: 1106 | J18: =IF(I18="","",VLOOKUP(I18,[1]名單!$A$1:$Z$65536,4,0)) -> 元長 | K18: =IF(I18="","",VLOOKUP(I18,[1]名單!$A$1:$Z$65536,2,0)) -> 李槓 | M18: =IF(L18="","",VLOOKUP(L18,[1]名單!$A$1:$Z$65536,4,0)) | N18: =IF(L18="","",VLOOKUP(L18,[1]名單!$A$1:$Z$65536,2,0))
A19: A14 | B19: 0.3875 | C19: 1119 | D19: =IF(C19="","",VLOOKUP(C19,[1]名單!$A$1:$Z$65536,4,0)) -> 大東 | E19: =IF(C19="","",VLOOKUP(C19,[1]名單!$A$1:$Z$65536,2,0)) -> 沈瑞榮 | F19: 1114 | G19: =IF(F19="","",VLOOKUP(F19,[1]名單!$A$1:$Z$65536,4,0)) -> 馬光 | H19: =IF(F19="","",VLOOKUP(F19,[1]名單!$A$1:$Z$65536,2,0)) -> 黃順意 | I19: 1122 | J19: =IF(I19="","",VLOOKUP(I19,[1]名單!$A$1:$Z$65536,4,0)) -> 大東 | K19: =IF(I19="","",VLOOKUP(I19,[1]名單!$A$1:$Z$65536,2,0)) -> 張明國 | M19: =IF(L19="","",VLOOKUP(L19,[1]名單!$A$1:$Z$65536,4,0)) | N19: =IF(L19="","",VLOOKUP(L19,[1]名單!$A$1:$Z$65536,2,0))
A20: A15 | B20: 0.39166667 | C20: 1123 | D20: =IF(C20="","",VLOOKUP(C20,[1]名單!$A$1:$Z$65536,4,0)) -> 大東 | E20: =IF(C20="","",VLOOKUP(C20,[1]名單!$A$1:$Z$65536,2,0)) -> 江明山 | F20: 1113 | G20: =IF(F20="","",VLOOKUP(F20,[1]名單!$A$1:$Z$65536,4,0)) -> 馬光 | H20: =IF(F20="","",VLOOKUP(F20,[1]名單!$A$1:$Z$65536,2,0)) -> 張吉男 | I20: 1116 | J20: =IF(I20="","",VLOOKUP(I20,[1]名單!$A$1:$Z$65536,4,0)) -> 馬光 | K20: =IF(I20="","",VLOOKUP(I20,[1]名單!$A$1:$Z$65536,2,0)) -> 林鉦訓 | M20: =IF(L20="","",VLOOKUP(L20,[1]名單!$A$1:$Z$65536,4,0)) | N20: =IF(L20="","",VLOOKUP(L20,[1]名單!$A$1:$Z$65536,2,0))
A21: 5 | B21: 組別 | D21: =VLOOKUP(A21,[1]組別!$A$1:$AK$65536,2,0) -> 教師男子組 | P21: 裁判
A22: A16 | B22: 0.39583333 | C22: 1301 | D22: =IF(C22="","",VLOOKUP(C22,[1]名單!$A$1:$Z$65536,4,0)) -> 古坑 | E22: =IF(C22="","",VLOOKUP(C22,[1]名單!$A$1:$Z$65536,2,0)) -> 劉芳岑 | F22: 1307 | G22: =IF(F22="","",VLOOKUP(F22,[1]名單!$A$1:$Z$65536,4,0)) -> 重興 | H22: =IF(F22="","",VLOOKUP(F22,[1]名單!$A$1:$Z$65536,2,0)) -> 張嘉進 | I22: 1313 | J22: =IF(I22="","",VLOOKUP(I22,[1]名單!$A$1:$Z$65536,4,0)) -> 大東 | K22: =IF(I22="","",VLOOKUP(I22,[1]名單!$A$1:$Z$65536,2,0)) -> 黃建鴻 | L22: 1321 | M22: =IF(L22="","",VLOOKUP(L22,[1]名單!$A$1:$Z$65536,4,0)) -> 僑真 | N22: =IF(L22="","",VLOOKUP(L22,[1]名單!$A$1:$Z$65536,2,0)) -> 林景松
A23: A17 | B23: 0.4 | C23: 1302 | D23: =IF(C23="","",VLOOKUP(C23,[1]名單!$A$1:$Z$65536,4,0)) -> 古坑 | E23: =IF(C23="","",VLOOKUP(C23,[1]名單!$A$1:$Z$65536,2,0)) -> 沈有朋 | F23: 1308 | G23: =IF(F23="","",VLOOKUP(F23,[1]名單!$A$1:$Z$65536,4,0)) -> 重興 | H23: =IF(F23="","",VLOOKUP(F23,[1]名單!$A$1:$Z$65536,2,0)) -> 李明賜 | I23: 1314 | J23: =IF(I23="","",VLOOKUP(I23,[1]名單!$A$1:$Z$65536,4,0)) -> 大東 | K23: =IF(I23="","",VLOOKUP(I23,[1]名單!$A$1:$Z$65536,2,0)) -> 張鑫豪 | L23: 1322 | M23: =IF(L23="","",VLOOKUP(L23,[1]名單!$A$1:$Z$65536,4,0)) -> 僑真 | N23: =IF(L23="","",VLOOKUP(L23,[1]名單!$A$1:$Z$65536,2,0)) -> 郭智明
A24: A18 | B24: 0.40416667 | C24: 1303 | D24: =IF(C24="","",VLOOKUP(C24,[1]名單!$A$1:$Z$65536,4,0)) -> 古坑 | E24: =IF(C24="","",VLOOKUP(C24,[1]名單!$A$1:$Z$65536,2,0)) -> 陳純寅 | F24: 1309 | G24: =IF(F24="","",VLOOKUP(F24,[1]名單!$A$1:$Z$65536,4,0)) -> 重興 | H24: =IF(F24="","",VLOOKUP(F24,[1]名單!$A$1:$Z$65536,2,0)) -> 林本源 | I24: 1315 | J24: =IF(I24="","",VLOOKUP(I24,[1]名單!$A$1:$Z$65536,4,0)) -> 大東 | K24: =IF(I24="","",VLOOKUP(I24,[1]名單!$A$1:$Z$65536,2,0)) -> 李柏寰 | L24: 1323 | M24: =IF(L24="","",VLOOKUP(L24,[1]名單!$A$1:$Z$65536,4,0)) -> 僑真 | N24: =IF(L24="","",VLOOKUP(L24,[1]名單!$A$1:$Z$65536,2,0)) -> 黃天亮
A25: A19 | B25: 0.40833333 | C25: 1304 | D25: =IF(C25="","",VLOOKUP(C25,[1]名單!$A$1:$Z$65536,4,0)) -> 古坑 | E25: =IF(C25="","",VLOOKUP(C25,[1]名單!$A$1:$Z$65536,2,0)) -> 韓育仁 | F25: 1310 | G25: =IF(F25="","",VLOOKUP(F25,[1]名單!$A$1:$Z$65536,4,0)) -> 重興 | H25: =IF(F25="","",VLOOKUP(F25,[1]名單!$A$1:$Z$65536,2,0)) -> 林汶峰 | I25: 1316 | J25: =IF(I25="","",VLOOKUP(I25,[1]名單!$A$1:$Z$65536,4,0)) -> 大東 | K25: =IF(I25="","",VLOOKUP(I25,[1]名單!$A$1:$Z$65536,2,0)) -> 李顯宏 | L25: 1324 | M25: =IF(L25="","",VLOOKUP(L25,[1]名單!$A$1:$Z$65536,4,0)) -> 僑真 | N25: =IF(L25="","",VLOOKUP(L25,[1]名單!$A$1:$Z$65536,2,0)) -> 黃致傑
A26: A20 | B26: 0.4125 | C26: 1305 | D26: =IF(C26="","",VLOOKUP(C26,[1]名單!$A$1:$Z$65536,4,0)) -> 古坑 | E26: =IF(C26="","",VLOOKUP(C26,[1]名單!$A$1:$Z$65536,2,0)) -> 高國祥 | F26: 1311 | G26: =IF(F26="","",VLOOKUP(F26,[1]名單!$A$1:$Z$65536,4,0)) -> 重興 | H26: =IF(F26="","",VLOOKUP(F26,[1]名單!$A$1:$Z$65536,2,0)) -> 黃文志 | I26: 1317 | J26: =IF(I26="","",VLOOKUP(I26,[1]名單!$A$1:$Z$65536,4,0)) -> 大東 | K26: =IF(I26="","",VLOOKUP(I26,[1]名單!$A$1:$Z$65536,2,0)) -> 郭興昌 | L26: 1319 | M26: =IF(L26="","",VLOOKUP(L26,[1]名單!$A$1:$Z$65536,4,0)) -> 僑真 | N26: =IF(L26="","",VLOOKUP(L26,[1]名單!$A$1:$Z$65536,2,0)) -> 黃銘輝
A27: A21 | B27: 0.41666667 | C27: 1306 | D27: =IF(C27="","",VLOOKUP(C27,[1]名單!$A$1:$Z$65536,4,0)) -> 古坑 | E27: =IF(C27="","",VLOOKUP(C27,[1]名單!$A$1:$Z$65536,2,0)) -> 黃淑滿 | F27: 1328 | G27: =IF(F27="","",VLOOKUP(F27,[1]名單!$A$1:$Z$65536,4,0)) -> 中和 | H27: =IF(F27="","",VLOOKUP(F27,[1]名單!$A$1:$Z$65536,2,0)) -> 王晴琥 | I27: 1318 | J27: =IF(I27="","",VLOOKUP(I27,[1]名單!$A$1:$Z$65536,4,0)) -> 大東 | K27: =IF(I27="","",VLOOKUP(I27,[1]名單!$A$1:$Z$65536,2,0)) -> 鐘長振 | L27: 1329 | M27: =IF(L27="","",VLOOKUP(L27,[1]名單!$A$1:$Z$65536,4,0)) -> 中和 | N27: =IF(L27="","",VLOOKUP(L27,[1]名單!$A$1:$Z$65536,2,0)) -> 蔡志明
A28: A22 | B28: 0.42083333 | C28: 1325 | D28: =IF(C28="","",VLOOKUP(C28,[1]名單!$A$1:$Z$65536,4,0)) -> 明倫 | E28: =IF(C28="","",VLOOKUP(C28,[1]名單!$A$1:$Z$65536,2,0)) -> 蔡世宏 | F28: 1312 | G28: =IF(F28="","",VLOOKUP(F28,[1]名單!$A$1:$Z$65536,4,0)) -> 重興 | H28: =IF(F28="","",VLOOKUP(F28,[1]名單!$A$1:$Z$65536,2,0)) -> 黃建忠 | I28: 1332 | J28: =IF(L28="","",VLOOKUP(L28,[1]名單!$A$1:$Z$65536,4,0)) -> 僑真 | K28: =IF(L28="","",VLOOKUP(L28,[1]名單!$A$1:$Z$65536,2,0)) -> 劉威男 | L28: 1320
A29: A23 | B29: 0.425 | C29: 1326 | D29: =IF(C29="","",VLOOKUP(C29,[1]名單!$A$1:$Z$65536,4,0)) -> 中和 | E29: =IF(C29="","",VLOOKUP(C29,[1]名單!$A$1:$Z$65536,2,0)) -> 吳昌達 | F29: 1335 | G29: =IF(F29="","",VLOOKUP(F29,[1]名單!$A$1:$Z$65536,4,0)) -> 埤腳 | H29: =IF(F29="","",VLOOKUP(F29,[1]名單!$A$1:$Z$65536,2,0)) -> 王宏洲 | I29: 1333 | J29: =IF(I29="","",VLOOKUP(I29,[1]名單!$A$1:$Z$65536,4,0)) -> 林中 | K29: =IF(I29="","",VLOOKUP(I29,[1]名單!$A$1:$Z$65536,2,0)) -> 陳永錚 | L29: 1330 | M29: =IF(L29="","",VLOOKUP(L29,[1]名單!$A$1:$Z$65536,4,0)) -> 中和 | N29: =IF(L29="","",VLOOKUP(L29,[1]名單!$A$1:$Z$65536,2,0)) -> 陳茂雄
A30: A24 | B30: 0.42916667 | C30: 1327 | D30: =IF(C30="","",VLOOKUP(C30,[1]名單!$A$1:$Z$65536,4,0)) -> 中和 | E30: =IF(C30="","",VLOOKUP(C30,[1]名單!$A$1:$Z$65536,2,0)) -> 李聰輝 | F30: 1336 | G30: =IF(F30="","",VLOOKUP(F30,[1]名單!$A$1:$Z$65536,4,0)) -> 埤腳 | H30: =IF(F30="","",VLOOKUP(F30,[1]名單!$A$1:$Z$65536,2,0)) -> 陳大偉 | I30: 1331 | J30: =IF(I30="","",VLOOKUP(I30,[1]名單!$A$1:$Z$65536,4,0)) -> 溝壩 | K30: =IF(I30="","",VLOOKUP(I30,[1]名單!$A$1:$Z$65536,2,0)) -> 沈耿宏 | L30: 1337 | M30: =IF(L30="","",VLOOKUP(L30,[1]名單!$A$1:$Z$65536,4,0)) -> 宏崙 | N30: =IF(L30="","",VLOOKUP(L30,[1]名單!$A$1:$Z$65536,2,0)) -> 陳亮喨
A31: 4 | B31: 組別 | D31: =VLOOKUP(A31,[1]組別!$A$1:$AK$65536,2,0) -> 社會女子組 | P31: 裁判
A32: A25 | B32: 0.43333333 | C32: 5201 | D32: =IF(C32="","",VLOOKUP(C32,[1]名單!$A$1:$Z$65536,4,0)) -> 義峰 | E32: =IF(C32="","",VLOOKUP(C32,[1]名單!$A$1:$Z$65536,2,0)) -> 陳怡臻 | F32: 5207 | G32: =IF(F32="","",VLOOKUP(F32,[1]名單!$A$1:$Z$65536,4,0)) -> 林內 | H32: =IF(F32="","",VLOOKUP(F32,[1]名單!$A$1:$Z$65536,2,0)) -> 李慧珍 | I32: 5213 | J32: =IF(I32="","",VLOOKUP(I32,[1]名單!$A$1:$Z$65536,4,0)) -> 馬光 | K32: =IF(I32="","",VLOOKUP(I32,[1]名單!$A$1:$Z$65536,2,0)) -> 顏雅華 | L32: 5211 | M32: =IF(L32="","",VLOOKUP(L32,[1]名單!$A$1:$Z$65536,4,0)) -> 林內 | N32: =IF(L32="","",VLOOKUP(L32,[1]名單!$A$1:$Z$65536,2,0)) -> 許月惠
A33: A26 | B33: 0.4375 | C33: 5202 | D33: =IF(C33="","",VLOOKUP(C33,[1]名單!$A$1:$Z$65536,4,0)) -> 義峰 | E33: =IF(C33="","",VLOOKUP(C33,[1]名單!$A$1:$Z$65536,2,0)) -> 林玉雯 | F33: 5208 | G33: =IF(F33="","",VLOOKUP(F33,[1]名單!$A$1:$Z$65536,4,0)) -> 林內 | H33: =IF(F33="","",VLOOKUP(F33,[1]名單!$A$1:$Z$65536,2,0)) -> 蔡麗娟 | I33: 5214 | J33: =IF(I33="","",VLOOKUP(I33,[1]名單!$A$1:$Z$65536,4,0)) -> 馬光 | K33: =IF(I33="","",VLOOKUP(I33,[1]名單!$A$1:$Z$65536,2,0)) -> 謝月英 | L33: 5205 | M33: =IF(L33="","",VLOOKUP(L33,[1]名單!$A$1:$Z$65536,4,0)) -> 義峰 | N33: =IF(L33="","",VLOOKUP(L33,[1]名單!$A$1:$Z$65536,2,0)) -> 吳秋霞
A34: A27 | B34: 0.44166667 | C34: 5203 | D34: =IF(C34="","",VLOOKUP(C34,[1]名單!$A$1:$Z$65536,4,0)) -> 義峰 | E34: =IF(C34="","",VLOOKUP(C34,[1]名單!$A$1:$Z$65536,2,0)) -> 陳美菱 | F34: 5209 | G34: =IF(F34="","",VLOOKUP(F34,[1]名單!$A$1:$Z$65536,4,0)) -> 林內 | H34: =IF(F34="","",VLOOKUP(F34,[1]名單!$A$1:$Z$65536,2,0)) -> 丁雪娟 | I34: 5215 | J34: =IF(I34="","",VLOOKUP(I34,[1]名單!$A$1:$Z$65536,4,0)) -> 馬光 | K34: =IF(I34="","",VLOOKUP(I34,[1]名單!$A$1:$Z$65536,2,0)) -> 張三美 | M34: =IF(L34="","",VLOOKUP(L34,[1]名單!$A$1:$Z$65536,4,0)) | N34: =IF(L34="","",VLOOKUP(L34,[1]名單!$A$1:$Z$65536,2,0))
A35: A28 | B35: 0.44583333 | C35: 5204 | D35: =IF(C35="","",VLOOKUP(C35,[1]名單!$A$1:$Z$65536,4,0)) -> 義峰 | E35: =IF(C35="","",VLOOKUP(C35,[1]名單!$A$1:$Z$65536,2,0)) -> 陳淑玉 | F35: 5210 | G35: =IF(F35="","",VLOOKUP(F35,[1]名單!$A$1:$Z$65536,4,0)) -> 林內 | H35: =IF(F35="","",VLOOKUP(F35,[1]名單!$A$1:$Z$65536,2,0)) -> 張美慧 | I35: 5212 | J35: =IF(I35="","",VLOOKUP(I35,[1]名單!$A$1:$Z$65536,4,0)) -> 林內 | K35: =IF(I35="","",VLOOKUP(I35,[1]名單!$A$1:$Z$65536,2,0)) -> 吳淑華 | M35: =IF(L35="","",VLOOKUP(L35,[1]名單!$A$1:$Z$65536,4,0)) | N35: =IF(L35="","",VLOOKUP(L35,[1]名單!$A$1:$Z$65536,2,0))
A36: A29 | B36: 0.45 | C36: 5217 | D36: =IF(C36="","",VLOOKUP(C36,[1]名單!$A$1:$Z$65536,4,0)) -> 馬光 | E36: =IF(C36="","",VLOOKUP(C36,[1]名單!$A$1:$Z$65536,2,0)) -> 謝寶儀 | F36: 5206 | G36: =IF(F36="","",VLOOKUP(F36,[1]名單!$A$1:$Z$65536,4,0)) -> 義峰 | H36: =IF(F36="","",VLOOKUP(F36,[1]名單!$A$1:$Z$65536,2,0)) -> 毛玲珍 | I36: 5216 | J36: =IF(I36="","",VLOOKUP(I36,[1]名單!$A$1:$Z$65536,4,0)) -> 馬光 | K36: =IF(I36="","",VLOOKUP(I36,[1]名單!$A$1:$Z$65536,2,0)) -> 陳佳琪 | M36: =IF(L36="","",VLOOKUP(L36,[1]名單!$A$1:$Z$65536,4,0)) | N36: =IF(L36="","",VLOOKUP(L36,[1]名單!$A$1:$Z$65536,2,0))
B37: 個人決賽 | P37: 裁判
A38: A30 | B38: 0.5625 | C38: 7019 | D38: =VLOOKUP(C38,[1]組別!$B$1:$AK$65536,2,0) -> 社男12 | F38: 7020 | G38: =VLOOKUP(F38,[1]組別!$B$1:$AK$65536,2,0) -> 社男11 | I38: 7021 | J38: =VLOOKUP(I38,[1]組別!$B$1:$AK$65536,2,0) -> 社男10 | L38: 7022 | M38: =VLOOKUP(L38,[1]組別!$B$1:$AK$65536,2,0) -> 社男9
A39: A31 | B39: 0.56666667 | C39: 7023 | D39: =VLOOKUP(C39,[1]組別!$B$1:$AK$65536,2,0) -> 社男8 | F39: 7024 | G39: =VLOOKUP(F39,[1]組別!$B$1:$AK$65536,2,0) -> 社男7 | I39: 7025 | J39: =VLOOKUP(I39,[1]組別!$B$1:$AK$65536,2,0) -> 社男6 | L39: 7026 | M39: =VLOOKUP(L39,[1]組別!$B$1:$AK$65536,2,0) -> 社男5
A40: A32 | B40: 0.57083333 | C40: 7027 | D40: =VLOOKUP(C40,[1]組別!$B$1:$AK$65536,2,0) -> 社男4 | F40: 7028 | G40: =VLOOKUP(F40,[1]組別!$B$1:$AK$65536,2,0) -> 社男3 | I40: 7029 | J40: =VLOOKUP(I40,[1]組別!$B$1:$AK$65536,2,0) -> 社男2 | L40: 7030 | M40: =VLOOKUP(L40,[1]組別!$B$1:$AK$65536,2,0) -> 社男1
A41: A33 | B41: 0.575 | C41: 7004 | D41: =VLOOKUP(C41,[1]組別!$B$1:$AK$65536,2,0) -> 長青男12 | F41: 7005 | G41: =VLOOKUP(F41,[1]組別!$B$1:$AK$65536,2,0) -> 長青男11 | I41: 7006 | J41: =VLOOKUP(I41,[1]組別!$B$1:$AK$65536,2,0) -> 長青男10 | L41: 7007 | M41: =VLOOKUP(L41,[1]組別!$B$1:$AK$65536,2,0) -> 長青男9
A42: A34 | B42: 0.57916667 | C42: 7008 | D42: =VLOOKUP(C42,[1]組別!$B$1:$AK$65536,2,0) -> 長青男8 | F42: 7009 | G42: =VLOOKUP(F42,[1]組別!$B$1:$AK$65536,2,0) -> 長青男7 | I42: 7010 | J42: =VLOOKUP(I42,[1]組別!$B$1:$AK$65536,2,0) -> 長青男6 | L42: 7011 | M42: =VLOOKUP(L42,[1]組別!$B$1:$AK$65536,2,0) -> 長青男5
A43: A35 | B43: 0.58333333 | C43: 7012 | D43: =VLOOKUP(C43,[1]組別!$B$1:$AK$65536,2,0) -> 長青男4 | F43: 7013 | G43: =VLOOKUP(F43,[1]組別!$B$1:$AK$65536,2,0) -> 長青男3 | I43: 7014 | J43: =VLOOKUP(I43,[1]組別!$B$1:$AK$65536,2,0) -> 長青男2 | L43: 7015 | M43: =VLOOKUP(L43,[1]組別!$B$1:$AK$65536,2,0) -> 長青男1
A44: A36 | B44: 0.5875 | C44: 7034 | D44: =VLOOKUP(C44,[1]組別!$B$1:$AK$65536,2,0) -> 教男12 | F44: 7035 | G44: =VLOOKUP(F44,[1]組別!$B$1:$AK$65536,2,0) -> 教男11 | I44: 7036 | J44: =VLOOKUP(I44,[1]組別!$B$1:$AK$65536,2,0) -> 教男10 | L44: 7037 | M44: =VLOOKUP(L44,[1]組別!$B$1:$AK$65536,2,0) -> 教男9
A45: A37 | B45: 0.59166667 | C45: 7038 | D45: =VLOOKUP(C45,[1]組別!$B$1:$AK$65536,2,0) -> 教男8 | F45: 7039 | G45: =VLOOKUP(F45,[1]組別!$B$1:$AK$65536,2,0) -> 教男7 | I45: 7040 | J45: =VLOOKUP(I45,[1]組別!$B$1:$AK$65536,2,0) -> 教男6 | L45: 7041 | M45: =VLOOKUP(L45,[1]組別!$B$1:$AK$65536,2,0) -> 教男5
A46: A38 | B46: 0.59583333 | C46: 7042 | D46: =VLOOKUP(C46,[1]組別!$B$1:$AK$65536,2,0) -> 教男4 | F46: 7043 | G46: =VLOOKUP(F46,[1]組別!$B$1:$AK$65536,2,0) -> 教男3 | I46: 7044 | J46: =VLOOKUP(I46,[1]組別!$B$1:$AK$65536,2,0) -> 教男2 | L46: 7045 | M46: =VLOOKUP(L46,[1]組別!$B$1:$AK$65536,2,0) -> 教男1
A55: =A1 -> 105年秋季縣長盃木球賽賽程表
A56: 日 期 | C56: 105年4月16日（星期六）B場地
A57: 場次 | B57: 時間 | C57: 選 手 名 單
A58: 4 | B58: 組別 | D58: =VLOOKUP(A58,[1]組別!$A$1:$AK$65536,2,0) -> 社會女子組 | P58: 裁判
A59: B1 | B59: 0.33333333 | C59: 5201 | D59: =IF(C59="","",VLOOKUP(C59,[1]名單!$A$1:$Z$65536,4,0)) -> 義峰 | E59: =IF(C59="","",VLOOKUP(C59,[1]名單!$A$1:$Z$65536,2,0)) -> 陳怡臻 | F59: 5207 | G59: =IF(F59="","",VLOOKUP(F59,[1]名單!$A$1:$Z$65536,4,0)) -> 林內 | H59: =IF(F59="","",VLOOKUP(F59,[1]名單!$A$1:$Z$65536,2,0)) -> 李慧珍 | I59: 5213 | J59: =IF(I59="","",VLOOKUP(I59,[1]名單!$A$1:$Z$65536,4,0)) -> 馬光 | K59: =IF(I59="","",VLOOKUP(I59,[1]名單!$A$1:$Z$65536,2,0)) -> 顏雅華 | L59: 5211 | M59: =IF(L59="","",VLOOKUP(L59,[1]名單!$A$1:$Z$65536,4,0)) -> 林內 | N59: =IF(L59="","",VLOOKUP(L59,[1]名單!$A$1:$Z$65536,2,0)) -> 許月惠
A60: B2 | B60: 0.3375 | C60: 5202 | D60: =IF(C60="","",VLOOKUP(C60,[1]名單!$A$1:$Z$65536,4,0)) -> 義峰 | E60: =IF(C60="","",VLOOKUP(C60,[1]名單!$A$1:$Z$65536,2,0)) -> 林玉雯 | F60: 5208 | G60: =IF(F60="","",VLOOKUP(F60,[1]名單!$A$1:$Z$65536,4,0)) -> 林內 | H60: =IF(F60="","",VLOOKUP(F60,[1]名單!$A$1:$Z$65536,2,0)) -> 蔡麗娟 | I60: 5214 | J60: =IF(I60="","",VLOOKUP(I60,[1]名單!$A$1:$Z$65536,4,0)) -> 馬光 | K60: =IF(I60="","",VLOOKUP(I60,[1]名單!$A$1:$Z$65536,2,0)) -> 謝月英 | L60: 5205 | M60: =IF(L60="","",VLOOKUP(L60,[1]名單!$A$1:$Z$65536,4,0)) -> 義峰 | N60: =IF(L60="","",VLOOKUP(L60,[1]名單!$A$1:$Z$65536,2,0)) -> 吳秋霞
A61: B3 | B61: 0.34166667 | C61: 5203 | D61: =IF(C61="","",VLOOKUP(C61,[1]名單!$A$1:$Z$65536,4,0)) -> 義峰 | E61: =IF(C61="","",VLOOKUP(C61,[1]名單!$A$1:$Z$65536,2,0)) -> 陳美菱 | F61: 5209 | G61: =IF(F61="","",VLOOKUP(F61,[1]名單!$A$1:$Z$65536,4,0)) -> 林內 | H61: =IF(F61="","",VLOOKUP(F61,[1]名單!$A$1:$Z$65536,2,0)) -> 丁雪娟 | I61: 5215 | J61: =IF(I61="","",VLOOKUP(I61,[1]名單!$A$1:$Z$65536,4,0)) -> 馬光 | K61: =IF(I61="","",VLOOKUP(I61,[1]名單!$A$1:$Z$65536,2,0)) -> 張三美 | M61: =IF(L61="","",VLOOKUP(L61,[1]名單!$A$1:$Z$65536,4,0)) | N61: =IF(L61="","",VLOOKUP(L61,[1]名單!$A$1:$Z$65536,2,0))
A62: B4 | B62: 0.34583333 | C62: 5204 | D62: =IF(C62="","",VLOOKUP(C62,[1]名單!$A$1:$Z$65536,4,0)) -> 義峰 | E62: =IF(C62="","",VLOOKUP(C62,[1]名單!$A$1:$Z$65536,2,0)) -> 陳淑玉 | F62: 5210 | G62: =IF(F62="","",VLOOKUP(F62,[1]名單!$A$1:$Z$65536,4,0)) -> 林內 | H62: =IF(F62="","",VLOOKUP(F62,[1]名單!$A$1:$Z$65536,2,0)) -> 張美慧 | I62: 5212 | J62: =IF(I62="","",VLOOKUP(I62,[1]名單!$A$1:$Z$65536,4,0)) -> 林內 | K62: =IF(I62="","",VLOOKUP(I62,[1]名單!$A$1:$Z$65536,2,0)) -> 吳淑華 | M62: =IF(L62="","",VLOOKUP(L62,[1]名單!$A$1:$Z$65536,4,0)) | N62: =IF(L62="","",VLOOKUP(L62,[1]名單!$A$1:$Z$65536,2,0))
A63: B5 | B63: 0.35 | C63: 5217 | D63: =IF(C63="","",VLOOKUP(C63,[1]名單!$A$1:$Z$65536,4,0)) -> 馬光 | E63: =IF(C63="","",VLOOKUP(C63,[1]名單!$A$1:$Z$65536,2,0)) -> 謝寶儀 | F63: 5206 | G63: =IF(F63="","",VLOOKUP(F63,[1]名單!$A$1:$Z$65536,4,0)) -> 義峰 | H63: =IF(F63="","",VLOOKUP(F63,[1]名單!$A$1:$Z$65536,2,0)) -> 毛玲珍 | I63: 5216 | J63: =IF(I63="","",VLOOKUP(I63,[1]名單!$A$1:$Z$65536,4,0)) -> 馬光 | K63: =IF(I63="","",VLOOKUP(I63,[1]名單!$A$1:$Z$65536,2,0)) -> 陳佳琪 | M63: =IF(L63="","",VLOOKUP(L63,[1]名單!$A$1:$Z$65536,4,0)) | N63: =IF(L63="","",VLOOKUP(L63,[1]名單!$A$1:$Z$65536,2,0))
A64: 2 | B64: 組別 | D64: =VLOOKUP(A64,[1]組別!$A$1:$AK$65536,2,0) -> 長青女組 | P64: 裁判
A65: B6 | B65: 0.35416667 | C65: 5101 | D65: =IF(C65="","",VLOOKUP(C65,[1]名單!$A$1:$Z$65536,4,0)) -> 馬光 | E65: =IF(C65="","",VLOOKUP(C65,[1]名單!$A$1:$Z$65536,2,0)) -> 張莊秀梅 | F65: 5104 | G65: =IF(F65="","",VLOOKUP(F65,[1]名單!$A$1:$Z$65536,4,0)) -> 馬光 | H65: =IF(F65="","",VLOOKUP(F65,[1]名單!$A$1:$Z$65536,2,0)) -> 張郭丹 | I65: 5107 | J65: =IF(I65="","",VLOOKUP(I65,[1]名單!$A$1:$Z$65536,4,0)) -> 西平 | K65: =IF(I65="","",VLOOKUP(I65,[1]名單!$A$1:$Z$65536,2,0)) -> 張馨芳 | L65: 5113 | M65: =IF(L65="","",VLOOKUP(L65,[1]名單!$A$1:$Z$65536,4,0)) -> 大東 | N65: =IF(L65="","",VLOOKUP(L65,[1]名單!$A$1:$Z$65536,2,0)) -> 張珠金
A66: B7 | B66: 0.35833333 | C66: 5102 | D66: =IF(C66="","",VLOOKUP(C66,[1]名單!$A$1:$Z$65536,4,0)) -> 馬光 | E66: =IF(C66="","",VLOOKUP(C66,[1]名單!$A$1:$Z$65536,2,0)) -> 林瑞鶯 | F66: 5105 | G66: =IF(F66="","",VLOOKUP(F66,[1]名單!$A$1:$Z$65536,4,0)) -> 馬光 | H66: =IF(F66="","",VLOOKUP(F66,[1]名單!$A$1:$Z$65536,2,0)) -> 張錦枝 | I66: 5108 | J66: =IF(I66="","",VLOOKUP(I66,[1]名單!$A$1:$Z$65536,4,0)) -> 西平 | K66: =IF(I66="","",VLOOKUP(I66,[1]名單!$A$1:$Z$65536,2,0)) -> 賴月珠 | M66: =IF(L66="","",VLOOKUP(L66,[1]名單!$A$1:$Z$65536,4,0)) | N66: =IF(L66="","",VLOOKUP(L66,[1]名單!$A$1:$Z$65536,2,0))
A67: B8 | B67: 0.3625 | C67: 5103 | D67: =IF(C67="","",VLOOKUP(C67,[1]名單!$A$1:$Z$65536,4,0)) -> 馬光 | E67: =IF(C67="","",VLOOKUP(C67,[1]名單!$A$1:$Z$65536,2,0)) -> 蕭張妤珣 | F67: 5109 | G67: =IF(F67="","",VLOOKUP(F67,[1]名單!$A$1:$Z$65536,4,0)) -> 西平 | H67: =IF(F67="","",VLOOKUP(F67,[1]名單!$A$1:$Z$65536,2,0)) -> 歐陽炬慶 | I67: 5110 | J67: =IF(I67="","",VLOOKUP(I67,[1]名單!$A$1:$Z$65536,4,0)) -> 西平 | K67: =IF(I67="","",VLOOKUP(I67,[1]名單!$A$1:$Z$65536,2,0)) -> 張陳桂繪 | M67: =IF(L67="","",VLOOKUP(L67,[1]名單!$A$1:$Z$65536,4,0)) | N67: =IF(L67="","",VLOOKUP(L67,[1]名單!$A$1:$Z$65536,2,0))
A68: 6 | B68: 組別 | D68: =VLOOKUP(A68,[1]組別!$A$1:$AK$65536,2,0) -> 教師女子組 | P68: 裁判
A69: B9 | B69: 0.36666667 | C69: 5301 | D69: =IF(C69="","",VLOOKUP(C69,[1]名單!$A$1:$Z$65536,4,0)) -> 溝壩 | E69: =IF(C69="","",VLOOKUP(C69,[1]名單!$A$1:$Z$65536,2,0)) -> 楊舒淇 | F69: 5320 | G69: =IF(F69="","",VLOOKUP(F69,[1]名單!$A$1:$Z$65536,4,0)) -> 僑真 | H69: =IF(F69="","",VLOOKUP(F69,[1]名單!$A$1:$Z$65536,2,0)) -> 江瓊蓮 | I69: 5313 | J69: =IF(I69="","",VLOOKUP(I69,[1]名單!$A$1:$Z$65536,4,0)) -> 九芎 | K69: =IF(I69="","",VLOOKUP(I69,[1]名單!$A$1:$Z$65536,2,0)) -> 林宜蓁 | L69: 5325 | M69: =IF(L69="","",VLOOKUP(L69,[1]名單!$A$1:$Z$65536,4,0)) -> 信義 | N69: =IF(L69="","",VLOOKUP(L69,[1]名單!$A$1:$Z$65536,2,0)) -> 呂佳諭
A70: B10 | B70: 0.37083333 | C70: 5302 | D70: =IF(C70="","",VLOOKUP(C70,[1]名單!$A$1:$Z$65536,4,0)) -> 溝壩 | E70: =IF(C70="","",VLOOKUP(C70,[1]名單!$A$1:$Z$65536,2,0)) -> 翁碧慧 | F70: 5321 | G70: =IF(F70="","",VLOOKUP(F70,[1]名單!$A$1:$Z$65536,4,0)) -> 僑真 | H70: =IF(F70="","",VLOOKUP(F70,[1]名單!$A$1:$Z$65536,2,0)) -> 湯雅惠 | I70: 5314 | J70: =IF(I70="","",VLOOKUP(I70,[1]名單!$A$1:$Z$65536,4,0)) -> 九芎 | K70: =IF(I70="","",VLOOKUP(I70,[1]名單!$A$1:$Z$65536,2,0)) -> 林麗卿 | L70: 5326 | M70: =IF(L70="","",VLOOKUP(L70,[1]名單!$A$1:$Z$65536,4,0)) -> 信義 | N70: =IF(L70="","",VLOOKUP(L70,[1]名單!$A$1:$Z$65536,2,0)) -> 林佳蓉
A71: B11 | B71: 0.375 | C71: 5303 | D71: =IF(C71="","",VLOOKUP(C71,[1]名單!$A$1:$Z$65536,4,0)) -> 溝壩 | E71: =IF(C71="","",VLOOKUP(C71,[1]名單!$A$1:$Z$65536,2,0)) -> 范淑婷 | F71: 5322 | G71: =IF(F71="","",VLOOKUP(F71,[1]名單!$A$1:$Z$65536,4,0)) -> 僑真 | H71: =IF(F71="","",VLOOKUP(F71,[1]名單!$A$1:$Z$65536,2,0)) -> 葉望蘭 | I71: 5315 | J71: =IF(I71="","",VLOOKUP(I71,[1]名單!$A$1:$Z$65536,4,0)) -> 九芎 | K71: =IF(I71="","",VLOOKUP(I71,[1]名單!$A$1:$Z$65536,2,0)) -> 江幸容 | L71: 5327 | M71: =IF(L71="","",VLOOKUP(L71,[1]名單!$A$1:$Z$65536,4,0)) -> 信義 | N71: =IF(L71="","",VLOOKUP(L71,[1]名單!$A$1:$Z$65536,2,0)) -> 郭淑娟
A72: B12 | B72: 0.37916667 | C72: 5310 | D72: =IF(C72="","",VLOOKUP(C72,[1]名單!$A$1:$Z$65536,4,0)) -> 重興 | E72: =IF(C72="","",VLOOKUP(C72,[1]名單!$A$1:$Z$65536,2,0)) -> 籃沛真 | F72: 5323 | G72: =IF(F72="","",VLOOKUP(F72,[1]名單!$A$1:$Z$65536,4,0)) -> 僑真 | H72: =IF(F72="","",VLOOKUP(F72,[1]名單!$A$1:$Z$65536,2,0)) -> 薛亦凡 | I72: 5316 | J72: =IF(I72="","",VLOOKUP(I72,[1]名單!$A$1:$Z$65536,4,0)) -> 九芎 | K72: =IF(I72="","",VLOOKUP(I72,[1]名單!$A$1:$Z$65536,2,0)) -> 沈琪梅 | L72: 5305 | M72: =IF(L72="","",VLOOKUP(L72,[1]名單!$A$1:$Z$65536,4,0)) -> 溝壩 | N72: =IF(L72="","",VLOOKUP(L72,[1]名單!$A$1:$Z$65536,2,0)) -> 陳滿足
A73: B13 | B73: 0.38333333 | C73: 5311 | D73: =IF(C73="","",VLOOKUP(C73,[1]名單!$A$1:$Z$65536,4,0)) -> 重興 | E73: =IF(C73="","",VLOOKUP(C73,[1]名單!$A$1:$Z$65536,2,0)) -> 黃惠文 | F73: 5324 | G73: =IF(F73="","",VLOOKUP(F73,[1]名單!$A$1:$Z$65536,4,0)) -> 僑真 | H73: =IF(F73="","",VLOOKUP(F73,[1]名單!$A$1:$Z$65536,2,0)) -> 黃翠紅 | I73: 5317 | J73: =IF(I73="","",VLOOKUP(I73,[1]名單!$A$1:$Z$65536,4,0)) -> 九芎 | K73: =IF(I73="","",VLOOKUP(I73,[1]名單!$A$1:$Z$65536,2,0)) -> 謝莉文 | L73: 5306 | M73: =IF(L73="","",VLOOKUP(L73,[1]名單!$A$1:$Z$65536,4,0)) -> 溝壩 | N73: =IF(L73="","",VLOOKUP(L73,[1]名單!$A$1:$Z$65536,2,0)) -> 黃小華
A74: B14 | B74: 0.3875 | C74: 5304 | D74: =IF(C74="","",VLOOKUP(C74,[1]名單!$A$1:$Z$65536,4,0)) -> 溝壩 | E74: =IF(C74="","",VLOOKUP(C74,[1]名單!$A$1:$Z$65536,2,0)) -> 鐘美芳 | F74: 5318 | G74: =IF(F74="","",VLOOKUP(F74,[1]名單!$A$1:$Z$65536,4,0)) -> 九芎 | H74: =IF(F74="","",VLOOKUP(F74,[1]名單!$A$1:$Z$65536,2,0)) -> 陳靜淑 | I74: 5319 | J74: =IF(I74="","",VLOOKUP(I74,[1]名單!$A$1:$Z$65536,4,0)) -> 僑真 | K74: =IF(I74="","",VLOOKUP(I74,[1]名單!$A$1:$Z$65536,2,0)) -> 彭淑琬 | L74: 5328 | M74: =IF(L74="","",VLOOKUP(L74,[1]名單!$A$1:$Z$65536,4,0)) -> 信義 | N74: =IF(L74="","",VLOOKUP(L74,[1]名單!$A$1:$Z$65536,2,0)) -> 陳佳琪
A75: B15 | B75: 0.39166667 | C75: 5312 | D75: =IF(C75="","",VLOOKUP(C75,[1]名單!$A$1:$Z$65536,4,0)) -> 重興 | E75: =IF(C75="","",VLOOKUP(C75,[1]名單!$A$1:$Z$65536,2,0)) -> 黃麗蘭 | F75: 5331 | G75: =IF(F75="","",VLOOKUP(F75,[1]名單!$A$1:$Z$65536,4,0)) -> 民生 | H75: =IF(F75="","",VLOOKUP(F75,[1]名單!$A$1:$Z$65536,2,0)) -> 陳月蘭 | I75: 5308 | J75: =IF(I75="","",VLOOKUP(I75,[1]名單!$A$1:$Z$65536,4,0)) -> 重興 | K75: =IF(I75="","",VLOOKUP(I75,[1]名單!$A$1:$Z$65536,2,0)) -> 張嘉麟 | L75: 5329 | M75: =IF(L75="","",VLOOKUP(L75,[1]名單!$A$1:$Z$65536,4,0)) -> 信義 | N75: =IF(L75="","",VLOOKUP(L75,[1]名單!$A$1:$Z$65536,2,0)) -> 陳靜儀
A76: B16 | B76: 0.39583333 | C76: 5307 | D76: =IF(C76="","",VLOOKUP(C76,[1]名單!$A$1:$Z$65536,4,0)) -> 重興 | E76: =IF(C76="","",VLOOKUP(C76,[1]名單!$A$1:$Z$65536,2,0)) -> 張嘉容 | F76: 5330 | G76: =IF(F76="","",VLOOKUP(F76,[1]名單!$A$1:$Z$65536,4,0)) -> 信義 | H76: =IF(F76="","",VLOOKUP(F76,[1]名單!$A$1:$Z$65536,2,0)) -> 魏美粧 | I76: 5309 | J76: =IF(I76="","",VLOOKUP(I76,[1]名單!$A$1:$Z$65536,4,0)) -> 重興 | K76: =IF(I76="","",VLOOKUP(I76,[1]名單!$A$1:$Z$65536,2,0)) -> 張嫈敏 | M76: =IF(L76="","",VLOOKUP(L76,[1]名單!$A$1:$Z$65536,4,0)) | N76: =IF(L76="","",VLOOKUP(L76,[1]名單!$A$1:$Z$65536,2,0))
A77: 3 | B77: 組別 | D77: =VLOOKUP(A77,[1]組別!$A$1:$AK$65536,2,0) -> 社會男子組 | P77: 裁判
A78: B17 | B78: 0.4 | C78: 1201 | D78: =IF(C78="","",VLOOKUP(C78,[1]名單!$A$1:$Z$65536,4,0)) -> 重興 | E78: =IF(C78="","",VLOOKUP(C78,[1]名單!$A$1:$Z$65536,2,0)) -> 施錫勳 | F78: 1231 | G78: =IF(F78="","",VLOOKUP(F78,[1]名單!$A$1:$Z$65536,4,0)) -> 義賢 | H78: =IF(F78="","",VLOOKUP(F78,[1]名單!$A$1:$Z$65536,2,0)) -> 林俊吉 | I78: 1225 | J78: =IF(I78="","",VLOOKUP(I78,[1]名單!$A$1:$Z$65536,4,0)) -> 西平 | K78: =IF(I78="","",VLOOKUP(I78,[1]名單!$A$1:$Z$65536,2,0)) -> 謝培田 | L78: 1212 | M78: =IF(L78="","",VLOOKUP(L78,[1]名單!$A$1:$Z$65536,4,0)) -> 重興 | N78: =IF(L78="","",VLOOKUP(L78,[1]名單!$A$1:$Z$65536,2,0)) -> 廖信雄
A79: B18 | B79: 0.40416667 | C79: 1202 | D79: =IF(C79="","",VLOOKUP(C79,[1]名單!$A$1:$Z$65536,4,0)) -> 重興 | E79: =IF(C79="","",VLOOKUP(C79,[1]名單!$A$1:$Z$65536,2,0)) -> 張建成 | F79: 1232 | G79: =IF(F79="","",VLOOKUP(F79,[1]名單!$A$1:$Z$65536,4,0)) -> 義賢 | H79: =IF(F79="","",VLOOKUP(F79,[1]名單!$A$1:$Z$65536,2,0)) -> 蔡健邦 | I79: 1226 | J79: =IF(I79="","",VLOOKUP(I79,[1]名單!$A$1:$Z$65536,4,0)) -> 西平 | K79: =IF(I79="","",VLOOKUP(I79,[1]名單!$A$1:$Z$65536,2,0)) -> 林約三 | L79: 1218 | M79: =IF(L79="","",VLOOKUP(L79,[1]名單!$A$1:$Z$65536,4,0)) -> 義峰 | N79: =IF(L79="","",VLOOKUP(L79,[1]名單!$A$1:$Z$65536,2,0)) -> 彭建睿
A80: B19 | B80: 0.40833333 | C80: 1203 | D80: =IF(C80="","",VLOOKUP(C80,[1]名單!$A$1:$Z$65536,4,0)) -> 重興 | E80: =IF(C80="","",VLOOKUP(C80,[1]名單!$A$1:$Z$65536,2,0)) -> 林如龍 | F80: 1233 | G80: =IF(F80="","",VLOOKUP(F80,[1]名單!$A$1:$Z$65536,4,0)) -> 義賢 | H80: =IF(F80="","",VLOOKUP(F80,[1]名單!$A$1:$Z$65536,2,0)) -> 黃本宗 | I80: 1227 | J80: =IF(I80="","",VLOOKUP(I80,[1]名單!$A$1:$Z$65536,4,0)) -> 西平 | K80: =IF(I80="","",VLOOKUP(I80,[1]名單!$A$1:$Z$65536,2,0)) -> 陳俊烽 | L80: 1222 | M80: =IF(L80="","",VLOOKUP(L80,[1]名單!$A$1:$Z$65536,4,0)) -> 元長 | N80: =IF(L80="","",VLOOKUP(L80,[1]名單!$A$1:$Z$65536,2,0)) -> 李承威
A81: B20 | B81: 0.4125 | C81: 1204 | D81: =IF(C81="","",VLOOKUP(C81,[1]名單!$A$1:$Z$65536,4,0)) -> 重興 | E81: =IF(C81="","",VLOOKUP(C81,[1]名單!$A$1:$Z$65536,2,0)) -> 林學發 | F81: 1234 | G81: =IF(F81="","",VLOOKUP(F81,[1]名單!$A$1:$Z$65536,4,0)) -> 義賢 | H81: =IF(F81="","",VLOOKUP(F81,[1]名單!$A$1:$Z$65536,2,0)) -> 鄭吉成 | I81: 1228 | J81: =IF(I81="","",VLOOKUP(I81,[1]名單!$A$1:$Z$65536,4,0)) -> 西平 | K81: =IF(I81="","",VLOOKUP(I81,[1]名單!$A$1:$Z$65536,2,0)) -> 黃元龍 | L81: 1223 | M81: =IF(L81="","",VLOOKUP(L81,[1]名單!$A$1:$Z$65536,4,0)) -> 元長 | N81: =IF(L81="","",VLOOKUP(L81,[1]名單!$A$1:$Z$65536,2,0)) -> 李政澤
A82: B21 | B82: 0.41666667 | C82: 1205 | D82: =IF(C82="","",VLOOKUP(C82,[1]名單!$A$1:$Z$65536,4,0)) -> 重興 | E82: =IF(C82="","",VLOOKUP(C82,[1]名單!$A$1:$Z$65536,2,0)) -> 張文生 | F82: 1235 | G82: =IF(F82="","",VLOOKUP(F82,[1]名單!$A$1:$Z$65536,4,0)) -> 義賢 | H82: =IF(F82="","",VLOOKUP(F82,[1]名單!$A$1:$Z$65536,2,0)) -> 郭郁含 | I82: 1216 | J82: =IF(I82="","",VLOOKUP(I82,[1]名單!$A$1:$Z$65536,4,0)) -> 義峰 | K82: =IF(I82="","",VLOOKUP(I82,[1]名單!$A$1:$Z$65536,2,0)) -> 陳韋佑 | L82: 1219 | M82: =IF(L82="","",VLOOKUP(L82,[1]名單!$A$1:$Z$65536,4,0)) -> 元長 | N82: =IF(L82="","",VLOOKUP(L82,[1]名單!$A$1:$Z$65536,2,0)) -> 吳冠穎
A83: B22 | B83: 0.42083333 | C83: 1206 | D83: =IF(C83="","",VLOOKUP(C83,[1]名單!$A$1:$Z$65536,4,0)) -> 重興 | E83: =IF(C83="","",VLOOKUP(C83,[1]名單!$A$1:$Z$65536,2,0)) -> 施欽鐘 | F83: 1236 | G83: =IF(F83="","",VLOOKUP(F83,[1]名單!$A$1:$Z$65536,4,0)) -> 義賢 | H83: =IF(F83="","",VLOOKUP(F83,[1]名單!$A$1:$Z$65536,2,0)) -> 廖琦正 | I83: 1211 | J83: =IF(I83="","",VLOOKUP(I83,[1]名單!$A$1:$Z$65536,4,0)) -> 重興 | K83: =IF(I83="","",VLOOKUP(I83,[1]名單!$A$1:$Z$65536,2,0)) -> 蔡孟宏 | L83: 1217 | M83: =IF(L83="","",VLOOKUP(L83,[1]名單!$A$1:$Z$65536,4,0)) -> 義峰 | N83: =IF(L83="","",VLOOKUP(L83,[1]名單!$A$1:$Z$65536,2,0)) -> 邱子倫
A84: B23 | B84: 0.425 | C84: 1207 | D84: =IF(C84="","",VLOOKUP(C84,[1]名單!$A$1:$Z$65536,4,0)) -> 重興 | E84: =IF(C84="","",VLOOKUP(C84,[1]名單!$A$1:$Z$65536,2,0)) -> 鄭詠耀 | F84: 1213 | G84: =IF(F84="","",VLOOKUP(F84,[1]名單!$A$1:$Z$65536,4,0)) -> 義峰 | H84: =IF(F84="","",VLOOKUP(F84,[1]名單!$A$1:$Z$65536,2,0)) -> 張世杰 | I84: 1220 | J84: =IF(I84="","",VLOOKUP(I84,[1]名單!$A$1:$Z$65536,4,0)) -> 元長 | K84: =IF(I84="","",VLOOKUP(I84,[1]名單!$A$1:$Z$65536,2,0)) -> 石智淵 | M84: =IF(L84="","",VLOOKUP(L84,[1]名單!$A$1:$Z$65536,4,0)) | N84: =IF(L84="","",VLOOKUP(L84,[1]名單!$A$1:$Z$65536,2,0))
A85: B24 | B85: 0.42916667 | C85: 1208 | D85: =IF(C85="","",VLOOKUP(C85,[1]名單!$A$1:$Z$65536,4,0)) -> 重興 | E85: =IF(C85="","",VLOOKUP(C85,[1]名單!$A$1:$Z$65536,2,0)) -> 丁哲民 | F85: 1214 | G85: =IF(F85="","",VLOOKUP(F85,[1]名單!$A$1:$Z$65536,4,0)) -> 義峰 | H85: =IF(F85="","",VLOOKUP(F85,[1]名單!$A$1:$Z$65536,2,0)) -> 劉顯誠 | I85: 1221 | J85: =IF(I85="","",VLOOKUP(I85,[1]名單!$A$1:$Z$65536,4,0)) -> 元長 | K85: =IF(I85="","",VLOOKUP(I85,[1]名單!$A$1:$Z$65536,2,0)) -> 楊敬城 | M85: =IF(L85="","",VLOOKUP(L85,[1]名單!$A$1:$Z$65536,4,0)) | N85: =IF(L85="","",VLOOKUP(L85,[1]名單!$A$1:$Z$65536,2,0))
A86: B25 | B86: 0.43333333 | C86: 1209 | D86: =IF(C86="","",VLOOKUP(C86,[1]名單!$A$1:$Z$65536,4,0)) -> 重興 | E86: =IF(C86="","",VLOOKUP(C86,[1]名單!$A$1:$Z$65536,2,0)) -> 張惟翔 | F86: 1215 | G86: =IF(F86="","",VLOOKUP(F86,[1]名單!$A$1:$Z$65536,4,0)) -> 義峰 | H86: =IF(F86="","",VLOOKUP(F86,[1]名單!$A$1:$Z$65536,2,0)) -> 蔡堡樺 | I86: 1210 | J86: =IF(I86="","",VLOOKUP(I86,[1]名單!$A$1:$Z$65536,4,0)) -> 重興 | K86: =IF(I86="","",VLOOKUP(I86,[1]名單!$A$1:$Z$65536,2,0)) -> 劉炘衢 | M86: =IF(L86="","",VLOOKUP(L86,[1]名單!$A$1:$Z$65536,4,0)) | N86: =IF(L86="","",VLOOKUP(L86,[1]名單!$A$1:$Z$65536,2,0))
B87: 個人決賽 | P87: 裁判
A88: B26 | B88: 0.5625 | C88: 8019 | D88: =VLOOKUP(C88,[1]組別!$B$1:$AK$65536,2,0) -> 社女12 | F88: 8020 | G88: =VLOOKUP(F88,[1]組別!$B$1:$AK$65536,2,0) -> 社女11 | I88: 8021 | J88: =VLOOKUP(I88,[1]組別!$B$1:$AK$65536,2,0) -> 社女10 | L88: 8022 | M88: =VLOOKUP(L88,[1]組別!$B$1:$AK$65536,2,0) -> 社女9
A89: B27 | B89: 0.56666667 | C89: 8023 | D89: =VLOOKUP(C89,[1]組別!$B$1:$AK$65536,2,0) -> 社女8 | F89: 8024 | G89: =VLOOKUP(F89,[1]組別!$B$1:$AK$65536,2,0) -> 社女7 | I89: 8025 | J89: =VLOOKUP(I89,[1]組別!$B$1:$AK$65536,2,0) -> 社女6 | L89: 8026 | M89: =VLOOKUP(L89,[1]組別!$B$1:$AK$65536,2,0) -> 社女5
A90: B28 | B90: 0.57083333 | C90: 8027 | D90: =VLOOKUP(C90,[1]組別!$B$1:$AK$65536,2,0) -> 社女4 | F90: 8028 | G90: =VLOOKUP(F90,[1]組別!$B$1:$AK$65536,2,0) -> 社女3 | I90: 8029 | J90: =VLOOKUP(I90,[1]組別!$B$1:$AK$65536,2,0) -> 社女2 | L90: 8030 | M90: =VLOOKUP(L90,[1]組別!$B$1:$AK$65536,2,0) -> 社女1
A91: B29 | B91: 0.575 | C91: 8008 | D91: =VLOOKUP(C91,[1]組別!$B$1:$AK$65536,2,0) -> 長青女8 | F91: 8009 | G91: =VLOOKUP(F91,[1]組別!$B$1:$AK$65536,2,0) -> 長青女7 | I91: 8010 | J91: =VLOOKUP(I91,[1]組別!$B$1:$AK$65536,2,0) -> 長青女6 | L91: 8011 | M91: =VLOOKUP(L91,[1]組別!$B$1:$AK$65536,2,0) -> 長青女5
A92: B30 | B92: 0.57916667 | C92: 8012 | D92: =VLOOKUP(C92,[1]組別!$B$1:$AK$65536,2,0) -> 長青女4 | F92: 8013 | G92: =VLOOKUP(F92,[1]組別!$B$1:$AK$65536,2,0) -> 長青女3 | I92: 8014 | J92: =VLOOKUP(I92,[1]組別!$B$1:$AK$65536,2,0) -> 長青女2 | L92: 8015 | M92: =VLOOKUP(L92,[1]組別!$B$1:$AK$65536,2,0) -> 長青女1
A93: B31 | B93: 0.58333333 | C93: 8034 | D93: =VLOOKUP(C93,[1]組別!$B$1:$AK$65536,2,0) -> 教女12 | F93: 8035 | G93: =VLOOKUP(F93,[1]組別!$B$1:$AK$65536,2,0) -> 教女11 | I93: 8036 | J93: =VLOOKUP(I93,[1]組別!$B$1:$AK$65536,2,0) -> 教女10 | L93: 8037 | M93: =VLOOKUP(L93,[1]組別!$B$1:$AK$65536,2,0) -> 教女9
A94: B32 | B94: 0.5875 | C94: 8038 | D94: =VLOOKUP(C94,[1]組別!$B$1:$AK$65536,2,0) -> 教女8 | F94: 8039 | G94: =VLOOKUP(F94,[1]組別!$B$1:$AK$65536,2,0) -> 教女7 | I94: 8040 | J94: =VLOOKUP(I94,[1]組別!$B$1:$AK$65536,2,0) -> 教女6 | L94: 8041 | M94: =VLOOKUP(L94,[1]組別!$B$1:$AK$65536,2,0) -> 教女5
A95: B33 | B95: 0.59166667 | C95: 8042 | D95: =VLOOKUP(C95,[1]組別!$B$1:$AK$65536,2,0) -> 教女4 | F95: 8043 | G95: =VLOOKUP(F95,[1]組別!$B$1:$AK$65536,2,0) -> 教女3 | I95: 8044 | J95: =VLOOKUP(I95,[1]組別!$B$1:$AK$65536,2,0) -> 教女2 | L95: 8045 | M95: =VLOOKUP(L95,[1]組別!$B$1:$AK$65536,2,0) -> 教女1
